Back to Multiple platform build/check report for BioC 3.14
ABC[D]EFGHIJKLMNOPQRSTUVWXYZ

This page was generated on 2021-11-26 15:04:49 -0500 (Fri, 26 Nov 2021).

BUILD results for DMCHMM on nebbiolo2

To the developers/maintainers of the DMCHMM package:
- Please allow up to 24 hours (and sometimes 48 hours) for your latest push to git@git.bioconductor.org:packages/DMCHMM.git to
reflect on this report. See How and When does the builder pull? When will my changes propagate? here for more information.
- Make sure to use the following settings in order to reproduce any error or warning you see on this page.

raw results

Package 524/2083HostnameOS / ArchINSTALLBUILDCHECKBUILD BIN
DMCHMM 1.16.0  (landing page)
Farhad Shokoohi
Snapshot Date: 2021-11-25 04:15:05 -0500 (Thu, 25 Nov 2021)
git_url: https://git.bioconductor.org/packages/DMCHMM
git_branch: RELEASE_3_14
git_last_commit: efaf39a
git_last_commit_date: 2021-10-26 12:37:33 -0500 (Tue, 26 Oct 2021)
nebbiolo2Linux (Ubuntu 20.04.3 LTS) / x86_64  OK    OK    OK  UNNEEDED, same version is already published
tokay2Windows Server 2012 R2 Standard / x64  OK    OK    WARNINGS    OK  UNNEEDED, same version is already published
machv2macOS 10.14.6 Mojave / x86_64  OK    OK    OK    OK  UNNEEDED, same version is already published

Summary

Package: DMCHMM
Version: 1.16.0
Command: /home/biocbuild/bbs-3.14-bioc/R/bin/R CMD build --keep-empty-dirs --no-resave-data DMCHMM
StartedAt: 2021-11-25 06:26:01 -0500 (Thu, 25 Nov 2021)
EndedAt: 2021-11-25 06:27:07 -0500 (Thu, 25 Nov 2021)
EllapsedTime: 66.2 seconds
RetCode: 0
Status:   OK  
PackageFile: DMCHMM_1.16.0.tar.gz
PackageFileSize: 743.2 KiB

Command output

##############################################################################
##############################################################################
###
### Running command:
###
###   /home/biocbuild/bbs-3.14-bioc/R/bin/R CMD build --keep-empty-dirs --no-resave-data DMCHMM
###
##############################################################################
##############################################################################


* checking for file ‘DMCHMM/DESCRIPTION’ ... OK
* preparing ‘DMCHMM’:
* checking DESCRIPTION meta-information ... OK
* installing the package to build vignettes
* creating vignettes ... OK
* checking for LF line-endings in source and make files and shell scripts
* checking for empty or unneeded directories
Omitted ‘LazyData’ from DESCRIPTION
* building ‘DMCHMM_1.16.0.tar.gz’