![]() | Name | Last modified | Size | Description |
---|---|---|---|---|
![]() | Parent Directory | - | ||
![]() | checksrc-out.txt | 14-Apr-2022 01:07 | 3.2K | |
![]() | buildbin-out.txt | 14-Apr-2022 01:07 | 1.1K | |
![]() | install-out.txt | 14-Apr-2022 01:07 | 1.0K | |
![]() | buildsrc-out.txt | 14-Apr-2022 01:07 | 847 | |
![]() | buildbin-summary.dcf | 14-Apr-2022 01:07 | 515 | |
![]() | checksrc-summary.dcf | 14-Apr-2022 01:07 | 434 | |
![]() | buildsrc-summary.dcf | 14-Apr-2022 01:07 | 420 | |
![]() | install-summary.dcf | 14-Apr-2022 01:07 | 264 | |