Back to Multiple platform build/check report for BioC 3.14
ABC[D]EFGHIJKLMNOPQRSTUVWXYZ

This page was generated on 2021-12-01 17:17:23 -0500 (Wed, 01 Dec 2021).

CHECK results for DExMA on nebbiolo2

To the developers/maintainers of the DExMA package:
- Please allow up to 24 hours (and sometimes 48 hours) for your latest push to git@git.bioconductor.org:packages/DExMA.git to
reflect on this report. See How and When does the builder pull? When will my changes propagate? here for more information.
- Make sure to use the following settings in order to reproduce any error or warning you see on this page.

raw results

Package 499/2083HostnameOS / ArchINSTALLBUILDCHECKBUILD BIN
DExMA 1.2.0  (landing page)
Juan Antonio Villatoro-García
Snapshot Date: 2021-11-30 04:15:05 -0500 (Tue, 30 Nov 2021)
git_url: https://git.bioconductor.org/packages/DExMA
git_branch: RELEASE_3_14
git_last_commit: 96e91c7
git_last_commit_date: 2021-10-26 13:09:30 -0500 (Tue, 26 Oct 2021)
nebbiolo2Linux (Ubuntu 20.04.3 LTS) / x86_64  OK    OK    OK  UNNEEDED, same version is already published
tokay2Windows Server 2012 R2 Standard / x64  OK    OK    OK    OK  UNNEEDED, same version is already published
machv2macOS 10.14.6 Mojave / x86_64  OK    OK    OK    OK  UNNEEDED, same version is already published

Summary

Package: DExMA
Version: 1.2.0
Command: /home/biocbuild/bbs-3.14-bioc/R/bin/R CMD check --install=check:DExMA.install-out.txt --library=/home/biocbuild/bbs-3.14-bioc/R/library --no-vignettes --timings DExMA_1.2.0.tar.gz
StartedAt: 2021-11-30 08:51:28 -0500 (Tue, 30 Nov 2021)
EndedAt: 2021-11-30 08:54:05 -0500 (Tue, 30 Nov 2021)
EllapsedTime: 157.3 seconds
RetCode: 0
Status:   OK  
CheckDir: DExMA.Rcheck
Warnings: 0

Command output

##############################################################################
##############################################################################
###
### Running command:
###
###   /home/biocbuild/bbs-3.14-bioc/R/bin/R CMD check --install=check:DExMA.install-out.txt --library=/home/biocbuild/bbs-3.14-bioc/R/library --no-vignettes --timings DExMA_1.2.0.tar.gz
###
##############################################################################
##############################################################################


* using log directory ‘/home/biocbuild/bbs-3.14-bioc/meat/DExMA.Rcheck’
* using R version 4.1.2 (2021-11-01)
* using platform: x86_64-pc-linux-gnu (64-bit)
* using session charset: UTF-8
* using option ‘--no-vignettes’
* checking for file ‘DExMA/DESCRIPTION’ ... OK
* checking extension type ... Package
* this is package ‘DExMA’ version ‘1.2.0’
* package encoding: UTF-8
* checking package namespace information ... OK
* checking package dependencies ... OK
* checking if this is a source package ... OK
* checking if there is a namespace ... OK
* checking for hidden files and directories ... OK
* checking for portable file names ... OK
* checking for sufficient/correct file permissions ... OK
* checking whether package ‘DExMA’ can be installed ... OK
* checking installed package size ... OK
* checking package directory ... OK
* checking ‘build’ directory ... OK
* checking DESCRIPTION meta-information ... OK
* checking top-level files ... OK
* checking for left-over files ... OK
* checking index information ... OK
* checking package subdirectories ... OK
* checking R files for non-ASCII characters ... OK
* checking R files for syntax errors ... OK
* checking whether the package can be loaded ... OK
* checking whether the package can be loaded with stated dependencies ... OK
* checking whether the package can be unloaded cleanly ... OK
* checking whether the namespace can be loaded with stated dependencies ... OK
* checking whether the namespace can be unloaded cleanly ... OK
* checking dependencies in R code ... OK
* checking S3 generic/method consistency ... OK
* checking replacement functions ... OK
* checking foreign function calls ... OK
* checking R code for possible problems ... OK
* checking Rd files ... OK
* checking Rd metadata ... OK
* checking Rd cross-references ... OK
* checking for missing documentation entries ... OK
* checking for code/documentation mismatches ... OK
* checking Rd \usage sections ... OK
* checking Rd contents ... OK
* checking for unstated dependencies in examples ... OK
* checking files in ‘vignettes’ ... OK
* checking examples ... OK
Examples with CPU (user + system) or elapsed time > 5s
           user system elapsed
allSameID 6.165  0.379   6.558
* checking for unstated dependencies in ‘tests’ ... OK
* checking tests ...
  Running ‘runTests.R’
 OK
* checking for unstated dependencies in vignettes ... OK
* checking package vignettes in ‘inst/doc’ ... OK
* checking running R code from vignettes ... SKIPPED
* checking re-building of vignette outputs ... SKIPPED
* checking PDF version of manual ... OK
* DONE

Status: OK


Installation output

DExMA.Rcheck/00install.out

##############################################################################
##############################################################################
###
### Running command:
###
###   /home/biocbuild/bbs-3.14-bioc/R/bin/R CMD INSTALL DExMA
###
##############################################################################
##############################################################################


* installing to library ‘/home/biocbuild/bbs-3.14-bioc/R/library’
* installing *source* package ‘DExMA’ ...
** using staged installation
** R
** inst
** byte-compile and prepare package for lazy loading
** help
*** installing help indices
** building package indices
** installing vignettes
** testing if installed package can be loaded from temporary location
** testing if installed package can be loaded from final location
** testing if installed package keeps a record of temporary installation path
* DONE (DExMA)

Tests output

DExMA.Rcheck/tests/runTests.Rout


R version 4.1.2 (2021-11-01) -- "Bird Hippie"
Copyright (C) 2021 The R Foundation for Statistical Computing
Platform: x86_64-pc-linux-gnu (64-bit)

R is free software and comes with ABSOLUTELY NO WARRANTY.
You are welcome to redistribute it under certain conditions.
Type 'license()' or 'licence()' for distribution details.

R is a collaborative project with many contributors.
Type 'contributors()' for more information and
'citation()' on how to cite R or R packages in publications.

Type 'demo()' for some demos, 'help()' for on-line help, or
'help.start()' for an HTML browser interface to help.
Type 'q()' to quit R.

> BiocGenerics:::testPackage("DExMA")
Setting options('download.file.method.GEOquery'='auto')
Setting options('GEOquery.inmemory.gpl'=FALSE)


RUNIT TEST PROTOCOL -- Tue Nov 30 08:54:02 2021 
*********************************************** 
Number of test functions: 0 
Number of errors: 0 
Number of failures: 0 

 
1 Test Suite : 
DExMA RUnit Tests - 0 test functions, 0 errors, 0 failures
Number of test functions: 0 
Number of errors: 0 
Number of failures: 0 
> 
> proc.time()
   user  system elapsed 
  6.731   0.328   7.045 

Example timings

DExMA.Rcheck/DExMA-Ex.timings

nameusersystemelapsed
allSameID6.1650.3796.558
batchRemove0.0810.0080.089
calculateES0.0120.0000.013
createObjectMA0.0110.0080.019
dataLog0.0110.0040.015
downloadGEOData000
elementObjectMA0.0090.0000.010
heterogeneityTest0.0240.0000.024
makeHeatmap0.0770.0000.077
metaAnalysisDE0.0180.0000.017
pvalueIndAnalysis0.0210.0120.033
seeCov0.0480.0080.056