Back to Multiple platform build/check report for BioC 3.14
ABC[D]EFGHIJKLMNOPQRSTUVWXYZ

This page was generated on 2021-12-03 13:05:44 -0500 (Fri, 03 Dec 2021).

BUILD results for DEXSeq on machv2

To the developers/maintainers of the DEXSeq package:
- Please allow up to 24 hours (and sometimes 48 hours) for your latest push to git@git.bioconductor.org:packages/DEXSeq.git to
reflect on this report. See How and When does the builder pull? When will my changes propagate? here for more information.
- Make sure to use the following settings in order to reproduce any error or warning you see on this page.

raw results

Package 500/2083HostnameOS / ArchINSTALLBUILDCHECKBUILD BIN
DEXSeq 1.40.0  (landing page)
Alejandro Reyes
Snapshot Date: 2021-12-02 01:55:06 -0500 (Thu, 02 Dec 2021)
git_url: https://git.bioconductor.org/packages/DEXSeq
git_branch: RELEASE_3_14
git_last_commit: 7d2d639
git_last_commit_date: 2021-10-26 11:59:26 -0500 (Tue, 26 Oct 2021)
nebbiolo2Linux (Ubuntu 20.04.3 LTS) / x86_64  OK    OK    OK  UNNEEDED, same version is already published
tokay2Windows Server 2012 R2 Standard / x64  OK    OK    OK    OK  UNNEEDED, same version is already published
machv2macOS 10.14.6 Mojave / x86_64  OK    OK    OK    OK  UNNEEDED, same version is already published

Summary

Package: DEXSeq
Version: 1.40.0
Command: /Library/Frameworks/R.framework/Resources/bin/R CMD build --keep-empty-dirs --no-resave-data DEXSeq
StartedAt: 2021-12-02 06:46:44 -0500 (Thu, 02 Dec 2021)
EndedAt: 2021-12-02 06:49:18 -0500 (Thu, 02 Dec 2021)
EllapsedTime: 154.5 seconds
RetCode: 0
Status:   OK  
PackageFile: DEXSeq_1.40.0.tar.gz
PackageFileSize: 1.52 MiB

Command output

##############################################################################
##############################################################################
###
### Running command:
###
###   /Library/Frameworks/R.framework/Resources/bin/R CMD build --keep-empty-dirs --no-resave-data DEXSeq
###
##############################################################################
##############################################################################


* checking for file ‘DEXSeq/DESCRIPTION’ ... OK
* preparing ‘DEXSeq’:
* checking DESCRIPTION meta-information ... OK
* installing the package to build vignettes
* creating vignettes ... OK
* checking for LF line-endings in source and make files and shell scripts
* checking for empty or unneeded directories
* building ‘DEXSeq_1.40.0.tar.gz’