Back to Multiple platform build/check report for BioC 3.14
ABC[D]EFGHIJKLMNOPQRSTUVWXYZ

This page was generated on 2022-01-21 13:07:38 -0500 (Fri, 21 Jan 2022).

HostnameOSArch (*)R versionInstalled pkgs
nebbiolo2Linux (Ubuntu 20.04.4 LTS)x86_644.1.2 (2021-11-01) -- "Bird Hippie" 4329
tokay2Windows Server 2012 R2 Standardx644.1.2 (2021-11-01) -- "Bird Hippie" 4079
machv2macOS 10.14.6 Mojavex86_644.1.2 (2021-11-01) -- "Bird Hippie" 4140
Click on any hostname to see more info about the system (e.g. compilers)      (*) as reported by 'uname -p', except on Windows and Mac OS X

BUILD BIN results for DEScan2 on machv2


To the developers/maintainers of the DEScan2 package:
- Please allow up to 24 hours (and sometimes 48 hours) for your latest push to git@git.bioconductor.org:packages/DEScan2.git to
reflect on this report. See How and When does the builder pull? When will my changes propagate? here for more information.
- Make sure to use the following settings in order to reproduce any error or warning you see on this page.

raw results

Package 493/2083HostnameOS / ArchINSTALLBUILDCHECKBUILD BIN
DEScan2 1.14.1  (landing page)
Dario Righelli
Snapshot Date: 2022-01-20 01:55:04 -0500 (Thu, 20 Jan 2022)
git_url: https://git.bioconductor.org/packages/DEScan2
git_branch: RELEASE_3_14
git_last_commit: 750fd91
git_last_commit_date: 2021-11-18 04:40:05 -0500 (Thu, 18 Nov 2021)
nebbiolo2Linux (Ubuntu 20.04.4 LTS) / x86_64  OK    OK    OK  UNNEEDED, same version is already published
tokay2Windows Server 2012 R2 Standard / x64  OK    OK    OK    OK  UNNEEDED, same version is already published
machv2macOS 10.14.6 Mojave / x86_64  OK    OK    OK    OK  UNNEEDED, same version is already published

Summary

Package: DEScan2
Version: 1.14.1
Command: rm -rf DEScan2.buildbin-libdir && mkdir DEScan2.buildbin-libdir && /Users/biocbuild/BBS/utils/build-universal.sh DEScan2_1.14.1.tar.gz /Library/Frameworks/R.framework/Resources/bin/R DEScan2.buildbin-libdir
StartedAt: 2022-01-20 20:11:09 -0500 (Thu, 20 Jan 2022)
EndedAt: 2022-01-20 20:12:47 -0500 (Thu, 20 Jan 2022)
EllapsedTime: 97.9 seconds
RetCode: 0
Status:   OK  
PackageFile: DEScan2_1.14.1.tgz
PackageFileSize: 2.601 MiB

Command output

##############################################################################
##############################################################################
###
### Running command:
###
###   rm -rf DEScan2.buildbin-libdir && mkdir DEScan2.buildbin-libdir && /Users/biocbuild/BBS/utils/build-universal.sh DEScan2_1.14.1.tar.gz /Library/Frameworks/R.framework/Resources/bin/R DEScan2.buildbin-libdir
###
##############################################################################
##############################################################################


>>>>>>> 
>>>>>>> INSTALLATION WITH 'R CMD INSTALL --preclean --no-multiarch --library=DEScan2.buildbin-libdir DEScan2_1.14.1.tar.gz'
>>>>>>> 

* installing *source* package ‘DEScan2’ ...
** using staged installation
** libs
clang++ -mmacosx-version-min=10.13 -std=gnu++11 -I"/Library/Frameworks/R.framework/Resources/include" -DNDEBUG  -I'/Library/Frameworks/R.framework/Versions/4.1/Resources/library/Rcpp/include' -I'/Library/Frameworks/R.framework/Versions/4.1/Resources/library/RcppArmadillo/include' -I/usr/local/include   -fPIC  -Wall -g -O2  -c RcppExports.cpp -o RcppExports.o
clang++ -mmacosx-version-min=10.13 -std=gnu++11 -I"/Library/Frameworks/R.framework/Resources/include" -DNDEBUG  -I'/Library/Frameworks/R.framework/Versions/4.1/Resources/library/Rcpp/include' -I'/Library/Frameworks/R.framework/Versions/4.1/Resources/library/RcppArmadillo/include' -I/usr/local/include   -fPIC  -Wall -g -O2  -c rcpparma_max_win.cpp -o rcpparma_max_win.o
clang++ -mmacosx-version-min=10.13 -std=gnu++11 -dynamiclib -Wl,-headerpad_max_install_names -undefined dynamic_lookup -single_module -multiply_defined suppress -L/Library/Frameworks/R.framework/Resources/lib -L/usr/local/lib -o DEScan2.so RcppExports.o rcpparma_max_win.o -L/Library/Frameworks/R.framework/Resources/lib -lRlapack -L/Library/Frameworks/R.framework/Resources/lib -lRblas -L/usr/local/gfortran/lib/gcc/x86_64-apple-darwin18/8.2.0 -L/usr/local/gfortran/lib -lgfortran -lquadmath -lm -F/Library/Frameworks/R.framework/.. -framework R -Wl,-framework -Wl,CoreFoundation
installing to /Users/biocbuild/bbs-3.14-bioc/meat/DEScan2.buildbin-libdir/00LOCK-DEScan2/00new/DEScan2/libs
** R
** inst
** byte-compile and prepare package for lazy loading
** help
*** installing help indices
** building package indices
** installing vignettes
** testing if installed package can be loaded from temporary location
** checking absolute paths in shared objects and dynamic libraries
** testing if installed package can be loaded from final location
** testing if installed package keeps a record of temporary installation path
* DONE (DEScan2)


>>>>>>> 
>>>>>>> FIXING LINKS FOR DEScan2.buildbin-libdir/DEScan2/libs/DEScan2.so
>>>>>>> 

install_name_tool -change "/usr/local/lib/libgcc_s.1.dylib" "/Library/Frameworks/R.framework/Versions/4.1/Resources/lib/libgcc_s.1.dylib" "DEScan2.buildbin-libdir/DEScan2/libs/DEScan2.so"
install_name_tool -change "/usr/local/lib/libgfortran.5.dylib" "/Library/Frameworks/R.framework/Versions/4.1/Resources/lib/libgfortran.5.dylib" "DEScan2.buildbin-libdir/DEScan2/libs/DEScan2.so"
install_name_tool -change "/usr/local/lib/libquadmath.0.dylib" "/Library/Frameworks/R.framework/Versions/4.1/Resources/lib/libquadmath.0.dylib" "DEScan2.buildbin-libdir/DEScan2/libs/DEScan2.so"
install_name_tool -change "/usr/local/gfortran/lib/libgfortran.5.dylib" "/Library/Frameworks/R.framework/Versions/4.1/Resources/lib/libgfortran.5.dylib" "DEScan2.buildbin-libdir/DEScan2/libs/DEScan2.so"
install_name_tool -change "/usr/local/gfortran/lib/libquadmath.0.dylib" "/Library/Frameworks/R.framework/Versions/4.1/Resources/lib/libquadmath.0.dylib" "DEScan2.buildbin-libdir/DEScan2/libs/DEScan2.so"