Back to Multiple platform build/check report for BioC 3.14
ABC[D]EFGHIJKLMNOPQRSTUVWXYZ

This page was generated on 2021-11-26 15:04:49 -0500 (Fri, 26 Nov 2021).

CHECK results for DEGreport on nebbiolo2

To the developers/maintainers of the DEGreport package:
- Please allow up to 24 hours (and sometimes 48 hours) for your latest push to git@git.bioconductor.org:packages/DEGreport.git to
reflect on this report. See How and When does the builder pull? When will my changes propagate? here for more information.
- Make sure to use the following settings in order to reproduce any error or warning you see on this page.

raw results

Package 475/2083HostnameOS / ArchINSTALLBUILDCHECKBUILD BIN
DEGreport 1.30.0  (landing page)
Lorena Pantano
Snapshot Date: 2021-11-25 04:15:05 -0500 (Thu, 25 Nov 2021)
git_url: https://git.bioconductor.org/packages/DEGreport
git_branch: RELEASE_3_14
git_last_commit: a318960
git_last_commit_date: 2021-10-26 12:14:10 -0500 (Tue, 26 Oct 2021)
nebbiolo2Linux (Ubuntu 20.04.3 LTS) / x86_64  OK    OK    OK  UNNEEDED, same version is already published
tokay2Windows Server 2012 R2 Standard / x64  OK    OK    OK    OK  UNNEEDED, same version is already published
machv2macOS 10.14.6 Mojave / x86_64  OK    OK    OK    OK  UNNEEDED, same version is already published

Summary

Package: DEGreport
Version: 1.30.0
Command: /home/biocbuild/bbs-3.14-bioc/R/bin/R CMD check --install=check:DEGreport.install-out.txt --library=/home/biocbuild/bbs-3.14-bioc/R/library --no-vignettes --timings DEGreport_1.30.0.tar.gz
StartedAt: 2021-11-25 09:05:49 -0500 (Thu, 25 Nov 2021)
EndedAt: 2021-11-25 09:12:27 -0500 (Thu, 25 Nov 2021)
EllapsedTime: 397.9 seconds
RetCode: 0
Status:   OK  
CheckDir: DEGreport.Rcheck
Warnings: 0

Command output

##############################################################################
##############################################################################
###
### Running command:
###
###   /home/biocbuild/bbs-3.14-bioc/R/bin/R CMD check --install=check:DEGreport.install-out.txt --library=/home/biocbuild/bbs-3.14-bioc/R/library --no-vignettes --timings DEGreport_1.30.0.tar.gz
###
##############################################################################
##############################################################################


* using log directory ‘/home/biocbuild/bbs-3.14-bioc/meat/DEGreport.Rcheck’
* using R version 4.1.2 (2021-11-01)
* using platform: x86_64-pc-linux-gnu (64-bit)
* using session charset: UTF-8
* using option ‘--no-vignettes’
* checking for file ‘DEGreport/DESCRIPTION’ ... OK
* checking extension type ... Package
* this is package ‘DEGreport’ version ‘1.30.0’
* package encoding: UTF-8
* checking package namespace information ... OK
* checking package dependencies ... OK
* checking if this is a source package ... OK
* checking if there is a namespace ... OK
* checking for hidden files and directories ... NOTE
Found the following hidden files and directories:
  .travis.yml
These were most likely included in error. See section ‘Package
structure’ in the ‘Writing R Extensions’ manual.
* checking for portable file names ... OK
* checking for sufficient/correct file permissions ... OK
* checking whether package ‘DEGreport’ can be installed ... OK
* checking installed package size ... OK
* checking package directory ... OK
* checking ‘build’ directory ... OK
* checking DESCRIPTION meta-information ... OK
* checking top-level files ... OK
* checking for left-over files ... OK
* checking index information ... OK
* checking package subdirectories ... OK
* checking R files for non-ASCII characters ... OK
* checking R files for syntax errors ... OK
* checking whether the package can be loaded ... OK
* checking whether the package can be loaded with stated dependencies ... OK
* checking whether the package can be unloaded cleanly ... OK
* checking whether the namespace can be loaded with stated dependencies ... OK
* checking whether the namespace can be unloaded cleanly ... OK
* checking dependencies in R code ... OK
* checking S3 generic/method consistency ... OK
* checking replacement functions ... OK
* checking foreign function calls ... OK
* checking R code for possible problems ... NOTE
.benckmark_cutoff: no visible binding for global variable ‘cutoff’
.benckmark_cutoff: no visible binding for global variable ‘cluster’
.convertIDs: no visible global function definition for ‘keys’
.correct_fdr: no visible global function definition for ‘fdrtool’
.generate_scatter_plot: no visible binding for global variable
  ‘compare’
.generate_scatter_plot: no visible binding for global variable ‘covar’
.get_counts: no visible global function definition for ‘counts’
.model: no visible global function definition for ‘lm’
.plot_raw: no visible binding for global variable ‘.x’
.plot_shrunken: no visible binding for global variable ‘.x’
.process: no visible binding for global variable ‘genes’
.process: no visible binding for global variable ‘cluster’
.reduce : <anonymous> : <anonymous>: no visible global function
  definition for ‘boxplot’
.reduce_covariates : <anonymous>: no visible binding for global
  variable ‘fdr’
.reduce_covariates : <anonymous>: no visible binding for global
  variable ‘compare’
.reduce_covariates : <anonymous>: no visible binding for global
  variable ‘r’
.reduce_covariates : <anonymous>: no visible binding for global
  variable ‘p.value’
.run_cluster_profiler: no visible global function definition for
  ‘enrichGO’
.run_cluster_profiler: no visible global function definition for
  ‘simplify’
.select_concensus_genes: no visible global function definition for
  ‘desc’
.select_concensus_genes: no visible binding for global variable ‘score’
.select_concensus_genes: no visible binding for global variable ‘k’
.select_concensus_genes: no visible binding for global variable
  ‘itemConsensus’
.summarise_res: no visible binding for global variable ‘gene’
.summarise_res: no visible binding for global variable ‘value_fdr’
.summarise_res: no visible binding for global variable ‘value_fc’
.table_w_fc: no visible binding for global variable ‘comp’
.table_w_fc: no visible binding for global variable ‘log2FoldChange’
degCheckFactors: no visible binding for global variable ‘ratios’
degCorCov: no visible binding for global variable ‘compare’
degCovariates: no visible binding for global variable ‘x’
degCovariates: no visible binding for global variable ‘y’
degCovariates: no visible binding for global variable ‘xend’
degCovariates: no visible binding for global variable ‘yend’
degCovariates: no visible binding for global variable ‘pvalue’
degMA: no visible binding for global variable ‘base_mean’
degMA: no visible binding for global variable ‘log2fc’
degMV: no visible binding for global variable ‘min_median’
degMV: no visible binding for global variable ‘max_sd’
degPatterns: no visible global function definition for ‘rowMedians’
degPatterns: no visible binding for global variable ‘genes’
degPlotCluster: no visible binding for global variable ‘genes’
degPlotCluster: no visible binding for global variable ‘cluster’
degPlotWide : <anonymous>: no visible binding for global variable
  ‘count’
significants,TopTags: no visible binding for global variable ‘FDR’
significants,TopTags: no visible binding for global variable ‘logFC’
significants,list : <anonymous>: no visible binding for global variable
  ‘gene’
Undefined global functions or variables:
  .x FDR base_mean boxplot cluster comp compare count counts covar
  cutoff desc enrichGO fdr fdrtool gene genes itemConsensus k keys lm
  log2FoldChange log2fc logFC max_sd min_median p.value pvalue r ratios
  rowMedians score simplify value_fc value_fdr x xend y yend
Consider adding
  importFrom("graphics", "boxplot")
  importFrom("stats", "lm")
to your NAMESPACE file.
* checking Rd files ... OK
* checking Rd metadata ... OK
* checking Rd cross-references ... OK
* checking for missing documentation entries ... OK
* checking for code/documentation mismatches ... OK
* checking Rd \usage sections ... OK
* checking Rd contents ... OK
* checking for unstated dependencies in examples ... OK
* checking contents of ‘data’ directory ... OK
* checking data for non-ASCII characters ... OK
* checking data for ASCII and uncompressed saves ... OK
* checking files in ‘vignettes’ ... OK
* checking examples ... OK
Examples with CPU (user + system) or elapsed time > 5s
               user system elapsed
degComps     14.013  0.300  14.758
degResults   10.580  0.054  10.634
degPlot      10.118  0.080  10.199
significants  8.858  0.016   8.875
degMA         8.477  0.160   8.688
degMV         8.215  0.099   8.399
degVB         8.127  0.068   8.195
DEGSet        7.980  0.204   8.184
degMean       8.139  0.040   8.179
degPlotWide   8.084  0.036   8.119
degQC         7.859  0.068   7.928
degVar        7.834  0.032   7.867
degMB         7.407  0.059   7.474
degSummary    7.123  0.020   7.144
degColors     5.556  0.143   5.701
* checking for unstated dependencies in ‘tests’ ... OK
* checking tests ...
  Running ‘testthat.R’
 OK
* checking for unstated dependencies in vignettes ... OK
* checking package vignettes in ‘inst/doc’ ... OK
* checking running R code from vignettes ... SKIPPED
* checking re-building of vignette outputs ... SKIPPED
* checking PDF version of manual ... OK
* DONE

Status: 2 NOTEs
See
  ‘/home/biocbuild/bbs-3.14-bioc/meat/DEGreport.Rcheck/00check.log’
for details.



Installation output

DEGreport.Rcheck/00install.out

##############################################################################
##############################################################################
###
### Running command:
###
###   /home/biocbuild/bbs-3.14-bioc/R/bin/R CMD INSTALL DEGreport
###
##############################################################################
##############################################################################


* installing to library ‘/home/biocbuild/bbs-3.14-bioc/R/library’
* installing *source* package ‘DEGreport’ ...
** using staged installation
** R
** data
** inst
** byte-compile and prepare package for lazy loading
** help
*** installing help indices
** building package indices
** installing vignettes
** testing if installed package can be loaded from temporary location
** testing if installed package can be loaded from final location
** testing if installed package keeps a record of temporary installation path
* DONE (DEGreport)

Tests output

DEGreport.Rcheck/tests/testthat.Rout


R version 4.1.2 (2021-11-01) -- "Bird Hippie"
Copyright (C) 2021 The R Foundation for Statistical Computing
Platform: x86_64-pc-linux-gnu (64-bit)

R is free software and comes with ABSOLUTELY NO WARRANTY.
You are welcome to redistribute it under certain conditions.
Type 'license()' or 'licence()' for distribution details.

R is a collaborative project with many contributors.
Type 'contributors()' for more information and
'citation()' on how to cite R or R packages in publications.

Type 'demo()' for some demos, 'help()' for on-line help, or
'help.start()' for an HTML browser interface to help.
Type 'q()' to quit R.

> library(testthat)
> library(edgeR)
Loading required package: limma
> library(DESeq2)
Loading required package: S4Vectors
Loading required package: stats4
Loading required package: BiocGenerics

Attaching package: 'BiocGenerics'

The following object is masked from 'package:limma':

    plotMA

The following objects are masked from 'package:stats':

    IQR, mad, sd, var, xtabs

The following objects are masked from 'package:base':

    Filter, Find, Map, Position, Reduce, anyDuplicated, append,
    as.data.frame, basename, cbind, colnames, dirname, do.call,
    duplicated, eval, evalq, get, grep, grepl, intersect, is.unsorted,
    lapply, mapply, match, mget, order, paste, pmax, pmax.int, pmin,
    pmin.int, rank, rbind, rownames, sapply, setdiff, sort, table,
    tapply, union, unique, unsplit, which.max, which.min


Attaching package: 'S4Vectors'

The following objects are masked from 'package:base':

    I, expand.grid, unname

Loading required package: IRanges
Loading required package: GenomicRanges
Loading required package: GenomeInfoDb
Loading required package: SummarizedExperiment
Loading required package: MatrixGenerics
Loading required package: matrixStats

Attaching package: 'MatrixGenerics'

The following objects are masked from 'package:matrixStats':

    colAlls, colAnyNAs, colAnys, colAvgsPerRowSet, colCollapse,
    colCounts, colCummaxs, colCummins, colCumprods, colCumsums,
    colDiffs, colIQRDiffs, colIQRs, colLogSumExps, colMadDiffs,
    colMads, colMaxs, colMeans2, colMedians, colMins, colOrderStats,
    colProds, colQuantiles, colRanges, colRanks, colSdDiffs, colSds,
    colSums2, colTabulates, colVarDiffs, colVars, colWeightedMads,
    colWeightedMeans, colWeightedMedians, colWeightedSds,
    colWeightedVars, rowAlls, rowAnyNAs, rowAnys, rowAvgsPerColSet,
    rowCollapse, rowCounts, rowCummaxs, rowCummins, rowCumprods,
    rowCumsums, rowDiffs, rowIQRDiffs, rowIQRs, rowLogSumExps,
    rowMadDiffs, rowMads, rowMaxs, rowMeans2, rowMedians, rowMins,
    rowOrderStats, rowProds, rowQuantiles, rowRanges, rowRanks,
    rowSdDiffs, rowSds, rowSums2, rowTabulates, rowVarDiffs, rowVars,
    rowWeightedMads, rowWeightedMeans, rowWeightedMedians,
    rowWeightedSds, rowWeightedVars

Loading required package: Biobase
Welcome to Bioconductor

    Vignettes contain introductory material; view with
    'browseVignettes()'. To cite Bioconductor, see
    'citation("Biobase")', and for packages 'citation("pkgname")'.


Attaching package: 'Biobase'

The following object is masked from 'package:MatrixGenerics':

    rowMedians

The following objects are masked from 'package:matrixStats':

    anyMissing, rowMedians

> library(DEGreport)
> 
> test_check("DEGreport")
[ FAIL 0 | WARN 22 | SKIP 0 | PASS 64 ]
> 
> proc.time()
   user  system elapsed 
 44.544   1.820  46.353 

Example timings

DEGreport.Rcheck/DEGreport-Ex.timings

nameusersystemelapsed
DEGSet7.9800.2048.184
degCheckFactors0.9160.0560.971
degColors5.5560.1435.701
degComps14.013 0.30014.758
degCorCov1.7890.0961.885
degCovariates1.5540.0201.573
degDefault4.2690.0724.341
degFilter0.2850.0000.285
degMA8.4770.1608.688
degMB7.4070.0597.474
degMDS0.6890.0080.698
degMV8.2150.0998.399
degMean8.1390.0408.179
degObj0.3180.0130.330
degPCA1.9750.0752.052
degPatterns1.4560.0121.467
degPlot10.118 0.08010.199
degPlotCluster1.6980.0241.723
degPlotWide8.0840.0368.119
degQC7.8590.0687.928
degResults10.580 0.05410.634
degSignature0.6280.0000.628
degSummary7.1230.0207.144
degVB8.1270.0688.195
degVar7.8340.0327.867
degVolcano4.0390.0084.047
geom_cor0.4830.0040.487
significants8.8580.0168.875