Back to Multiple platform build/check report for BioC 3.14
ABC[D]EFGHIJKLMNOPQRSTUVWXYZ

This page was generated on 2021-11-26 15:05:47 -0500 (Fri, 26 Nov 2021).

CHECK results for DEGreport on machv2

To the developers/maintainers of the DEGreport package:
- Please allow up to 24 hours (and sometimes 48 hours) for your latest push to git@git.bioconductor.org:packages/DEGreport.git to
reflect on this report. See How and When does the builder pull? When will my changes propagate? here for more information.
- Make sure to use the following settings in order to reproduce any error or warning you see on this page.

raw results

Package 475/2083HostnameOS / ArchINSTALLBUILDCHECKBUILD BIN
DEGreport 1.30.0  (landing page)
Lorena Pantano
Snapshot Date: 2021-11-25 04:15:05 -0500 (Thu, 25 Nov 2021)
git_url: https://git.bioconductor.org/packages/DEGreport
git_branch: RELEASE_3_14
git_last_commit: a318960
git_last_commit_date: 2021-10-26 12:14:10 -0500 (Tue, 26 Oct 2021)
nebbiolo2Linux (Ubuntu 20.04.3 LTS) / x86_64  OK    OK    OK  UNNEEDED, same version is already published
tokay2Windows Server 2012 R2 Standard / x64  OK    OK    OK    OK  UNNEEDED, same version is already published
machv2macOS 10.14.6 Mojave / x86_64  OK    OK    OK    OK  UNNEEDED, same version is already published

Summary

Package: DEGreport
Version: 1.30.0
Command: /Library/Frameworks/R.framework/Resources/bin/R CMD check --install=check:DEGreport.install-out.txt --library=/Library/Frameworks/R.framework/Resources/library --no-vignettes --timings DEGreport_1.30.0.tar.gz
StartedAt: 2021-11-25 15:45:24 -0500 (Thu, 25 Nov 2021)
EndedAt: 2021-11-25 15:56:15 -0500 (Thu, 25 Nov 2021)
EllapsedTime: 651.3 seconds
RetCode: 0
Status:   OK  
CheckDir: DEGreport.Rcheck
Warnings: 0

Command output

##############################################################################
##############################################################################
###
### Running command:
###
###   /Library/Frameworks/R.framework/Resources/bin/R CMD check --install=check:DEGreport.install-out.txt --library=/Library/Frameworks/R.framework/Resources/library --no-vignettes --timings DEGreport_1.30.0.tar.gz
###
##############################################################################
##############################################################################


* using log directory ‘/Users/biocbuild/bbs-3.14-bioc/meat/DEGreport.Rcheck’
* using R version 4.1.2 (2021-11-01)
* using platform: x86_64-apple-darwin17.0 (64-bit)
* using session charset: UTF-8
* using option ‘--no-vignettes’
* checking for file ‘DEGreport/DESCRIPTION’ ... OK
* checking extension type ... Package
* this is package ‘DEGreport’ version ‘1.30.0’
* package encoding: UTF-8
* checking package namespace information ... OK
* checking package dependencies ... OK
* checking if this is a source package ... OK
* checking if there is a namespace ... OK
* checking for hidden files and directories ... NOTE
Found the following hidden files and directories:
  .travis.yml
These were most likely included in error. See section ‘Package
structure’ in the ‘Writing R Extensions’ manual.
* checking for portable file names ... OK
* checking for sufficient/correct file permissions ... OK
* checking whether package ‘DEGreport’ can be installed ... OK
* checking installed package size ... OK
* checking package directory ... OK
* checking ‘build’ directory ... OK
* checking DESCRIPTION meta-information ... OK
* checking top-level files ... OK
* checking for left-over files ... OK
* checking index information ... OK
* checking package subdirectories ... OK
* checking R files for non-ASCII characters ... OK
* checking R files for syntax errors ... OK
* checking whether the package can be loaded ... OK
* checking whether the package can be loaded with stated dependencies ... OK
* checking whether the package can be unloaded cleanly ... OK
* checking whether the namespace can be loaded with stated dependencies ... OK
* checking whether the namespace can be unloaded cleanly ... OK
* checking dependencies in R code ... OK
* checking S3 generic/method consistency ... OK
* checking replacement functions ... OK
* checking foreign function calls ... OK
* checking R code for possible problems ... NOTE
.benckmark_cutoff: no visible binding for global variable ‘cutoff’
.benckmark_cutoff: no visible binding for global variable ‘cluster’
.convertIDs: no visible global function definition for ‘keys’
.correct_fdr: no visible global function definition for ‘fdrtool’
.generate_scatter_plot: no visible binding for global variable
  ‘compare’
.generate_scatter_plot: no visible binding for global variable ‘covar’
.get_counts: no visible global function definition for ‘counts’
.model: no visible global function definition for ‘lm’
.plot_raw: no visible binding for global variable ‘.x’
.plot_shrunken: no visible binding for global variable ‘.x’
.process: no visible binding for global variable ‘genes’
.process: no visible binding for global variable ‘cluster’
.reduce : <anonymous> : <anonymous>: no visible global function
  definition for ‘boxplot’
.reduce_covariates : <anonymous>: no visible binding for global
  variable ‘fdr’
.reduce_covariates : <anonymous>: no visible binding for global
  variable ‘compare’
.reduce_covariates : <anonymous>: no visible binding for global
  variable ‘r’
.reduce_covariates : <anonymous>: no visible binding for global
  variable ‘p.value’
.run_cluster_profiler: no visible global function definition for
  ‘enrichGO’
.run_cluster_profiler: no visible global function definition for
  ‘simplify’
.select_concensus_genes: no visible global function definition for
  ‘desc’
.select_concensus_genes: no visible binding for global variable ‘score’
.select_concensus_genes: no visible binding for global variable ‘k’
.select_concensus_genes: no visible binding for global variable
  ‘itemConsensus’
.summarise_res: no visible binding for global variable ‘gene’
.summarise_res: no visible binding for global variable ‘value_fdr’
.summarise_res: no visible binding for global variable ‘value_fc’
.table_w_fc: no visible binding for global variable ‘comp’
.table_w_fc: no visible binding for global variable ‘log2FoldChange’
degCheckFactors: no visible binding for global variable ‘ratios’
degCorCov: no visible binding for global variable ‘compare’
degCovariates: no visible binding for global variable ‘x’
degCovariates: no visible binding for global variable ‘y’
degCovariates: no visible binding for global variable ‘xend’
degCovariates: no visible binding for global variable ‘yend’
degCovariates: no visible binding for global variable ‘pvalue’
degMA: no visible binding for global variable ‘base_mean’
degMA: no visible binding for global variable ‘log2fc’
degMV: no visible binding for global variable ‘min_median’
degMV: no visible binding for global variable ‘max_sd’
degPatterns: no visible global function definition for ‘rowMedians’
degPatterns: no visible binding for global variable ‘genes’
degPlotCluster: no visible binding for global variable ‘genes’
degPlotCluster: no visible binding for global variable ‘cluster’
degPlotWide : <anonymous>: no visible binding for global variable
  ‘count’
significants,TopTags: no visible binding for global variable ‘FDR’
significants,TopTags: no visible binding for global variable ‘logFC’
significants,list : <anonymous>: no visible binding for global variable
  ‘gene’
Undefined global functions or variables:
  .x FDR base_mean boxplot cluster comp compare count counts covar
  cutoff desc enrichGO fdr fdrtool gene genes itemConsensus k keys lm
  log2FoldChange log2fc logFC max_sd min_median p.value pvalue r ratios
  rowMedians score simplify value_fc value_fdr x xend y yend
Consider adding
  importFrom("graphics", "boxplot")
  importFrom("stats", "lm")
to your NAMESPACE file.
* checking Rd files ... OK
* checking Rd metadata ... OK
* checking Rd cross-references ... OK
* checking for missing documentation entries ... OK
* checking for code/documentation mismatches ... OK
* checking Rd \usage sections ... OK
* checking Rd contents ... OK
* checking for unstated dependencies in examples ... OK
* checking contents of ‘data’ directory ... OK
* checking data for non-ASCII characters ... OK
* checking data for ASCII and uncompressed saves ... OK
* checking files in ‘vignettes’ ... OK
* checking examples ... OK
Examples with CPU (user + system) or elapsed time > 5s
               user system elapsed
degComps     20.627  0.070  20.790
degPlot      17.713  0.065  19.556
degResults   17.598  0.061  17.680
degMV        16.965  0.165  17.217
degMean      16.025  0.062  19.812
significants 15.625  0.040  15.679
degMB        15.370  0.043  15.430
degQC        15.075  0.061  15.194
degPlotWide  13.953  0.049  14.055
DEGSet       13.364  0.259  13.641
degVar       13.446  0.037  13.492
degVB        13.143  0.040  13.194
degSummary   12.808  0.048  12.869
degMA        10.991  0.037  11.047
degDefault   10.521  0.030  10.561
degColors    10.200  0.106  10.326
degVolcano    6.763  0.028   6.797
* checking for unstated dependencies in ‘tests’ ... OK
* checking tests ...
  Running ‘testthat.R’
 OK
* checking for unstated dependencies in vignettes ... OK
* checking package vignettes in ‘inst/doc’ ... OK
* checking running R code from vignettes ... SKIPPED
* checking re-building of vignette outputs ... SKIPPED
* checking PDF version of manual ... OK
* DONE

Status: 2 NOTEs
See
  ‘/Users/biocbuild/bbs-3.14-bioc/meat/DEGreport.Rcheck/00check.log’
for details.



Installation output

DEGreport.Rcheck/00install.out

##############################################################################
##############################################################################
###
### Running command:
###
###   /Library/Frameworks/R.framework/Resources/bin/R CMD INSTALL DEGreport
###
##############################################################################
##############################################################################


* installing to library ‘/Library/Frameworks/R.framework/Versions/4.1/Resources/library’
* installing *source* package ‘DEGreport’ ...
** using staged installation
** R
** data
** inst
** byte-compile and prepare package for lazy loading
** help
*** installing help indices
** building package indices
** installing vignettes
** testing if installed package can be loaded from temporary location
** testing if installed package can be loaded from final location
** testing if installed package keeps a record of temporary installation path
* DONE (DEGreport)

Tests output

DEGreport.Rcheck/tests/testthat.Rout


R version 4.1.2 (2021-11-01) -- "Bird Hippie"
Copyright (C) 2021 The R Foundation for Statistical Computing
Platform: x86_64-apple-darwin17.0 (64-bit)

R is free software and comes with ABSOLUTELY NO WARRANTY.
You are welcome to redistribute it under certain conditions.
Type 'license()' or 'licence()' for distribution details.

R is a collaborative project with many contributors.
Type 'contributors()' for more information and
'citation()' on how to cite R or R packages in publications.

Type 'demo()' for some demos, 'help()' for on-line help, or
'help.start()' for an HTML browser interface to help.
Type 'q()' to quit R.

> library(testthat)
> library(edgeR)
Loading required package: limma
> library(DESeq2)
Loading required package: S4Vectors
Loading required package: stats4
Loading required package: BiocGenerics

Attaching package: 'BiocGenerics'

The following object is masked from 'package:limma':

    plotMA

The following objects are masked from 'package:stats':

    IQR, mad, sd, var, xtabs

The following objects are masked from 'package:base':

    Filter, Find, Map, Position, Reduce, anyDuplicated, append,
    as.data.frame, basename, cbind, colnames, dirname, do.call,
    duplicated, eval, evalq, get, grep, grepl, intersect, is.unsorted,
    lapply, mapply, match, mget, order, paste, pmax, pmax.int, pmin,
    pmin.int, rank, rbind, rownames, sapply, setdiff, sort, table,
    tapply, union, unique, unsplit, which.max, which.min


Attaching package: 'S4Vectors'

The following objects are masked from 'package:base':

    I, expand.grid, unname

Loading required package: IRanges
Loading required package: GenomicRanges
Loading required package: GenomeInfoDb
Loading required package: SummarizedExperiment
Loading required package: MatrixGenerics
Loading required package: matrixStats

Attaching package: 'MatrixGenerics'

The following objects are masked from 'package:matrixStats':

    colAlls, colAnyNAs, colAnys, colAvgsPerRowSet, colCollapse,
    colCounts, colCummaxs, colCummins, colCumprods, colCumsums,
    colDiffs, colIQRDiffs, colIQRs, colLogSumExps, colMadDiffs,
    colMads, colMaxs, colMeans2, colMedians, colMins, colOrderStats,
    colProds, colQuantiles, colRanges, colRanks, colSdDiffs, colSds,
    colSums2, colTabulates, colVarDiffs, colVars, colWeightedMads,
    colWeightedMeans, colWeightedMedians, colWeightedSds,
    colWeightedVars, rowAlls, rowAnyNAs, rowAnys, rowAvgsPerColSet,
    rowCollapse, rowCounts, rowCummaxs, rowCummins, rowCumprods,
    rowCumsums, rowDiffs, rowIQRDiffs, rowIQRs, rowLogSumExps,
    rowMadDiffs, rowMads, rowMaxs, rowMeans2, rowMedians, rowMins,
    rowOrderStats, rowProds, rowQuantiles, rowRanges, rowRanks,
    rowSdDiffs, rowSds, rowSums2, rowTabulates, rowVarDiffs, rowVars,
    rowWeightedMads, rowWeightedMeans, rowWeightedMedians,
    rowWeightedSds, rowWeightedVars

Loading required package: Biobase
Welcome to Bioconductor

    Vignettes contain introductory material; view with
    'browseVignettes()'. To cite Bioconductor, see
    'citation("Biobase")', and for packages 'citation("pkgname")'.


Attaching package: 'Biobase'

The following object is masked from 'package:MatrixGenerics':

    rowMedians

The following objects are masked from 'package:matrixStats':

    anyMissing, rowMedians

> library(DEGreport)
> 
> test_check("DEGreport")
[ FAIL 0 | WARN 20 | SKIP 0 | PASS 64 ]
> 
> proc.time()
   user  system elapsed 
 82.104   1.240  83.384 

Example timings

DEGreport.Rcheck/DEGreport-Ex.timings

nameusersystemelapsed
DEGSet13.364 0.25913.641
degCheckFactors1.2460.0581.307
degColors10.200 0.10610.326
degComps20.627 0.07020.790
degCorCov2.1840.0262.214
degCovariates2.9470.0313.001
degDefault10.521 0.03010.561
degFilter0.5130.0190.534
degMA10.991 0.03711.047
degMB15.370 0.04315.430
degMDS1.4940.0221.516
degMV16.965 0.16517.217
degMean16.025 0.06219.812
degObj0.4740.0160.490
degPCA2.1650.0232.190
degPatterns2.6920.0304.314
degPlot17.713 0.06519.556
degPlotCluster2.9510.0373.010
degPlotWide13.953 0.04914.055
degQC15.075 0.06115.194
degResults17.598 0.06117.680
degSignature0.9340.0070.942
degSummary12.808 0.04812.869
degVB13.143 0.04013.194
degVar13.446 0.03713.492
degVolcano6.7630.0286.797
geom_cor0.7050.0180.725
significants15.625 0.04015.679