Index of /checkResults/3.14/bioc-LATEST/DEComplexDisease/raw-results/nebbiolo2

[ICO]NameLast modifiedSizeDescription

[DIR]Parent Directory  -  
[   ]install-summary.dcf14-Apr-2022 01:05 277  
[TXT]install-out.txt14-Apr-2022 01:05 1.8K 
[   ]checksrc-summary.dcf14-Apr-2022 01:05 460  
[TXT]checksrc-out.txt14-Apr-2022 01:05 3.9K 
[   ]buildsrc-summary.dcf14-Apr-2022 01:05 443  
[TXT]buildsrc-out.txt14-Apr-2022 01:05 872