Back to Multiple platform build/check report for BioC 3.14
ABC[D]EFGHIJKLMNOPQRSTUVWXYZ

This page was generated on 2021-12-06 13:04:56 -0500 (Mon, 06 Dec 2021).

INSTALL results for DEComplexDisease on nebbiolo2

To the developers/maintainers of the DEComplexDisease package:
- Please allow up to 24 hours (and sometimes 48 hours) for your latest push to git@git.bioconductor.org:packages/DEComplexDisease.git to
reflect on this report. See How and When does the builder pull? When will my changes propagate? here for more information.
- Make sure to use the following settings in order to reproduce any error or warning you see on this page.

raw results

Package 463/2083HostnameOS / ArchINSTALLBUILDCHECKBUILD BIN
DEComplexDisease 1.14.0  (landing page)
Guofeng Meng
Snapshot Date: 2021-12-05 01:55:05 -0500 (Sun, 05 Dec 2021)
git_url: https://git.bioconductor.org/packages/DEComplexDisease
git_branch: RELEASE_3_14
git_last_commit: 67836f3
git_last_commit_date: 2021-10-26 12:41:33 -0500 (Tue, 26 Oct 2021)
nebbiolo2Linux (Ubuntu 20.04.3 LTS) / x86_64  OK    ERROR  skipped
tokay2Windows Server 2012 R2 Standard / x64  OK    ERROR  skippedskipped
machv2macOS 10.14.6 Mojave / x86_64  OK    OK    OK    OK  UNNEEDED, same version is already published

Summary

Package: DEComplexDisease
Version: 1.14.0
Command: /home/biocbuild/bbs-3.14-bioc/R/bin/R CMD INSTALL DEComplexDisease
StartedAt: 2021-12-05 03:31:49 -0500 (Sun, 05 Dec 2021)
EndedAt: 2021-12-05 03:32:28 -0500 (Sun, 05 Dec 2021)
EllapsedTime: 39.3 seconds
RetCode: 0
Status:   OK  

Command output

##############################################################################
##############################################################################
###
### Running command:
###
###   /home/biocbuild/bbs-3.14-bioc/R/bin/R CMD INSTALL DEComplexDisease
###
##############################################################################
##############################################################################


* installing to library ‘/home/biocbuild/bbs-3.14-bioc/R/library’
* installing *source* package ‘DEComplexDisease’ ...
** using staged installation
** libs
g++ -std=gnu++14 -I"/home/biocbuild/bbs-3.14-bioc/R/include" -DNDEBUG  -I'/home/biocbuild/bbs-3.14-bioc/R/library/Rcpp/include' -I/usr/local/include   -fpic  -g -O2  -Wall -c RcppExports.cpp -o RcppExports.o
g++ -std=gnu++14 -I"/home/biocbuild/bbs-3.14-bioc/R/include" -DNDEBUG  -I'/home/biocbuild/bbs-3.14-bioc/R/library/Rcpp/include' -I/usr/local/include   -fpic  -g -O2  -Wall -c sig.cpp -o sig.o
g++ -std=gnu++14 -shared -L/home/biocbuild/bbs-3.14-bioc/R/lib -L/usr/local/lib -o DEComplexDisease.so RcppExports.o sig.o -L/home/biocbuild/bbs-3.14-bioc/R/lib -lR
installing to /home/biocbuild/bbs-3.14-bioc/R/library/00LOCK-DEComplexDisease/00new/DEComplexDisease/libs
** R
** data
*** moving datasets to lazyload DB
** inst
** byte-compile and prepare package for lazy loading
** help
*** installing help indices
** building package indices
** installing vignettes
   ‘decd.Rmd’ 
   ‘vignettes.Rmd’ 
** testing if installed package can be loaded from temporary location
** checking absolute paths in shared objects and dynamic libraries
** testing if installed package can be loaded from final location
** testing if installed package keeps a record of temporary installation path
* DONE (DEComplexDisease)