Index of /checkResults/3.14/bioc-LATEST/DAPAR/raw-results/nebbiolo2

[ICO]NameLast modifiedSizeDescription

[DIR]Parent Directory  -  
[   ]install-summary.dcf14-Apr-2022 01:05 255  
[TXT]install-out.txt14-Apr-2022 01:05 941  
[   ]checksrc-summary.dcf14-Apr-2022 01:05 416  
[TXT]checksrc-out.txt14-Apr-2022 01:05 6.5K 
[   ]buildsrc-summary.dcf14-Apr-2022 01:05 411  
[TXT]buildsrc-out.txt14-Apr-2022 01:05 798