Back to Multiple platform build/check report for BioC 3.14
AB[C]DEFGHIJKLMNOPQRSTUVWXYZ

This page was generated on 2022-01-19 13:06:25 -0500 (Wed, 19 Jan 2022).

HostnameOSArch (*)R versionInstalled pkgs
nebbiolo2Linux (Ubuntu 20.04.4 LTS)x86_644.1.2 (2021-11-01) -- "Bird Hippie" 4328
tokay2Windows Server 2012 R2 Standardx644.1.2 (2021-11-01) -- "Bird Hippie" 4077
machv2macOS 10.14.6 Mojavex86_644.1.2 (2021-11-01) -- "Bird Hippie" 4138
Click on any hostname to see more info about the system (e.g. compilers)      (*) as reported by 'uname -p', except on Windows and Mac OS X

BUILD BIN results for CoreGx on tokay2


To the developers/maintainers of the CoreGx package:
- Please allow up to 24 hours (and sometimes 48 hours) for your latest push to git@git.bioconductor.org:packages/CoreGx.git to
reflect on this report. See How and When does the builder pull? When will my changes propagate? here for more information.
- Make sure to use the following settings in order to reproduce any error or warning you see on this page.

raw results

Package 400/2083HostnameOS / ArchINSTALLBUILDCHECKBUILD BIN
CoreGx 1.6.0  (landing page)
Benjamin Haibe-Kains
Snapshot Date: 2022-01-18 01:55:07 -0500 (Tue, 18 Jan 2022)
git_url: https://git.bioconductor.org/packages/CoreGx
git_branch: RELEASE_3_14
git_last_commit: 33bef81
git_last_commit_date: 2021-10-26 12:59:39 -0500 (Tue, 26 Oct 2021)
nebbiolo2Linux (Ubuntu 20.04.4 LTS) / x86_64  OK    OK    OK  UNNEEDED, same version is already published
tokay2Windows Server 2012 R2 Standard / x64  OK    OK    OK    OK  UNNEEDED, same version is already published
machv2macOS 10.14.6 Mojave / x86_64  OK    OK    OK    OK  UNNEEDED, same version is already published

Summary

Package: CoreGx
Version: 1.6.0
Command: rm -rf CoreGx.buildbin-libdir && mkdir CoreGx.buildbin-libdir && C:\Users\biocbuild\bbs-3.14-bioc\R\bin\R.exe CMD INSTALL --merge-multiarch --build --library=CoreGx.buildbin-libdir CoreGx_1.6.0.tar.gz
StartedAt: 2022-01-19 05:35:08 -0500 (Wed, 19 Jan 2022)
EndedAt: 2022-01-19 05:36:51 -0500 (Wed, 19 Jan 2022)
EllapsedTime: 103.4 seconds
RetCode: 0
Status:   OK  
PackageFile: CoreGx_1.6.0.zip
PackageFileSize: 2.272 MiB

Command output

##############################################################################
##############################################################################
###
### Running command:
###
###   rm -rf CoreGx.buildbin-libdir && mkdir CoreGx.buildbin-libdir && C:\Users\biocbuild\bbs-3.14-bioc\R\bin\R.exe CMD INSTALL --merge-multiarch --build --library=CoreGx.buildbin-libdir CoreGx_1.6.0.tar.gz
###
##############################################################################
##############################################################################



install for i386

* installing *source* package 'CoreGx' ...
** using staged installation
** R
** data
*** moving datasets to lazyload DB
Registered S3 method overwritten by 'ggplot2':
  method        from
  print.element sets
Creating a generic function for 'colnames' from package 'base' in package 'CoreGx'
Creating a generic function for 'rownames' from package 'base' in package 'CoreGx'
** inst
** byte-compile and prepare package for lazy loading
** help
*** installing help indices
  converting help for package 'CoreGx'
    finding HTML links ... done
    CoreSet-accessors                       html  
    CoreSet-class                           html  
    CoreSet-utils                           html  
    CoreSet                                 html  
    CoreSet2                                html  
    Create                                  html  
    DataMapper-accessors                    html  
    DataMapper-class                        html  
    LongTable-accessors                     html  
    LongTable-class                         html  
    LongTable                               html  
    LongTableDataMapper-accessors           html  
REDIRECT:topic	 Previous alias or file overwritten by alias: C:/Users/biocbuild/bbs-3.14-bioc/meat/CoreGx.buildbin-libdir/00LOCK-CoreGx/00new/CoreGx/help/assayMap+2CLongTableDataMapper+2CList-method.html
    LongTableDataMapper-class               html  
    LongTableDataMapper                     html  
    TREDataMapper-class                     html  
    TREDataMapper                           html  
    TreatmentResponseExperiment-class       html  
    TreatmentResponseExperiment             html  
    amcc                                    html  
    as                                      html  
    as.long.table                           html  
    assayCols                               html  
    buildLongTable                          html  
    callingWaterfall                        html  
    cash-LongTable-method                   html  
    cash-set-LongTable-method               html  
    checkColumnCardinality                  html  
    checkCsetStructure                      html  
    clevelandSmall_cSet                     html  
    colIDs                                  html  
    colMeta                                 html  
    connectivityScore                       html  
    cosinePerm                              html  
    dot-                                    html  
    dot-assayToBumpyMatrix                  html  
    dot-convertCSetMolecularProfilesToSE    html  
    dot-distancePointLine                   html  
    dot-distancePointSegment                html  
    dot-intersectList                       html  
    dot-longTableToSummarizedExperiment     html  
    dot-sensitivityToLongTable              html  
    dot-symSetDiffList                      html  
    dot-unionList                           html  
    drugSensitivitySig                      html  
    exampleDataMapper                       html  
    getIntern                               html  
    guessMapping-LongTableDataMapper-method
                                            html  
    guessMapping                            html  
    gwc                                     html  
    idCols-LongTable-method                 html  
    idCols                                  html  
    is.items                                html  
    lapply-MultiAssayExperiment-method      html  
    list_or_LongTable-class                 html  
    mcc                                     html  
    merckLongTable                          html  
    metaConstruct                           html  
    metadata-LongTable-method               html  
    metadata-set-LongTable-method           html  
    reindex-LongTable-method                html  
    reindex                                 html  
    rowIDs                                  html  
    rowMeta                                 html  
    sensitivityInfo-set                     html  
    sensitivityInfo                         html  
    sensitivityMeasures-set                 html  
    sensitivityMeasures                     html  
    sensitivityProfiles-set                 html  
    sensitivityProfiles                     html  
    sensitivityRaw-set                      html  
    sensitivityRaw                          html  
    sensitivitySlotToLongTable              html  
    show-CoreSet-method                     html  
    show-LongTable-method                   html  
    showSigAnnot                            html  
    sub-LongTable-ANY-ANY-ANY-method        html  
    sub-subset-LongTable-ANY-ANY-method     html  
    subset-LongTable-method                 html  
    subsetTo                                html  
    summarizeMolecularProfiles              html  
    summarizeSensitivityProfiles            html  
    updateCellId                            html  
** building package indices
** installing vignettes
** testing if installed package can be loaded from temporary location
** testing if installed package can be loaded from final location
** testing if installed package keeps a record of temporary installation path

install for x64

* installing *source* package 'CoreGx' ...
** testing if installed package can be loaded
* MD5 sums
packaged installation of 'CoreGx' as CoreGx_1.6.0.zip
* DONE (CoreGx)