Back to Multiple platform build/check report for BioC 3.14
AB[C]DEFGHIJKLMNOPQRSTUVWXYZ

This page was generated on 2021-12-03 13:05:43 -0500 (Fri, 03 Dec 2021).

BUILD BIN results for CoreGx on machv2

To the developers/maintainers of the CoreGx package:
- Please allow up to 24 hours (and sometimes 48 hours) for your latest push to git@git.bioconductor.org:packages/CoreGx.git to
reflect on this report. See How and When does the builder pull? When will my changes propagate? here for more information.
- Make sure to use the following settings in order to reproduce any error or warning you see on this page.

raw results

Package 400/2083HostnameOS / ArchINSTALLBUILDCHECKBUILD BIN
CoreGx 1.6.0  (landing page)
Benjamin Haibe-Kains
Snapshot Date: 2021-12-02 01:55:06 -0500 (Thu, 02 Dec 2021)
git_url: https://git.bioconductor.org/packages/CoreGx
git_branch: RELEASE_3_14
git_last_commit: 33bef81
git_last_commit_date: 2021-10-26 12:59:39 -0500 (Tue, 26 Oct 2021)
nebbiolo2Linux (Ubuntu 20.04.3 LTS) / x86_64  OK    OK    OK  UNNEEDED, same version is already published
tokay2Windows Server 2012 R2 Standard / x64  OK    OK    OK    OK  UNNEEDED, same version is already published
machv2macOS 10.14.6 Mojave / x86_64  OK    OK    OK    OK  UNNEEDED, same version is already published

Summary

Package: CoreGx
Version: 1.6.0
Command: rm -rf CoreGx.buildbin-libdir && mkdir CoreGx.buildbin-libdir && /Users/biocbuild/BBS/utils/build-universal.sh CoreGx_1.6.0.tar.gz /Library/Frameworks/R.framework/Resources/bin/R CoreGx.buildbin-libdir
StartedAt: 2021-12-02 21:39:44 -0500 (Thu, 02 Dec 2021)
EndedAt: 2021-12-02 21:40:55 -0500 (Thu, 02 Dec 2021)
EllapsedTime: 70.2 seconds
RetCode: 0
Status:   OK  
PackageFile: CoreGx_1.6.0.tgz
PackageFileSize: 2.111 MiB

Command output

##############################################################################
##############################################################################
###
### Running command:
###
###   rm -rf CoreGx.buildbin-libdir && mkdir CoreGx.buildbin-libdir && /Users/biocbuild/BBS/utils/build-universal.sh CoreGx_1.6.0.tar.gz /Library/Frameworks/R.framework/Resources/bin/R CoreGx.buildbin-libdir
###
##############################################################################
##############################################################################


>>>>>>> 
>>>>>>> INSTALLATION WITH 'R CMD INSTALL --preclean --no-multiarch --library=CoreGx.buildbin-libdir CoreGx_1.6.0.tar.gz'
>>>>>>> 

* installing *source* package ‘CoreGx’ ...
** using staged installation
** R
** data
*** moving datasets to lazyload DB
Registered S3 method overwritten by 'ggplot2':
  method        from
  print.element sets
Creating a generic function for ‘colnames’ from package ‘base’ in package ‘CoreGx’
Creating a generic function for ‘rownames’ from package ‘base’ in package ‘CoreGx’
** inst
** byte-compile and prepare package for lazy loading
** help
*** installing help indices
** building package indices
** installing vignettes
** testing if installed package can be loaded from temporary location
** testing if installed package can be loaded from final location
** testing if installed package keeps a record of temporary installation path
* DONE (CoreGx)