Back to Multiple platform build/check report for BioC 3.14
AB[C]DEFGHIJKLMNOPQRSTUVWXYZ

This page was generated on 2021-12-06 13:04:55 -0500 (Mon, 06 Dec 2021).

CHECK results for CopywriteR on nebbiolo2

To the developers/maintainers of the CopywriteR package:
- Please allow up to 24 hours (and sometimes 48 hours) for your latest push to git@git.bioconductor.org:packages/CopywriteR.git to
reflect on this report. See How and When does the builder pull? When will my changes propagate? here for more information.
- Make sure to use the following settings in order to reproduce any error or warning you see on this page.

raw results

Package 397/2083HostnameOS / ArchINSTALLBUILDCHECKBUILD BIN
CopywriteR 2.26.0  (landing page)
Oscar Krijgsman
Snapshot Date: 2021-12-05 01:55:05 -0500 (Sun, 05 Dec 2021)
git_url: https://git.bioconductor.org/packages/CopywriteR
git_branch: RELEASE_3_14
git_last_commit: 84f6999
git_last_commit_date: 2021-10-26 12:19:59 -0500 (Tue, 26 Oct 2021)
nebbiolo2Linux (Ubuntu 20.04.3 LTS) / x86_64  OK    OK    OK  UNNEEDED, same version is already published
tokay2Windows Server 2012 R2 Standard / x64  OK    OK    OK    OK  UNNEEDED, same version is already published
machv2macOS 10.14.6 Mojave / x86_64  OK    OK    OK    OK  UNNEEDED, same version is already published

Summary

Package: CopywriteR
Version: 2.26.0
Command: /home/biocbuild/bbs-3.14-bioc/R/bin/R CMD check --install=check:CopywriteR.install-out.txt --library=/home/biocbuild/bbs-3.14-bioc/R/library --no-vignettes --timings CopywriteR_2.26.0.tar.gz
StartedAt: 2021-12-05 07:26:29 -0500 (Sun, 05 Dec 2021)
EndedAt: 2021-12-05 07:29:14 -0500 (Sun, 05 Dec 2021)
EllapsedTime: 164.8 seconds
RetCode: 0
Status:   OK  
CheckDir: CopywriteR.Rcheck
Warnings: 0

Command output

##############################################################################
##############################################################################
###
### Running command:
###
###   /home/biocbuild/bbs-3.14-bioc/R/bin/R CMD check --install=check:CopywriteR.install-out.txt --library=/home/biocbuild/bbs-3.14-bioc/R/library --no-vignettes --timings CopywriteR_2.26.0.tar.gz
###
##############################################################################
##############################################################################


* using log directory ‘/home/biocbuild/bbs-3.14-bioc/meat/CopywriteR.Rcheck’
* using R version 4.1.2 (2021-11-01)
* using platform: x86_64-pc-linux-gnu (64-bit)
* using session charset: UTF-8
* using option ‘--no-vignettes’
* checking for file ‘CopywriteR/DESCRIPTION’ ... OK
* checking extension type ... Package
* this is package ‘CopywriteR’ version ‘2.26.0’
* checking package namespace information ... OK
* checking package dependencies ... OK
* checking if this is a source package ... OK
* checking if there is a namespace ... OK
* checking for hidden files and directories ... OK
* checking for portable file names ... OK
* checking for sufficient/correct file permissions ... OK
* checking whether package ‘CopywriteR’ can be installed ... OK
* checking installed package size ... OK
* checking package directory ... OK
* checking ‘build’ directory ... OK
* checking DESCRIPTION meta-information ... OK
* checking top-level files ... OK
* checking for left-over files ... OK
* checking index information ... OK
* checking package subdirectories ... OK
* checking R files for non-ASCII characters ... OK
* checking R files for syntax errors ... OK
* checking whether the package can be loaded ... OK
* checking whether the package can be loaded with stated dependencies ... OK
* checking whether the package can be unloaded cleanly ... OK
* checking whether the namespace can be loaded with stated dependencies ... OK
* checking whether the namespace can be unloaded cleanly ... OK
* checking dependencies in R code ... OK
* checking S3 generic/method consistency ... OK
* checking replacement functions ... OK
* checking foreign function calls ... OK
* checking R code for possible problems ... NOTE
.peakCutoff: no visible global function definition for ‘dpois’
.peakCutoff: no visible global function definition for ‘ppois’
.tng: no visible global function definition for ‘png’
.tng: no visible global function definition for ‘par’
.tng: no visible global function definition for ‘dev.off’
.tng: no visible global function definition for ‘loess’
.tng: no visible global function definition for ‘predict’
.tng: no visible global function definition for ‘points’
.tng: no visible global function definition for ‘rgb’
.tng: no visible global function definition for ‘lines’
CopywriteR: no visible global function definition for ‘as’
CopywriteR: no visible global function definition for ‘packageVersion’
CopywriteR: no visible global function definition for ‘getClass’
CopywriteR : DetectPeaks: no visible global function definition for
  ‘as’
CopywriteR : DetectPeaks: no visible global function definition for
  ‘write.table’
CopywriteR : CalculateDepthOfCoverage: no visible global function
  definition for ‘read.table’
CopywriteR : CalculateDepthOfCoverage: no visible global function
  definition for ‘as’
CopywriteR: no visible global function definition for ‘write.table’
CopywriteR: no visible global function definition for ‘pdf’
CopywriteR: no visible global function definition for ‘ecdf’
CopywriteR: no visible global function definition for ‘dev.off’
CopywriteR: no visible global function definition for ‘read.table’
plotCNA: no visible global function definition for ‘read.table’
plotCNA : <anonymous> : <anonymous>: no visible global function
  definition for ‘pdf’
plotCNA : <anonymous> : <anonymous>: no visible global function
  definition for ‘points’
plotCNA : <anonymous> : <anonymous> : <anonymous>: no visible global
  function definition for ‘segments’
plotCNA : <anonymous> : <anonymous>: no visible global function
  definition for ‘par’
plotCNA : <anonymous> : <anonymous>: no visible global function
  definition for ‘text’
plotCNA : <anonymous> : <anonymous>: no visible global function
  definition for ‘axis’
plotCNA : <anonymous> : <anonymous>: no visible global function
  definition for ‘abline’
plotCNA : <anonymous> : <anonymous>: no visible global function
  definition for ‘dev.off’
preCopywriteR: no visible global function definition for ‘as’
Undefined global functions or variables:
  abline as axis dev.off dpois ecdf getClass lines loess packageVersion
  par pdf png points ppois predict read.table rgb segments text
  write.table
Consider adding
  importFrom("grDevices", "dev.off", "pdf", "png", "rgb")
  importFrom("graphics", "abline", "axis", "lines", "par", "points",
             "segments", "text")
  importFrom("methods", "as", "getClass")
  importFrom("stats", "dpois", "ecdf", "loess", "ppois", "predict")
  importFrom("utils", "packageVersion", "read.table", "write.table")
to your NAMESPACE file (and ensure that your DESCRIPTION Imports field
contains 'methods').
* checking Rd files ... OK
* checking Rd metadata ... OK
* checking Rd cross-references ... OK
* checking for missing documentation entries ... OK
* checking for code/documentation mismatches ... OK
* checking Rd \usage sections ... OK
* checking Rd contents ... OK
* checking for unstated dependencies in examples ... OK
* checking files in ‘vignettes’ ... OK
* checking examples ... OK
* checking for unstated dependencies in vignettes ... OK
* checking package vignettes in ‘inst/doc’ ... OK
* checking running R code from vignettes ... SKIPPED
* checking re-building of vignette outputs ... SKIPPED
* checking PDF version of manual ... OK
* DONE

Status: 1 NOTE
See
  ‘/home/biocbuild/bbs-3.14-bioc/meat/CopywriteR.Rcheck/00check.log’
for details.



Installation output

CopywriteR.Rcheck/00install.out

##############################################################################
##############################################################################
###
### Running command:
###
###   /home/biocbuild/bbs-3.14-bioc/R/bin/R CMD INSTALL CopywriteR
###
##############################################################################
##############################################################################


* installing to library ‘/home/biocbuild/bbs-3.14-bioc/R/library’
* installing *source* package ‘CopywriteR’ ...
** using staged installation
** R
** byte-compile and prepare package for lazy loading
** help
*** installing help indices
** building package indices
** installing vignettes
** testing if installed package can be loaded from temporary location
** testing if installed package can be loaded from final location
** testing if installed package keeps a record of temporary installation path
* DONE (CopywriteR)

Tests output


Example timings

CopywriteR.Rcheck/CopywriteR-Ex.timings

nameusersystemelapsed
CopywriteR000
plotCNA000
preCopywriteR0.0010.0000.000