Back to Multiple platform build/check report for BioC 3.14
AB[C]DEFGHIJKLMNOPQRSTUVWXYZ

This page was generated on 2022-01-19 13:06:25 -0500 (Wed, 19 Jan 2022).

HostnameOSArch (*)R versionInstalled pkgs
nebbiolo2Linux (Ubuntu 20.04.4 LTS)x86_644.1.2 (2021-11-01) -- "Bird Hippie" 4328
tokay2Windows Server 2012 R2 Standardx644.1.2 (2021-11-01) -- "Bird Hippie" 4077
machv2macOS 10.14.6 Mojavex86_644.1.2 (2021-11-01) -- "Bird Hippie" 4138
Click on any hostname to see more info about the system (e.g. compilers)      (*) as reported by 'uname -p', except on Windows and Mac OS X

CHECK results for ConsensusClusterPlus on tokay2


To the developers/maintainers of the ConsensusClusterPlus package:
- Please allow up to 24 hours (and sometimes 48 hours) for your latest push to git@git.bioconductor.org:packages/ConsensusClusterPlus.git to
reflect on this report. See How and When does the builder pull? When will my changes propagate? here for more information.
- Make sure to use the following settings in order to reproduce any error or warning you see on this page.

raw results

Package 386/2083HostnameOS / ArchINSTALLBUILDCHECKBUILD BIN
ConsensusClusterPlus 1.58.0  (landing page)
Matt Wilkerson
Snapshot Date: 2022-01-18 01:55:07 -0500 (Tue, 18 Jan 2022)
git_url: https://git.bioconductor.org/packages/ConsensusClusterPlus
git_branch: RELEASE_3_14
git_last_commit: d8131dd
git_last_commit_date: 2021-10-26 11:55:20 -0500 (Tue, 26 Oct 2021)
nebbiolo2Linux (Ubuntu 20.04.4 LTS) / x86_64  OK    OK    OK  UNNEEDED, same version is already published
tokay2Windows Server 2012 R2 Standard / x64  OK    OK    OK    OK  UNNEEDED, same version is already published
machv2macOS 10.14.6 Mojave / x86_64  OK    OK    OK    OK  UNNEEDED, same version is already published

Summary

Package: ConsensusClusterPlus
Version: 1.58.0
Command: C:\Users\biocbuild\bbs-3.14-bioc\R\bin\R.exe CMD check --force-multiarch --install=check:ConsensusClusterPlus.install-out.txt --library=C:\Users\biocbuild\bbs-3.14-bioc\R\library --no-vignettes --timings ConsensusClusterPlus_1.58.0.tar.gz
StartedAt: 2022-01-18 17:40:35 -0500 (Tue, 18 Jan 2022)
EndedAt: 2022-01-18 17:41:22 -0500 (Tue, 18 Jan 2022)
EllapsedTime: 47.4 seconds
RetCode: 0
Status:   OK  
CheckDir: ConsensusClusterPlus.Rcheck
Warnings: 0

Command output

##############################################################################
##############################################################################
###
### Running command:
###
###   C:\Users\biocbuild\bbs-3.14-bioc\R\bin\R.exe CMD check --force-multiarch --install=check:ConsensusClusterPlus.install-out.txt --library=C:\Users\biocbuild\bbs-3.14-bioc\R\library --no-vignettes --timings ConsensusClusterPlus_1.58.0.tar.gz
###
##############################################################################
##############################################################################


* using log directory 'C:/Users/biocbuild/bbs-3.14-bioc/meat/ConsensusClusterPlus.Rcheck'
* using R version 4.1.2 (2021-11-01)
* using platform: x86_64-w64-mingw32 (64-bit)
* using session charset: ISO8859-1
* using option '--no-vignettes'
* checking for file 'ConsensusClusterPlus/DESCRIPTION' ... OK
* checking extension type ... Package
* this is package 'ConsensusClusterPlus' version '1.58.0'
* checking package namespace information ... OK
* checking package dependencies ... OK
* checking if this is a source package ... OK
* checking if there is a namespace ... OK
* checking for hidden files and directories ... OK
* checking for portable file names ... OK
* checking whether package 'ConsensusClusterPlus' can be installed ... OK
* checking installed package size ... OK
* checking package directory ... OK
* checking 'build' directory ... OK
* checking DESCRIPTION meta-information ... NOTE
Malformed Description field: should contain one or more complete sentences.
Non-standard license specification:
  GPL version 2
Standardizable: TRUE
Standardized license specification:
  GPL-2
* checking top-level files ... OK
* checking for left-over files ... OK
* checking index information ... OK
* checking package subdirectories ... OK
* checking R files for non-ASCII characters ... OK
* checking R files for syntax errors ... OK
* loading checks for arch 'i386'
** checking whether the package can be loaded ... OK
** checking whether the package can be loaded with stated dependencies ... OK
** checking whether the package can be unloaded cleanly ... OK
** checking whether the namespace can be loaded with stated dependencies ... OK
** checking whether the namespace can be unloaded cleanly ... OK
* loading checks for arch 'x64'
** checking whether the package can be loaded ... OK
** checking whether the package can be loaded with stated dependencies ... OK
** checking whether the package can be unloaded cleanly ... OK
** checking whether the namespace can be loaded with stated dependencies ... OK
** checking whether the namespace can be unloaded cleanly ... OK
* checking dependencies in R code ... NOTE
Namespace in Imports field not imported from: 'ALL'
  All declared Imports should be used.
* checking S3 generic/method consistency ... OK
* checking replacement functions ... OK
* checking foreign function calls ... OK
* checking R code for possible problems ... NOTE
ConsensusClusterPlus: warning in heatmap(pc, Colv = NA, Rowv = NA, symm
  = FALSE, scale = "none", col = tmyPal, na.rm = TRUE, labRow = F,
  labCol = F, mar = c(5, 5), main = paste("consensus matrix k=", tk,
  sep = ""), ColSideCol = oc): partial argument match of 'mar' to
  'margins'
ConsensusClusterPlus: warning in heatmap(pc, Colv = NA, Rowv = NA, symm
  = FALSE, scale = "none", col = tmyPal, na.rm = TRUE, labRow = F,
  labCol = F, mar = c(5, 5), main = paste("consensus matrix k=", tk,
  sep = ""), ColSideCol = oc): partial argument match of 'ColSideCol'
  to 'ColSideColors'
ConsensusClusterPlus: warning in heatmap(pc, Colv = as.dendrogram(hc),
  Rowv = NA, symm = FALSE, scale = "none", col = tmyPal, na.rm = TRUE,
  labRow = F, labCol = F, mar = c(5, 5), main = paste("consensus matrix
  k=", tk, sep = ""), ColSideCol = colorList[[1]]): partial argument
  match of 'mar' to 'margins'
ConsensusClusterPlus: warning in heatmap(pc, Colv = as.dendrogram(hc),
  Rowv = NA, symm = FALSE, scale = "none", col = tmyPal, na.rm = TRUE,
  labRow = F, labCol = F, mar = c(5, 5), main = paste("consensus matrix
  k=", tk, sep = ""), ColSideCol = colorList[[1]]): partial argument
  match of 'ColSideCol' to 'ColSideColors'
ConsensusClusterPlus: no visible global function definition for
  'bitmap'
ConsensusClusterPlus: no visible global function definition for
  'postscript'
calcICL: no visible global function definition for 'postscript'
calcICL: no visible global function definition for 'bitmap'
Undefined global functions or variables:
  bitmap postscript
Consider adding
  importFrom("grDevices", "bitmap", "postscript")
to your NAMESPACE file.
* checking Rd files ... OK
* checking Rd metadata ... OK
* checking Rd cross-references ... OK
* checking for missing documentation entries ... OK
* checking for code/documentation mismatches ... OK
* checking Rd \usage sections ... OK
* checking Rd contents ... OK
* checking for unstated dependencies in examples ... OK
* checking files in 'vignettes' ... OK
* checking examples ...
** running examples for arch 'i386' ... OK
** running examples for arch 'x64' ... OK
* checking for unstated dependencies in vignettes ... OK
* checking package vignettes in 'inst/doc' ... OK
* checking running R code from vignettes ... SKIPPED
* checking re-building of vignette outputs ... SKIPPED
* checking PDF version of manual ... OK
* DONE

Status: 3 NOTEs
See
  'C:/Users/biocbuild/bbs-3.14-bioc/meat/ConsensusClusterPlus.Rcheck/00check.log'
for details.



Installation output

ConsensusClusterPlus.Rcheck/00install.out

##############################################################################
##############################################################################
###
### Running command:
###
###   C:\cygwin\bin\curl.exe -O http://155.52.207.166/BBS/3.14/bioc/src/contrib/ConsensusClusterPlus_1.58.0.tar.gz && rm -rf ConsensusClusterPlus.buildbin-libdir && mkdir ConsensusClusterPlus.buildbin-libdir && C:\Users\biocbuild\bbs-3.14-bioc\R\bin\R.exe CMD INSTALL --merge-multiarch --build --library=ConsensusClusterPlus.buildbin-libdir ConsensusClusterPlus_1.58.0.tar.gz && C:\Users\biocbuild\bbs-3.14-bioc\R\bin\R.exe CMD INSTALL ConsensusClusterPlus_1.58.0.zip && rm ConsensusClusterPlus_1.58.0.tar.gz ConsensusClusterPlus_1.58.0.zip
###
##############################################################################
##############################################################################


  % Total    % Received % Xferd  Average Speed   Time    Time     Time  Current
                                 Dload  Upload   Total   Spent    Left  Speed

  0     0    0     0    0     0      0      0 --:--:-- --:--:-- --:--:--     0
100 16698  100 16698    0     0   199k      0 --:--:-- --:--:-- --:--:--  201k

install for i386

* installing *source* package 'ConsensusClusterPlus' ...
** using staged installation
** R
** inst
** byte-compile and prepare package for lazy loading
** help
*** installing help indices
  converting help for package 'ConsensusClusterPlus'
    finding HTML links ... done
    ConsensusClusterPlus                    html  
** building package indices
** installing vignettes
** testing if installed package can be loaded from temporary location
** testing if installed package can be loaded from final location
** testing if installed package keeps a record of temporary installation path

install for x64

* installing *source* package 'ConsensusClusterPlus' ...
** testing if installed package can be loaded
* MD5 sums
packaged installation of 'ConsensusClusterPlus' as ConsensusClusterPlus_1.58.0.zip
* DONE (ConsensusClusterPlus)
* installing to library 'C:/Users/biocbuild/bbs-3.14-bioc/R/library'
package 'ConsensusClusterPlus' successfully unpacked and MD5 sums checked

Tests output


Example timings

ConsensusClusterPlus.Rcheck/examples_i386/ConsensusClusterPlus-Ex.timings

nameusersystemelapsed
ConsensusClusterPlus1.220.061.28

ConsensusClusterPlus.Rcheck/examples_x64/ConsensusClusterPlus-Ex.timings

nameusersystemelapsed
ConsensusClusterPlus1.310.021.33