Back to Multiple platform build/check report for BioC 3.14
AB[C]DEFGHIJKLMNOPQRSTUVWXYZ

This page was generated on 2021-12-01 17:18:14 -0500 (Wed, 01 Dec 2021).

BUILD results for ConsensusClusterPlus on machv2

To the developers/maintainers of the ConsensusClusterPlus package:
- Please allow up to 24 hours (and sometimes 48 hours) for your latest push to git@git.bioconductor.org:packages/ConsensusClusterPlus.git to
reflect on this report. See How and When does the builder pull? When will my changes propagate? here for more information.
- Make sure to use the following settings in order to reproduce any error or warning you see on this page.

raw results

Package 386/2083HostnameOS / ArchINSTALLBUILDCHECKBUILD BIN
ConsensusClusterPlus 1.58.0  (landing page)
Matt Wilkerson
Snapshot Date: 2021-11-30 04:15:05 -0500 (Tue, 30 Nov 2021)
git_url: https://git.bioconductor.org/packages/ConsensusClusterPlus
git_branch: RELEASE_3_14
git_last_commit: d8131dd
git_last_commit_date: 2021-10-26 11:55:20 -0500 (Tue, 26 Oct 2021)
nebbiolo2Linux (Ubuntu 20.04.3 LTS) / x86_64  OK    OK    OK  UNNEEDED, same version is already published
tokay2Windows Server 2012 R2 Standard / x64  OK    OK    OK    OK  UNNEEDED, same version is already published
machv2macOS 10.14.6 Mojave / x86_64  OK    OK    OK    OK  UNNEEDED, same version is already published

Summary

Package: ConsensusClusterPlus
Version: 1.58.0
Command: /Library/Frameworks/R.framework/Resources/bin/R CMD build --keep-empty-dirs --no-resave-data ConsensusClusterPlus
StartedAt: 2021-11-30 08:30:56 -0500 (Tue, 30 Nov 2021)
EndedAt: 2021-11-30 08:31:13 -0500 (Tue, 30 Nov 2021)
EllapsedTime: 17.5 seconds
RetCode: 0
Status:   OK  
PackageFile: ConsensusClusterPlus_1.58.0.tar.gz
PackageFileSize: 284.8 KiB

Command output

##############################################################################
##############################################################################
###
### Running command:
###
###   /Library/Frameworks/R.framework/Resources/bin/R CMD build --keep-empty-dirs --no-resave-data ConsensusClusterPlus
###
##############################################################################
##############################################################################


* checking for file ‘ConsensusClusterPlus/DESCRIPTION’ ... OK
* preparing ‘ConsensusClusterPlus’:
* checking DESCRIPTION meta-information ... OK
* installing the package to build vignettes
* creating vignettes ... OK
* checking for LF line-endings in source and make files and shell scripts
* checking for empty or unneeded directories
* building ‘ConsensusClusterPlus_1.58.0.tar.gz’