Back to Multiple platform build/check report for BioC 3.14
AB[C]DEFGHIJKLMNOPQRSTUVWXYZ

This page was generated on 2022-04-13 12:06:22 -0400 (Wed, 13 Apr 2022).

HostnameOSArch (*)R versionInstalled pkgs
nebbiolo2Linux (Ubuntu 20.04.4 LTS)x86_644.1.3 (2022-03-10) -- "One Push-Up" 4324
tokay2Windows Server 2012 R2 Standardx644.1.3 (2022-03-10) -- "One Push-Up" 4077
machv2macOS 10.14.6 Mojavex86_644.1.3 (2022-03-10) -- "One Push-Up" 4137
Click on any hostname to see more info about the system (e.g. compilers)      (*) as reported by 'uname -p', except on Windows and Mac OS X

BUILD results for Cogito on tokay2


To the developers/maintainers of the Cogito package:
- Please allow up to 24 hours (and sometimes 48 hours) for your latest push to git@git.bioconductor.org:packages/Cogito.git to
reflect on this report. See How and When does the builder pull? When will my changes propagate? for more information.
- Make sure to use the following settings in order to reproduce any error or warning you see on this page.

raw results

Package 370/2083HostnameOS / ArchINSTALLBUILDCHECKBUILD BIN
Cogito 1.0.0  (landing page)
Annika B├╝rger
Snapshot Date: 2022-04-12 01:55:07 -0400 (Tue, 12 Apr 2022)
git_url: https://git.bioconductor.org/packages/Cogito
git_branch: RELEASE_3_14
git_last_commit: 3eb15c7
git_last_commit_date: 2021-10-26 13:13:23 -0400 (Tue, 26 Oct 2021)
nebbiolo2Linux (Ubuntu 20.04.4 LTS) / x86_64  OK    OK    OK  UNNEEDED, same version is already published
tokay2Windows Server 2012 R2 Standard / x64  OK    OK    OK    OK  UNNEEDED, same version is already published
machv2macOS 10.14.6 Mojave / x86_64  OK    OK    OK    OK  UNNEEDED, same version is already published

Summary

Package: Cogito
Version: 1.0.0
Command: chmod a+r Cogito -R && C:\Users\biocbuild\bbs-3.14-bioc\R\bin\R.exe CMD build --keep-empty-dirs --no-resave-data Cogito
StartedAt: 2022-04-12 09:07:49 -0400 (Tue, 12 Apr 2022)
EndedAt: 2022-04-12 09:09:10 -0400 (Tue, 12 Apr 2022)
EllapsedTime: 80.5 seconds
RetCode: 0
Status:   OK  
PackageFile: Cogito_1.0.0.tar.gz
PackageFileSize: 867.7 KiB

Command output

##############################################################################
##############################################################################
###
### Running command:
###
###   chmod a+r Cogito -R && C:\Users\biocbuild\bbs-3.14-bioc\R\bin\R.exe CMD build --keep-empty-dirs --no-resave-data Cogito
###
##############################################################################
##############################################################################


* checking for file 'Cogito/DESCRIPTION' ... OK
* preparing 'Cogito':
* checking DESCRIPTION meta-information ... OK
* installing the package to build vignettes
* creating vignettes ... OK
* checking for LF line-endings in source and make files and shell scripts
* checking for empty or unneeded directories
* building 'Cogito_1.0.0.tar.gz'