Back to Multiple platform build/check report for BioC 3.14
AB[C]DEFGHIJKLMNOPQRSTUVWXYZ

This page was generated on 2022-01-26 13:06:23 -0500 (Wed, 26 Jan 2022).

HostnameOSArch (*)R versionInstalled pkgs
nebbiolo2Linux (Ubuntu 20.04.4 LTS)x86_644.1.2 (2021-11-01) -- "Bird Hippie" 4329
tokay2Windows Server 2012 R2 Standardx644.1.2 (2021-11-01) -- "Bird Hippie" 4080
machv2macOS 10.14.6 Mojavex86_644.1.2 (2021-11-01) -- "Bird Hippie" 4141
Click on any hostname to see more info about the system (e.g. compilers)      (*) as reported by 'uname -p', except on Windows and Mac OS X

CHECK results for CoCiteStats on tokay2


To the developers/maintainers of the CoCiteStats package:
- Please allow up to 24 hours (and sometimes 48 hours) for your latest push to git@git.bioconductor.org:packages/CoCiteStats.git to
reflect on this report. See How and When does the builder pull? When will my changes propagate? here for more information.
- Make sure to use the following settings in order to reproduce any error or warning you see on this page.

raw results

Package 363/2083HostnameOS / ArchINSTALLBUILDCHECKBUILD BIN
CoCiteStats 1.66.0  (landing page)
Bioconductor Package Maintainer
Snapshot Date: 2022-01-25 01:55:07 -0500 (Tue, 25 Jan 2022)
git_url: https://git.bioconductor.org/packages/CoCiteStats
git_branch: RELEASE_3_14
git_last_commit: f43f5f0
git_last_commit_date: 2021-10-26 11:47:37 -0500 (Tue, 26 Oct 2021)
nebbiolo2Linux (Ubuntu 20.04.4 LTS) / x86_64  OK    OK    OK  UNNEEDED, same version is already published
tokay2Windows Server 2012 R2 Standard / x64  OK    OK    OK    OK  UNNEEDED, same version is already published
machv2macOS 10.14.6 Mojave / x86_64  OK    OK    OK    OK  UNNEEDED, same version is already published

Summary

Package: CoCiteStats
Version: 1.66.0
Command: C:\Users\biocbuild\bbs-3.14-bioc\R\bin\R.exe CMD check --force-multiarch --install=check:CoCiteStats.install-out.txt --library=C:\Users\biocbuild\bbs-3.14-bioc\R\library --no-vignettes --timings CoCiteStats_1.66.0.tar.gz
StartedAt: 2022-01-25 17:38:31 -0500 (Tue, 25 Jan 2022)
EndedAt: 2022-01-25 17:44:38 -0500 (Tue, 25 Jan 2022)
EllapsedTime: 366.6 seconds
RetCode: 0
Status:   OK  
CheckDir: CoCiteStats.Rcheck
Warnings: 0

Command output

##############################################################################
##############################################################################
###
### Running command:
###
###   C:\Users\biocbuild\bbs-3.14-bioc\R\bin\R.exe CMD check --force-multiarch --install=check:CoCiteStats.install-out.txt --library=C:\Users\biocbuild\bbs-3.14-bioc\R\library --no-vignettes --timings CoCiteStats_1.66.0.tar.gz
###
##############################################################################
##############################################################################


* using log directory 'C:/Users/biocbuild/bbs-3.14-bioc/meat/CoCiteStats.Rcheck'
* using R version 4.1.2 (2021-11-01)
* using platform: x86_64-w64-mingw32 (64-bit)
* using session charset: ISO8859-1
* using option '--no-vignettes'
* checking for file 'CoCiteStats/DESCRIPTION' ... OK
* this is package 'CoCiteStats' version '1.66.0'
* checking package namespace information ... OK
* checking package dependencies ... OK
* checking if this is a source package ... OK
* checking if there is a namespace ... OK
* checking for hidden files and directories ... OK
* checking for portable file names ... OK
* checking whether package 'CoCiteStats' can be installed ... OK
* checking installed package size ... OK
* checking package directory ... OK
* checking DESCRIPTION meta-information ... NOTE
Malformed Title field: should not end in a period.
* checking top-level files ... OK
* checking for left-over files ... OK
* checking index information ... OK
* checking package subdirectories ... OK
* checking R files for non-ASCII characters ... OK
* checking R files for syntax errors ... OK
* loading checks for arch 'i386'
** checking whether the package can be loaded ... OK
** checking whether the package can be loaded with stated dependencies ... OK
** checking whether the package can be unloaded cleanly ... OK
** checking whether the namespace can be loaded with stated dependencies ... OK
** checking whether the namespace can be unloaded cleanly ... OK
* loading checks for arch 'x64'
** checking whether the package can be loaded ... OK
** checking whether the package can be loaded with stated dependencies ... OK
** checking whether the package can be unloaded cleanly ... OK
** checking whether the namespace can be loaded with stated dependencies ... OK
** checking whether the namespace can be unloaded cleanly ... OK
* checking dependencies in R code ... NOTE
Package in Depends field not imported from: 'org.Hs.eg.db'
  These packages need to be imported from (in the NAMESPACE file)
  for when this namespace is loaded but not attached.
* checking S3 generic/method consistency ... OK
* checking replacement functions ... OK
* checking foreign function calls ... OK
* checking R code for possible problems ... NOTE
gene.geneslist.sig: no visible global function definition for 'Lkeys'
gene.geneslist.sig: no visible binding for global variable
  'org.Hs.egPMID'
paperLen: no visible global function definition for 'toTable'
paperLen: no visible binding for global variable 'org.Hs.egPMID'
paperLen: no visible global function definition for 'nhit'
paperLen: no visible global function definition for 'revmap'
Undefined global functions or variables:
  Lkeys nhit org.Hs.egPMID revmap toTable
* checking Rd files ... NOTE
prepare_Rd: gene.geneslist.statistic.Rd:19-21: Dropping empty section \details
* checking Rd metadata ... OK
* checking Rd cross-references ... OK
* checking for missing documentation entries ... OK
* checking for code/documentation mismatches ... OK
* checking Rd \usage sections ... OK
* checking Rd contents ... OK
* checking for unstated dependencies in examples ... OK
* checking examples ...
** running examples for arch 'i386' ... OK
Examples with CPU (user + system) or elapsed time > 5s
                          user system elapsed
actorAdjTable            18.65   7.25   34.36
gene.geneslist.sig       19.66   0.07   19.72
gene.gene.statistic      14.08   0.31   14.39
gene.geneslist.statistic 14.12   0.09   14.22
twowayTable              13.27   0.00   13.26
paperLen                 11.80   0.13   11.92
twTStats                 11.56   0.09   11.66
** running examples for arch 'x64' ... OK
Examples with CPU (user + system) or elapsed time > 5s
                          user system elapsed
actorAdjTable            19.02   6.55   25.60
gene.geneslist.sig       20.61   0.18   20.84
gene.gene.statistic      15.80   0.17   15.96
gene.geneslist.statistic 13.85   0.05   13.96
paperLen                 12.39   0.03   12.42
twTStats                 12.02   0.02   12.04
twowayTable              11.93   0.06   12.01
* checking PDF version of manual ... OK
* DONE

Status: 4 NOTEs
See
  'C:/Users/biocbuild/bbs-3.14-bioc/meat/CoCiteStats.Rcheck/00check.log'
for details.



Installation output

CoCiteStats.Rcheck/00install.out

##############################################################################
##############################################################################
###
### Running command:
###
###   C:\cygwin\bin\curl.exe -O http://155.52.207.166/BBS/3.14/bioc/src/contrib/CoCiteStats_1.66.0.tar.gz && rm -rf CoCiteStats.buildbin-libdir && mkdir CoCiteStats.buildbin-libdir && C:\Users\biocbuild\bbs-3.14-bioc\R\bin\R.exe CMD INSTALL --merge-multiarch --build --library=CoCiteStats.buildbin-libdir CoCiteStats_1.66.0.tar.gz && C:\Users\biocbuild\bbs-3.14-bioc\R\bin\R.exe CMD INSTALL CoCiteStats_1.66.0.zip && rm CoCiteStats_1.66.0.tar.gz CoCiteStats_1.66.0.zip
###
##############################################################################
##############################################################################


  % Total    % Received % Xferd  Average Speed   Time    Time     Time  Current
                                 Dload  Upload   Total   Spent    Left  Speed

  0     0    0     0    0     0      0      0 --:--:-- --:--:-- --:--:--     0
100  5351  100  5351    0     0  66161      0 --:--:-- --:--:-- --:--:-- 66887

install for i386

* installing *source* package 'CoCiteStats' ...
** using staged installation
** R
** byte-compile and prepare package for lazy loading
** help
*** installing help indices
  converting help for package 'CoCiteStats'
    finding HTML links ... done
    actorAdjTable                           html  
    gene.gene.statistic                     html  
    gene.geneslist.sig                      html  
    gene.geneslist.statistic                html  
    paperLen                                html  
    twTStats                                html  
    twowayTable                             html  
** building package indices
** testing if installed package can be loaded from temporary location
** testing if installed package can be loaded from final location
** testing if installed package keeps a record of temporary installation path

install for x64

* installing *source* package 'CoCiteStats' ...
** testing if installed package can be loaded
* MD5 sums
packaged installation of 'CoCiteStats' as CoCiteStats_1.66.0.zip
* DONE (CoCiteStats)
* installing to library 'C:/Users/biocbuild/bbs-3.14-bioc/R/library'
package 'CoCiteStats' successfully unpacked and MD5 sums checked

Tests output


Example timings

CoCiteStats.Rcheck/examples_i386/CoCiteStats-Ex.timings

nameusersystemelapsed
actorAdjTable18.65 7.2534.36
gene.gene.statistic14.08 0.3114.39
gene.geneslist.sig19.66 0.0719.72
gene.geneslist.statistic14.12 0.0914.22
paperLen11.80 0.1311.92
twTStats11.56 0.0911.66
twowayTable13.27 0.0013.26

CoCiteStats.Rcheck/examples_x64/CoCiteStats-Ex.timings

nameusersystemelapsed
actorAdjTable19.02 6.5525.60
gene.gene.statistic15.80 0.1715.96
gene.geneslist.sig20.61 0.1820.84
gene.geneslist.statistic13.85 0.0513.96
paperLen12.39 0.0312.42
twTStats12.02 0.0212.04
twowayTable11.93 0.0612.01