Back to Multiple platform build/check report for BioC 3.14
AB[C]DEFGHIJKLMNOPQRSTUVWXYZ

This page was generated on 2022-01-17 13:06:03 -0500 (Mon, 17 Jan 2022).

HostnameOSArch (*)R versionInstalled pkgs
nebbiolo2Linux (Ubuntu 20.04.4 LTS)x86_644.1.2 (2021-11-01) -- "Bird Hippie" 4328
tokay2Windows Server 2012 R2 Standardx644.1.2 (2021-11-01) -- "Bird Hippie" 4077
machv2macOS 10.14.6 Mojavex86_644.1.2 (2021-11-01) -- "Bird Hippie" 4138
Click on any hostname to see more info about the system (e.g. compilers)      (*) as reported by 'uname -p', except on Windows and Mac OS X

INSTALL results for ClassifyR on tokay2


To the developers/maintainers of the ClassifyR package:
- Please allow up to 24 hours (and sometimes 48 hours) for your latest push to git@git.bioconductor.org:packages/ClassifyR.git to
reflect on this report. See How and When does the builder pull? When will my changes propagate? here for more information.
- Make sure to use the following settings in order to reproduce any error or warning you see on this page.

raw results

Package 324/2083HostnameOS / ArchINSTALLBUILDCHECKBUILD BIN
ClassifyR 2.14.0  (landing page)
Dario Strbenac
Snapshot Date: 2022-01-16 01:55:05 -0500 (Sun, 16 Jan 2022)
git_url: https://git.bioconductor.org/packages/ClassifyR
git_branch: RELEASE_3_14
git_last_commit: 133d20a
git_last_commit_date: 2021-10-26 12:15:09 -0500 (Tue, 26 Oct 2021)
nebbiolo2Linux (Ubuntu 20.04.4 LTS) / x86_64  OK    OK    OK  UNNEEDED, same version is already published
tokay2Windows Server 2012 R2 Standard / x64  OK    OK    OK    OK  UNNEEDED, same version is already published
machv2macOS 10.14.6 Mojave / x86_64  OK    OK    OK    OK  UNNEEDED, same version is already published

Summary

Package: ClassifyR
Version: 2.14.0
Command: C:\cygwin\bin\curl.exe -O http://155.52.207.166/BBS/3.14/bioc/src/contrib/ClassifyR_2.14.0.tar.gz && rm -rf ClassifyR.buildbin-libdir && mkdir ClassifyR.buildbin-libdir && C:\Users\biocbuild\bbs-3.14-bioc\R\bin\R.exe CMD INSTALL --merge-multiarch --build --library=ClassifyR.buildbin-libdir ClassifyR_2.14.0.tar.gz && C:\Users\biocbuild\bbs-3.14-bioc\R\bin\R.exe CMD INSTALL ClassifyR_2.14.0.zip && rm ClassifyR_2.14.0.tar.gz ClassifyR_2.14.0.zip
StartedAt: 2022-01-16 06:42:58 -0500 (Sun, 16 Jan 2022)
EndedAt: 2022-01-16 06:46:40 -0500 (Sun, 16 Jan 2022)
EllapsedTime: 222.2 seconds
RetCode: 0
Status:   OK  

Command output

##############################################################################
##############################################################################
###
### Running command:
###
###   C:\cygwin\bin\curl.exe -O http://155.52.207.166/BBS/3.14/bioc/src/contrib/ClassifyR_2.14.0.tar.gz && rm -rf ClassifyR.buildbin-libdir && mkdir ClassifyR.buildbin-libdir && C:\Users\biocbuild\bbs-3.14-bioc\R\bin\R.exe CMD INSTALL --merge-multiarch --build --library=ClassifyR.buildbin-libdir ClassifyR_2.14.0.tar.gz && C:\Users\biocbuild\bbs-3.14-bioc\R\bin\R.exe CMD INSTALL ClassifyR_2.14.0.zip && rm ClassifyR_2.14.0.tar.gz ClassifyR_2.14.0.zip
###
##############################################################################
##############################################################################


  % Total    % Received % Xferd  Average Speed   Time    Time     Time  Current
                                 Dload  Upload   Total   Spent    Left  Speed

  0     0    0     0    0     0      0      0 --:--:-- --:--:-- --:--:--     0
  1 1011k    1 12176    0     0   201k      0  0:00:05 --:--:--  0:00:05  201k
100 1011k  100 1011k    0     0  3505k      0 --:--:-- --:--:-- --:--:-- 3500k

install for i386

* installing *source* package 'ClassifyR' ...
** using staged installation
** R
** data
** inst
** byte-compile and prepare package for lazy loading
** help
*** installing help indices
  converting help for package 'ClassifyR'
    finding HTML links ... done
    ClassifyResult-class                    html  
    finding level-2 HTML links ... done

    DLDAinterface                           html  
    DMDselection                            html  
    EasyHardClassifier-class                html  
    FeatureSetCollection-class              html  
    FeatureSetCollectionOrNULL-class        html  
    KolmogorovSmirnovSelection              html  
    KullbackLeiblerSelection                html  
    MixModelsListsSet-class                 html  
    NSCpredictInterface                     html  
    NSCselectionInterface                   html  
    NSCtrainInterface                       html  
    PredictParams-class                     html  
    ROCplot                                 html  
    ResubstituteParams-class                html  
    SVMinterface                            html  
    SelectParams-class                      html  
    SelectResult-class                      html  
    TrainParams-class                       html  
    TransformParams-class                   html  
    asthmaDataset                           html  
    bartlettSelection                       html  
    calcPerformance                         html  
    characterOrDataFrame-class              html  
    classifyInterface                       html  
    differentMeansSelection                 html  
    distribution                            html  
    dlda-class                              html  
    easyHardClassifier                      html  
REDIRECT:topic	 Previous alias or file overwritten by alias: C:/Users/biocbuild/bbs-3.14-bioc/meat/ClassifyR.buildbin-libdir/00LOCK-ClassifyR/00new/ClassifyR/help/easyHardClassifier.html
    easyHardFeatures                        html  
    edgeRselection                          html  
    edgesToHubNetworks                      html  
    elasticNetFeatures                      html  
    elasticNetGLMinterface                  html  
    featureSetSummary                       html  
    fisherDiscriminant                      html  
    forestFeatures                          html  
    functionOrList-class                    html  
    functionOrNULL-class                    html  
    getLocationsAndScales                   html  
    integerOrNumeric-class                  html  
    interactorDifferences                   html  
    kTSPclassifier                          html  
    knnInterface                            html  
    leveneSelection                         html  
    likelihoodRatioSelection                html  
    limmaSelection                          html  
    listOrCharacterOrNULL-class             html  
    listOrNULL-class                        html  
    mixmodels                               html  
    multnet-class                           html  
    naiveBayesKernel                        html  
    networkCorrelationsSelection            html  
    pairsDifferencesSelection               html  
    pamrtrained-class                       html  
    performancePlot                         html  
    plotFeatureClasses                      html  
    previousSelection                       html  
    previousTrained                         html  
    randomForest-class                      html  
    randomForestInterface                   html  
    rankingPlot                             html  
    runTest                                 html  
    runTests                                html  
    samplesMetricMap                        html  
    selectionPlot                           html  
    subtractFromLocation                    html  
    svm-class                               html  
** building package indices
** installing vignettes
** testing if installed package can be loaded from temporary location
** testing if installed package can be loaded from final location
** testing if installed package keeps a record of temporary installation path

install for x64

* installing *source* package 'ClassifyR' ...
** testing if installed package can be loaded
* MD5 sums
packaged installation of 'ClassifyR' as ClassifyR_2.14.0.zip
* DONE (ClassifyR)
* installing to library 'C:/Users/biocbuild/bbs-3.14-bioc/R/library'
package 'ClassifyR' successfully unpacked and MD5 sums checked