Back to Multiple platform build/check report for BioC 3.14
AB[C]DEFGHIJKLMNOPQRSTUVWXYZ

This page was generated on 2022-01-19 13:06:22 -0500 (Wed, 19 Jan 2022).

HostnameOSArch (*)R versionInstalled pkgs
nebbiolo2Linux (Ubuntu 20.04.4 LTS)x86_644.1.2 (2021-11-01) -- "Bird Hippie" 4328
tokay2Windows Server 2012 R2 Standardx644.1.2 (2021-11-01) -- "Bird Hippie" 4077
machv2macOS 10.14.6 Mojavex86_644.1.2 (2021-11-01) -- "Bird Hippie" 4138
Click on any hostname to see more info about the system (e.g. compilers)      (*) as reported by 'uname -p', except on Windows and Mac OS X

INSTALL results for ChromHeatMap on tokay2


To the developers/maintainers of the ChromHeatMap package:
- Please allow up to 24 hours (and sometimes 48 hours) for your latest push to git@git.bioconductor.org:packages/ChromHeatMap.git to
reflect on this report. See How and When does the builder pull? When will my changes propagate? here for more information.
- Make sure to use the following settings in order to reproduce any error or warning you see on this page.

raw results

Package 311/2083HostnameOS / ArchINSTALLBUILDCHECKBUILD BIN
ChromHeatMap 1.48.0  (landing page)
Tim F. Rayner
Snapshot Date: 2022-01-18 01:55:07 -0500 (Tue, 18 Jan 2022)
git_url: https://git.bioconductor.org/packages/ChromHeatMap
git_branch: RELEASE_3_14
git_last_commit: 488d509
git_last_commit_date: 2021-10-26 11:54:52 -0500 (Tue, 26 Oct 2021)
nebbiolo2Linux (Ubuntu 20.04.4 LTS) / x86_64  OK    OK    OK  UNNEEDED, same version is already published
tokay2Windows Server 2012 R2 Standard / x64  OK    OK    OK    OK  UNNEEDED, same version is already published
machv2macOS 10.14.6 Mojave / x86_64  OK    OK    OK    OK  UNNEEDED, same version is already published

Summary

Package: ChromHeatMap
Version: 1.48.0
Command: C:\cygwin\bin\curl.exe -O http://155.52.207.166/BBS/3.14/bioc/src/contrib/ChromHeatMap_1.48.0.tar.gz && rm -rf ChromHeatMap.buildbin-libdir && mkdir ChromHeatMap.buildbin-libdir && C:\Users\biocbuild\bbs-3.14-bioc\R\bin\R.exe CMD INSTALL --merge-multiarch --build --library=ChromHeatMap.buildbin-libdir ChromHeatMap_1.48.0.tar.gz && C:\Users\biocbuild\bbs-3.14-bioc\R\bin\R.exe CMD INSTALL ChromHeatMap_1.48.0.zip && rm ChromHeatMap_1.48.0.tar.gz ChromHeatMap_1.48.0.zip
StartedAt: 2022-01-18 06:37:29 -0500 (Tue, 18 Jan 2022)
EndedAt: 2022-01-18 06:39:00 -0500 (Tue, 18 Jan 2022)
EllapsedTime: 90.4 seconds
RetCode: 0
Status:   OK  

Command output

##############################################################################
##############################################################################
###
### Running command:
###
###   C:\cygwin\bin\curl.exe -O http://155.52.207.166/BBS/3.14/bioc/src/contrib/ChromHeatMap_1.48.0.tar.gz && rm -rf ChromHeatMap.buildbin-libdir && mkdir ChromHeatMap.buildbin-libdir && C:\Users\biocbuild\bbs-3.14-bioc\R\bin\R.exe CMD INSTALL --merge-multiarch --build --library=ChromHeatMap.buildbin-libdir ChromHeatMap_1.48.0.tar.gz && C:\Users\biocbuild\bbs-3.14-bioc\R\bin\R.exe CMD INSTALL ChromHeatMap_1.48.0.zip && rm ChromHeatMap_1.48.0.tar.gz ChromHeatMap_1.48.0.zip
###
##############################################################################
##############################################################################


  % Total    % Received % Xferd  Average Speed   Time    Time     Time  Current
                                 Dload  Upload   Total   Spent    Left  Speed

  0     0    0     0    0     0      0      0 --:--:-- --:--:-- --:--:--     0
100  112k  100  112k    0     0   843k      0 --:--:-- --:--:-- --:--:--  852k

install for i386

* installing *source* package 'ChromHeatMap' ...
** using staged installation
** R
** data
** byte-compile and prepare package for lazy loading
** help
*** installing help indices
  converting help for package 'ChromHeatMap'
    finding HTML links ... done
    ALLs.chr22                              html  
    ChrMapPlot-class                        html  
    ChrStrandData-class                     html  
    ChrStrandMatrix-class                   html  
    chrHeatMap                              html  
    chrNames                                html  
    chrdata                                 html  
    createChrMatrix                         html  
    cytobands                               html  
    drawMapDendro                           html  
    grabChrMapProbes                        html  
    makeChrStrandData-methods               html  
    makeChrStrandData                       html  
    makeRangedDataList                      html  
    plotChrMap                              html  
    stains                                  html  
    strandName                              html  
** building package indices
** installing vignettes
** testing if installed package can be loaded from temporary location
** testing if installed package can be loaded from final location
** testing if installed package keeps a record of temporary installation path

install for x64

* installing *source* package 'ChromHeatMap' ...
** testing if installed package can be loaded
* MD5 sums
packaged installation of 'ChromHeatMap' as ChromHeatMap_1.48.0.zip
* DONE (ChromHeatMap)
* installing to library 'C:/Users/biocbuild/bbs-3.14-bioc/R/library'
package 'ChromHeatMap' successfully unpacked and MD5 sums checked