Index of /checkResults/3.14/bioc-LATEST/ChromHeatMap/raw-results

[ICO]NameLast modifiedSizeDescription

[DIR]Parent Directory  -  
[   ]info.dcf27-Jan-2022 03:07 280  
[DIR]machv2/27-Jan-2022 03:07 -  
[DIR]nebbiolo2/27-Jan-2022 03:05 -  
[DIR]tokay2/27-Jan-2022 03:06 -