Back to Multiple platform build/check report for BioC 3.14
AB[C]DEFGHIJKLMNOPQRSTUVWXYZ

This page was generated on 2022-01-14 13:06:09 -0500 (Fri, 14 Jan 2022).

HostnameOSArch (*)R versionInstalled pkgs
nebbiolo2Linux (Ubuntu 20.04.4 LTS)x86_644.1.2 (2021-11-01) -- "Bird Hippie" 4327
tokay2Windows Server 2012 R2 Standardx644.1.2 (2021-11-01) -- "Bird Hippie" 4076
machv2macOS 10.14.6 Mojavex86_644.1.2 (2021-11-01) -- "Bird Hippie" 4137
Click on any hostname to see more info about the system (e.g. compilers)      (*) as reported by 'uname -p', except on Windows and Mac OS X

BUILD BIN results for ChIPseeker on tokay2


To the developers/maintainers of the ChIPseeker package:
- Please allow up to 24 hours (and sometimes 48 hours) for your latest push to git@git.bioconductor.org:packages/ChIPseeker.git to
reflect on this report. See How and When does the builder pull? When will my changes propagate? here for more information.
- Make sure to use the following settings in order to reproduce any error or warning you see on this page.

raw results

Package 304/2083HostnameOS / ArchINSTALLBUILDCHECKBUILD BIN
ChIPseeker 1.30.3  (landing page)
Guangchuang Yu
Snapshot Date: 2022-01-13 01:55:04 -0500 (Thu, 13 Jan 2022)
git_url: https://git.bioconductor.org/packages/ChIPseeker
git_branch: RELEASE_3_14
git_last_commit: cce74f0
git_last_commit_date: 2021-12-15 23:08:50 -0500 (Wed, 15 Dec 2021)
nebbiolo2Linux (Ubuntu 20.04.4 LTS) / x86_64  OK    OK    OK  UNNEEDED, same version is already published
tokay2Windows Server 2012 R2 Standard / x64  OK    OK    OK    OK  UNNEEDED, same version is already published
machv2macOS 10.14.6 Mojave / x86_64  OK    OK    OK    OK  UNNEEDED, same version is already published

Summary

Package: ChIPseeker
Version: 1.30.3
Command: rm -rf ChIPseeker.buildbin-libdir && mkdir ChIPseeker.buildbin-libdir && C:\Users\biocbuild\bbs-3.14-bioc\R\bin\R.exe CMD INSTALL --merge-multiarch --build --library=ChIPseeker.buildbin-libdir ChIPseeker_1.30.3.tar.gz
StartedAt: 2022-01-14 05:14:41 -0500 (Fri, 14 Jan 2022)
EndedAt: 2022-01-14 05:16:18 -0500 (Fri, 14 Jan 2022)
EllapsedTime: 97.0 seconds
RetCode: 0
Status:   OK  
PackageFile: ChIPseeker_1.30.3.zip
PackageFileSize: 6.436 MiB

Command output

##############################################################################
##############################################################################
###
### Running command:
###
###   rm -rf ChIPseeker.buildbin-libdir && mkdir ChIPseeker.buildbin-libdir && C:\Users\biocbuild\bbs-3.14-bioc\R\bin\R.exe CMD INSTALL --merge-multiarch --build --library=ChIPseeker.buildbin-libdir ChIPseeker_1.30.3.tar.gz
###
##############################################################################
##############################################################################



install for i386

* installing *source* package 'ChIPseeker' ...
** using staged installation
** R
** data
** inst
** byte-compile and prepare package for lazy loading
** help
*** installing help indices
  converting help for package 'ChIPseeker'
    finding HTML links ... done
    ChIPseeker-package                      html  
    annotatePeak                            html  
    as.GRanges                              html  
    as.data.frame.csAnno                    html  
    check_upstream_and_downstream           html  
    combine_csAnno                          html  
    covplot                                 html  
    csAnno-class                            html  
    dotFun                                  html  
    downloadGEObedFiles                     html  
    downloadGSMbedFiles                     html  
    dropAnno                                html  
    enrichAnnoOverlap                       html  
    enrichPeakOverlap                       html  
    getBioRegion                            html  
    getGEOInfo                              html  
    getGEOgenomeVersion                     html  
    getGEOspecies                           html  
    getGeneAnno                             html  
    getGenomicAnnotation                    html  
    getNearestFeatureIndicesAndDistances    html  
    getPromoters                            html  
    getSampleFiles                          html  
    getTagMatrix                            html  
    getTagMatrix.binning.internal           html  
    getTagMatrix.internal                   html  
    info                                    html  
    overlap                                 html  
    peakHeatmap                             html  
    plotAnnoBar-methods                     html  
    plotAnnoBar                             html  
    plotAnnoPie-methods                     html  
    plotAnnoPie                             html  
    plotAvgProf                             html  
    plotAvgProf.binning                     html  
    plotAvgProf2                            html  
    plotDistToTSS-methods                   html  
    plotDistToTSS.data.frame                html  
    plotPeakProf                            html  
    plotPeakProf2                           html  
    readPeakFile                            html  
    reexports                               html  
    seq2gene                                html  
    show-methods                            html  
    shuffle                                 html  
    tagHeatmap                              html  
    upsetplot-methods                       html  
    vennpie-methods                         html  
    vennplot                                html  
    vennplot.peakfile                       html  
** building package indices
** installing vignettes
** testing if installed package can be loaded from temporary location
** testing if installed package can be loaded from final location
** testing if installed package keeps a record of temporary installation path

install for x64

* installing *source* package 'ChIPseeker' ...
** testing if installed package can be loaded
* MD5 sums
packaged installation of 'ChIPseeker' as ChIPseeker_1.30.3.zip
* DONE (ChIPseeker)