Back to Multiple platform build/check report for BioC 3.14
AB[C]DEFGHIJKLMNOPQRSTUVWXYZ

This page was generated on 2021-11-29 15:04:51 -0500 (Mon, 29 Nov 2021).

BUILD results for ChIPexoQual on nebbiolo2

To the developers/maintainers of the ChIPexoQual package:
- Please allow up to 24 hours (and sometimes 48 hours) for your latest push to git@git.bioconductor.org:packages/ChIPexoQual.git to
reflect on this report. See How and When does the builder pull? When will my changes propagate? here for more information.
- Make sure to use the following settings in order to reproduce any error or warning you see on this page.

raw results

Package 301/2083HostnameOS / ArchINSTALLBUILDCHECKBUILD BIN
ChIPexoQual 1.18.0  (landing page)
Rene Welch
Snapshot Date: 2021-11-28 04:15:06 -0500 (Sun, 28 Nov 2021)
git_url: https://git.bioconductor.org/packages/ChIPexoQual
git_branch: RELEASE_3_14
git_last_commit: 3746d89
git_last_commit_date: 2021-10-26 12:32:36 -0500 (Tue, 26 Oct 2021)
nebbiolo2Linux (Ubuntu 20.04.3 LTS) / x86_64  OK    OK    OK  UNNEEDED, same version is already published
tokay2Windows Server 2012 R2 Standard / x64  OK    OK    OK    OK  UNNEEDED, same version is already published
machv2macOS 10.14.6 Mojave / x86_64  OK    OK    OK    OK  UNNEEDED, same version is already published

Summary

Package: ChIPexoQual
Version: 1.18.0
Command: /home/biocbuild/bbs-3.14-bioc/R/bin/R CMD build --keep-empty-dirs --no-resave-data ChIPexoQual
StartedAt: 2021-11-28 05:59:43 -0500 (Sun, 28 Nov 2021)
EndedAt: 2021-11-28 06:02:23 -0500 (Sun, 28 Nov 2021)
EllapsedTime: 160.0 seconds
RetCode: 0
Status:   OK  
PackageFile: ChIPexoQual_1.18.0.tar.gz
PackageFileSize: 2.245 MiB

Command output

##############################################################################
##############################################################################
###
### Running command:
###
###   /home/biocbuild/bbs-3.14-bioc/R/bin/R CMD build --keep-empty-dirs --no-resave-data ChIPexoQual
###
##############################################################################
##############################################################################


* checking for file ‘ChIPexoQual/DESCRIPTION’ ... OK
* preparing ‘ChIPexoQual’:
* checking DESCRIPTION meta-information ... OK
* installing the package to build vignettes
* creating vignettes ... OK
* checking for LF line-endings in source and make files and shell scripts
* checking for empty or unneeded directories
* looking to see if a ‘data/datalist’ file should be added
* building ‘ChIPexoQual_1.18.0.tar.gz’