Back to Multiple platform build/check report for BioC 3.14
AB[C]DEFGHIJKLMNOPQRSTUVWXYZ

This page was generated on 2021-12-03 13:05:41 -0500 (Fri, 03 Dec 2021).

CHECK results for CellTrails on machv2

To the developers/maintainers of the CellTrails package:
- Please allow up to 24 hours (and sometimes 48 hours) for your latest push to git@git.bioconductor.org:packages/CellTrails.git to
reflect on this report. See How and When does the builder pull? When will my changes propagate? here for more information.
- Make sure to use the following settings in order to reproduce any error or warning you see on this page.

raw results

Package 275/2083HostnameOS / ArchINSTALLBUILDCHECKBUILD BIN
CellTrails 1.12.0  (landing page)
Daniel Ellwanger
Snapshot Date: 2021-12-02 01:55:06 -0500 (Thu, 02 Dec 2021)
git_url: https://git.bioconductor.org/packages/CellTrails
git_branch: RELEASE_3_14
git_last_commit: c5f714a
git_last_commit_date: 2021-10-26 12:45:24 -0500 (Tue, 26 Oct 2021)
nebbiolo2Linux (Ubuntu 20.04.3 LTS) / x86_64  OK    OK    OK  UNNEEDED, same version is already published
tokay2Windows Server 2012 R2 Standard / x64  OK    OK    OK    OK  UNNEEDED, same version is already published
machv2macOS 10.14.6 Mojave / x86_64  OK    OK    OK    OK  UNNEEDED, same version is already published

Summary

Package: CellTrails
Version: 1.12.0
Command: /Library/Frameworks/R.framework/Resources/bin/R CMD check --install=check:CellTrails.install-out.txt --library=/Library/Frameworks/R.framework/Resources/library --no-vignettes --timings CellTrails_1.12.0.tar.gz
StartedAt: 2021-12-02 12:36:39 -0500 (Thu, 02 Dec 2021)
EndedAt: 2021-12-02 12:43:44 -0500 (Thu, 02 Dec 2021)
EllapsedTime: 425.0 seconds
RetCode: 0
Status:   OK  
CheckDir: CellTrails.Rcheck
Warnings: 0

Command output

##############################################################################
##############################################################################
###
### Running command:
###
###   /Library/Frameworks/R.framework/Resources/bin/R CMD check --install=check:CellTrails.install-out.txt --library=/Library/Frameworks/R.framework/Resources/library --no-vignettes --timings CellTrails_1.12.0.tar.gz
###
##############################################################################
##############################################################################


* using log directory ‘/Users/biocbuild/bbs-3.14-bioc/meat/CellTrails.Rcheck’
* using R version 4.1.2 (2021-11-01)
* using platform: x86_64-apple-darwin17.0 (64-bit)
* using session charset: UTF-8
* using option ‘--no-vignettes’
* checking for file ‘CellTrails/DESCRIPTION’ ... OK
* checking extension type ... Package
* this is package ‘CellTrails’ version ‘1.12.0’
* package encoding: UTF-8
* checking package namespace information ... OK
* checking package dependencies ... OK
* checking if this is a source package ... OK
* checking if there is a namespace ... OK
* checking for hidden files and directories ... OK
* checking for portable file names ... OK
* checking for sufficient/correct file permissions ... OK
* checking whether package ‘CellTrails’ can be installed ... OK
* checking installed package size ... OK
* checking package directory ... OK
* checking ‘build’ directory ... OK
* checking DESCRIPTION meta-information ... OK
* checking top-level files ... OK
* checking for left-over files ... OK
* checking index information ... OK
* checking package subdirectories ... OK
* checking R files for non-ASCII characters ... OK
* checking R files for syntax errors ... OK
* checking whether the package can be loaded ... OK
* checking whether the package can be loaded with stated dependencies ... OK
* checking whether the package can be unloaded cleanly ... OK
* checking whether the namespace can be loaded with stated dependencies ... OK
* checking whether the namespace can be unloaded cleanly ... OK
* checking dependencies in R code ... OK
* checking S3 generic/method consistency ... OK
* checking replacement functions ... OK
* checking foreign function calls ... OK
* checking R code for possible problems ... OK
* checking Rd files ... OK
* checking Rd metadata ... OK
* checking Rd cross-references ... OK
* checking for missing documentation entries ... OK
* checking for code/documentation mismatches ... OK
* checking Rd \usage sections ... OK
* checking Rd contents ... OK
* checking for unstated dependencies in examples ... OK
* checking contents of ‘data’ directory ... OK
* checking data for non-ASCII characters ... OK
* checking data for ASCII and uncompressed saves ... OK
* checking sizes of PDF files under ‘inst/doc’ ... OK
* checking files in ‘vignettes’ ... OK
* checking examples ... OK
Examples with CPU (user + system) or elapsed time > 5s
               user system elapsed
plotMap      10.655  0.365  11.038
plotManifold  6.923  0.028   6.956
* checking for unstated dependencies in ‘tests’ ... OK
* checking tests ...
  Running ‘runTests.R’
 OK
* checking for unstated dependencies in vignettes ... OK
* checking package vignettes in ‘inst/doc’ ... OK
* checking running R code from vignettes ... SKIPPED
* checking re-building of vignette outputs ... SKIPPED
* checking PDF version of manual ... OK
* DONE

Status: OK


Installation output

CellTrails.Rcheck/00install.out

##############################################################################
##############################################################################
###
### Running command:
###
###   /Library/Frameworks/R.framework/Resources/bin/R CMD INSTALL CellTrails
###
##############################################################################
##############################################################################


* installing to library ‘/Library/Frameworks/R.framework/Versions/4.1/Resources/library’
* installing *source* package ‘CellTrails’ ...
** using staged installation
** R
** data
** inst
** byte-compile and prepare package for lazy loading
** help
*** installing help indices
** building package indices
** installing vignettes
** testing if installed package can be loaded from temporary location
** testing if installed package can be loaded from final location
** testing if installed package keeps a record of temporary installation path
* DONE (CellTrails)

Tests output

CellTrails.Rcheck/tests/runTests.Rout


R version 4.1.2 (2021-11-01) -- "Bird Hippie"
Copyright (C) 2021 The R Foundation for Statistical Computing
Platform: x86_64-apple-darwin17.0 (64-bit)

R is free software and comes with ABSOLUTELY NO WARRANTY.
You are welcome to redistribute it under certain conditions.
Type 'license()' or 'licence()' for distribution details.

R is a collaborative project with many contributors.
Type 'contributors()' for more information and
'citation()' on how to cite R or R packages in publications.

Type 'demo()' for some demos, 'help()' for on-line help, or
'help.start()' for an HTML browser interface to help.
Type 'q()' to quit R.

> BiocGenerics:::testPackage("CellTrails")

Attaching package: 'MatrixGenerics'

The following objects are masked from 'package:matrixStats':

    colAlls, colAnyNAs, colAnys, colAvgsPerRowSet, colCollapse,
    colCounts, colCummaxs, colCummins, colCumprods, colCumsums,
    colDiffs, colIQRDiffs, colIQRs, colLogSumExps, colMadDiffs,
    colMads, colMaxs, colMeans2, colMedians, colMins, colOrderStats,
    colProds, colQuantiles, colRanges, colRanks, colSdDiffs, colSds,
    colSums2, colTabulates, colVarDiffs, colVars, colWeightedMads,
    colWeightedMeans, colWeightedMedians, colWeightedSds,
    colWeightedVars, rowAlls, rowAnyNAs, rowAnys, rowAvgsPerColSet,
    rowCollapse, rowCounts, rowCummaxs, rowCummins, rowCumprods,
    rowCumsums, rowDiffs, rowIQRDiffs, rowIQRs, rowLogSumExps,
    rowMadDiffs, rowMads, rowMaxs, rowMeans2, rowMedians, rowMins,
    rowOrderStats, rowProds, rowQuantiles, rowRanges, rowRanks,
    rowSdDiffs, rowSds, rowSums2, rowTabulates, rowVarDiffs, rowVars,
    rowWeightedMads, rowWeightedMeans, rowWeightedMedians,
    rowWeightedSds, rowWeightedVars


Attaching package: 'BiocGenerics'

The following objects are masked from 'package:stats':

    IQR, mad, sd, var, xtabs

The following objects are masked from 'package:base':

    Filter, Find, Map, Position, Reduce, anyDuplicated, append,
    as.data.frame, basename, cbind, colnames, dirname, do.call,
    duplicated, eval, evalq, get, grep, grepl, intersect, is.unsorted,
    lapply, mapply, match, mget, order, paste, pmax, pmax.int, pmin,
    pmin.int, rank, rbind, rownames, sapply, setdiff, sort, table,
    tapply, union, unique, unsplit, which.max, which.min


Attaching package: 'S4Vectors'

The following objects are masked from 'package:base':

    I, expand.grid, unname

Welcome to Bioconductor

    Vignettes contain introductory material; view with
    'browseVignettes()'. To cite Bioconductor, see
    'citation("Biobase")', and for packages 'citation("pkgname")'.


Attaching package: 'Biobase'

The following object is masked from 'package:MatrixGenerics':

    rowMedians

The following objects are masked from 'package:matrixStats':

    anyMissing, rowMedians

Computing adjacency matrix ...
Computing spectral embedding ...
Calculating approximation of CellTrails manifold for 2D visualization...
Used tSNE perplexity: 30
Initialized 20 clusters with a minimum size of 1 sample(s) each.
Performing post-hoc test ...
Found 5 states.
Calculating layout of state trajectory graph component 1...
Computing adjacency matrix ...
Computing spectral embedding ...
Calculating approximation of CellTrails manifold for 2D visualization...
Used tSNE perplexity: 30
Initialized 20 clusters with a minimum size of 1 sample(s) each.
Performing post-hoc test ...
Found 5 states.
Calculating layout of state trajectory graph component 1...
Calculating layout of state trajectory graph component 2...
Calculating layout of state trajectory graph component 3...
Calculating layout of state trajectory graph component 4...
Calculating layout of state trajectory graph component 5...
Calculating layout of state trajectory graph component 1...
Computing adjacency matrix ...
Computing spectral embedding ...
Computing adjacency matrix ...
Computing spectral embedding ...
Calculating approximation of CellTrails manifold for 2D visualization...
Used tSNE perplexity: 30
Computing adjacency matrix ...
Computing spectral embedding ...
Calculating approximation of CellTrails manifold for 2D visualization...
Used tSNE perplexity: 30
Initialized 20 clusters with a minimum size of 1 sample(s) each.
Performing post-hoc test ...
Found 1 states.
Initialized 20 clusters with a minimum size of 1 sample(s) each.
Performing post-hoc test ...
Found 1 states.
Initialized 0 clusters with a minimum size of 1000 sample(s) each.
Initialized 20 clusters with a minimum size of 1 sample(s) each.
Performing post-hoc test ...
Found 20 states.
Initialized 20 clusters with a minimum size of 1 sample(s) each.
Performing post-hoc test ...
Found 1 states.
Initialized 20 clusters with a minimum size of 1 sample(s) each.
Performing post-hoc test ...
Found 19 states.
Initialized 20 clusters with a minimum size of 1 sample(s) each.
Performing post-hoc test ...
Found 5 states.
Initialized 20 clusters with a minimum size of 1 sample(s) each.
Performing post-hoc test ...
Found 5 states.
Computing adjacency matrix ...
Computing spectral embedding ...
Calculating approximation of CellTrails manifold for 2D visualization...
Used tSNE perplexity: 30
Initialized 20 clusters with a minimum size of 1 sample(s) each.
Performing post-hoc test ...
Found 5 states.
Calculating layout of state trajectory graph component 1...
Computing adjacency matrix ...
Computing spectral embedding ...
Calculating approximation of CellTrails manifold for 2D visualization...
Used tSNE perplexity: 30
Initialized 20 clusters with a minimum size of 1 sample(s) each.
Performing post-hoc test ...
Found 5 states.
Calculating layout of state trajectory graph component 1...
Computing adjacency matrix ...
Computing spectral embedding ...
Calculating approximation of CellTrails manifold for 2D visualization...
Used tSNE perplexity: 30
Initialized 20 clusters with a minimum size of 1 sample(s) each.
Performing post-hoc test ...
Found 5 states.
Calculating layout of state trajectory graph component 1...
Calculating 2D approximation of CellTrails manifold...
Calculating layout of state trajectory graph component 1...
Calculating layout of state trajectory graph component 2...
Calculating layout of state trajectory graph ...
Computing adjacency matrix ...
Computing spectral embedding ...
Calculating approximation of CellTrails manifold for 2D visualization...
Used tSNE perplexity: 30
Initialized 20 clusters with a minimum size of 1 sample(s) each.
Performing post-hoc test ...
Found 5 states.
Calculating layout of state trajectory graph component 1...


RUNIT TEST PROTOCOL -- Thu Dec  2 12:43:29 2021 
*********************************************** 
Number of test functions: 18 
Number of errors: 0 
Number of failures: 0 

 
1 Test Suite : 
CellTrails RUnit Tests - 18 test functions, 0 errors, 0 failures
Number of test functions: 18 
Number of errors: 0 
Number of failures: 0 
There were 11 warnings (use warnings() to see them)
> 
> proc.time()
   user  system elapsed 
 87.579   0.989  88.626 

Example timings

CellTrails.Rcheck/CellTrails-Ex.timings

nameusersystemelapsed
addTrail1.5120.0121.525
connectStates1.0190.0071.026
contrastTrailExpr0.9040.0120.916
embedSamples1.0480.0341.086
enrichment.test0.0060.0010.007
featureNames-SingleCellExperiment-method0.0350.0040.038
filterTrajFeaturesByCOV4.1650.1114.281
filterTrajFeaturesByDL1.5700.0391.612
filterTrajFeaturesByFF4.5080.1304.644
findSpectrum1.4410.0931.537
findStates3.4210.0313.455
fitDynamic0.7020.0050.709
fitTrajectory1.2560.0081.264
landmarks0.0220.0020.024
latentSpace-set1.4410.0101.453
latentSpace1.0470.0121.060
manifold2D-set3.8790.0213.905
manifold2D0.5580.0080.568
pca0.7610.0080.771
phenoNames0.0280.0030.031
plotDynamic4.0040.0244.034
plotManifold6.9230.0286.956
plotMap10.655 0.36511.038
plotStateExpression1.0170.0151.033
plotStateSize0.1940.0030.197
plotStateTrajectory3.7550.0383.796
plotTrail0.4110.0040.415
plotTrajectoryFit0.3970.0180.416
read.ygraphml0.0170.0030.020
removeTrail0.5700.0170.588
sampleNames-SingleCellExperiment-method0.0400.0030.044
selectTrajectory0.0330.0020.036
showTrajInfo3.2420.0143.258
simulate_exprs0.0020.0000.002
stateTrajLayout-set1.2940.0071.301
states-set0.4220.0040.426
states0.0200.0030.023
trailNames-set0.4450.0040.450
trailNames0.0150.0030.019
trails0.0410.0020.043
trajComponents0.0150.0030.017
trajFeatureNames-set0.0540.0020.056
trajFeatureNames0.0310.0020.033
trajLayout-set2.1970.0112.210
trajLayout0.0240.0020.026
trajResiduals0.0120.0020.014
trajSampleNames0.0380.0030.042
userLandmarks-set1.9740.0081.983
userLandmarks1.0860.0071.094
write.ygraphml0.0190.0030.022