Back to Multiple platform build/check report for BioC 3.14
AB[C]DEFGHIJKLMNOPQRSTUVWXYZ

This page was generated on 2022-01-21 13:06:05 -0500 (Fri, 21 Jan 2022).

HostnameOSArch (*)R versionInstalled pkgs
nebbiolo2Linux (Ubuntu 20.04.4 LTS)x86_644.1.2 (2021-11-01) -- "Bird Hippie" 4329
tokay2Windows Server 2012 R2 Standardx644.1.2 (2021-11-01) -- "Bird Hippie" 4079
machv2macOS 10.14.6 Mojavex86_644.1.2 (2021-11-01) -- "Bird Hippie" 4140
Click on any hostname to see more info about the system (e.g. compilers)      (*) as reported by 'uname -p', except on Windows and Mac OS X

CHECK results for CellScore on tokay2


To the developers/maintainers of the CellScore package:
- Please allow up to 24 hours (and sometimes 48 hours) for your latest push to git@git.bioconductor.org:packages/CellScore.git to
reflect on this report. See How and When does the builder pull? When will my changes propagate? here for more information.
- Make sure to use the following settings in order to reproduce any error or warning you see on this page.

raw results

Package 274/2083HostnameOS / ArchINSTALLBUILDCHECKBUILD BIN
CellScore 1.14.0  (landing page)
Nancy Mah
Snapshot Date: 2022-01-20 01:55:04 -0500 (Thu, 20 Jan 2022)
git_url: https://git.bioconductor.org/packages/CellScore
git_branch: RELEASE_3_14
git_last_commit: f1b13c0
git_last_commit_date: 2021-10-26 12:41:51 -0500 (Tue, 26 Oct 2021)
nebbiolo2Linux (Ubuntu 20.04.4 LTS) / x86_64  OK    OK    OK  UNNEEDED, same version is already published
tokay2Windows Server 2012 R2 Standard / x64  OK    OK    OK    OK  UNNEEDED, same version is already published
machv2macOS 10.14.6 Mojave / x86_64  OK    OK    OK    OK  UNNEEDED, same version is already published

Summary

Package: CellScore
Version: 1.14.0
Command: C:\Users\biocbuild\bbs-3.14-bioc\R\bin\R.exe CMD check --force-multiarch --install=check:CellScore.install-out.txt --library=C:\Users\biocbuild\bbs-3.14-bioc\R\library --no-vignettes --timings CellScore_1.14.0.tar.gz
StartedAt: 2022-01-20 17:16:39 -0500 (Thu, 20 Jan 2022)
EndedAt: 2022-01-20 17:25:19 -0500 (Thu, 20 Jan 2022)
EllapsedTime: 519.8 seconds
RetCode: 0
Status:   OK  
CheckDir: CellScore.Rcheck
Warnings: 0

Command output

##############################################################################
##############################################################################
###
### Running command:
###
###   C:\Users\biocbuild\bbs-3.14-bioc\R\bin\R.exe CMD check --force-multiarch --install=check:CellScore.install-out.txt --library=C:\Users\biocbuild\bbs-3.14-bioc\R\library --no-vignettes --timings CellScore_1.14.0.tar.gz
###
##############################################################################
##############################################################################


* using log directory 'C:/Users/biocbuild/bbs-3.14-bioc/meat/CellScore.Rcheck'
* using R version 4.1.2 (2021-11-01)
* using platform: x86_64-w64-mingw32 (64-bit)
* using session charset: ISO8859-1
* using option '--no-vignettes'
* checking for file 'CellScore/DESCRIPTION' ... OK
* this is package 'CellScore' version '1.14.0'
* package encoding: UTF-8
* checking package namespace information ... OK
* checking package dependencies ... OK
* checking if this is a source package ... OK
* checking if there is a namespace ... OK
* checking for hidden files and directories ... OK
* checking for portable file names ... OK
* checking whether package 'CellScore' can be installed ... OK
* checking installed package size ... OK
* checking package directory ... OK
* checking 'build' directory ... OK
* checking DESCRIPTION meta-information ... OK
* checking top-level files ... OK
* checking for left-over files ... OK
* checking index information ... OK
* checking package subdirectories ... OK
* checking R files for non-ASCII characters ... OK
* checking R files for syntax errors ... OK
* loading checks for arch 'i386'
** checking whether the package can be loaded ... OK
** checking whether the package can be loaded with stated dependencies ... OK
** checking whether the package can be unloaded cleanly ... OK
** checking whether the namespace can be loaded with stated dependencies ... OK
** checking whether the namespace can be unloaded cleanly ... OK
* loading checks for arch 'x64'
** checking whether the package can be loaded ... OK
** checking whether the package can be loaded with stated dependencies ... OK
** checking whether the package can be unloaded cleanly ... OK
** checking whether the namespace can be loaded with stated dependencies ... OK
** checking whether the namespace can be unloaded cleanly ... OK
* checking dependencies in R code ... OK
* checking S3 generic/method consistency ... OK
* checking replacement functions ... OK
* checking foreign function calls ... OK
* checking R code for possible problems ... OK
* checking Rd files ... OK
* checking Rd metadata ... OK
* checking Rd cross-references ... OK
* checking for missing documentation entries ... OK
* checking for code/documentation mismatches ... OK
* checking Rd \usage sections ... OK
* checking Rd contents ... OK
* checking for unstated dependencies in examples ... OK
* checking installed files from 'inst/doc' ... OK
* checking files in 'vignettes' ... OK
* checking examples ...
** running examples for arch 'i386' ... OK
Examples with CPU (user + system) or elapsed time > 5s
                                user system elapsed
CellScoreReport                40.89   1.17   42.06
heatmapOnOffMarkers            32.02   0.29   32.31
RugplotCellScore               27.34   0.36   27.71
ScatterplotCellScoreComponents 23.13   0.34   23.47
extractTransitions             22.60   0.46   23.06
PlotCosineSimHeatmap           19.10   0.42   19.54
PcaStandards                   15.67   0.58   16.27
CosineSimScore                 14.57   0.61   15.17
BoxplotCellScore               13.76   1.22   15.00
CellScore                      13.33   0.77   14.10
BarplotOnOff                    8.04   0.74   10.76
OnOff                           7.00   0.34    7.34
** running examples for arch 'x64' ... OK
Examples with CPU (user + system) or elapsed time > 5s
                                user system elapsed
CellScoreReport                31.43   0.42   31.86
heatmapOnOffMarkers            24.91   0.20   25.11
extractTransitions             23.05   0.22   23.27
ScatterplotCellScoreComponents 22.87   0.33   23.20
RugplotCellScore               22.85   0.12   22.97
PlotCosineSimHeatmap           19.00   0.23   19.23
BoxplotCellScore               14.13   0.29   14.42
CellScore                      13.85   0.21   14.04
PcaStandards                   13.64   0.13   13.77
CosineSimScore                 12.52   0.19   12.70
BarplotOnOff                    7.00   0.69    7.69
OnOff                           6.28   0.23    6.52
* checking for unstated dependencies in vignettes ... OK
* checking package vignettes in 'inst/doc' ... OK
* checking running R code from vignettes ... SKIPPED
* checking re-building of vignette outputs ... SKIPPED
* checking PDF version of manual ... OK
* DONE

Status: OK


Installation output

CellScore.Rcheck/00install.out

##############################################################################
##############################################################################
###
### Running command:
###
###   C:\cygwin\bin\curl.exe -O http://155.52.207.166/BBS/3.14/bioc/src/contrib/CellScore_1.14.0.tar.gz && rm -rf CellScore.buildbin-libdir && mkdir CellScore.buildbin-libdir && C:\Users\biocbuild\bbs-3.14-bioc\R\bin\R.exe CMD INSTALL --merge-multiarch --build --library=CellScore.buildbin-libdir CellScore_1.14.0.tar.gz && C:\Users\biocbuild\bbs-3.14-bioc\R\bin\R.exe CMD INSTALL CellScore_1.14.0.zip && rm CellScore_1.14.0.tar.gz CellScore_1.14.0.zip
###
##############################################################################
##############################################################################


  % Total    % Received % Xferd  Average Speed   Time    Time     Time  Current
                                 Dload  Upload   Total   Spent    Left  Speed

  0     0    0     0    0     0      0      0 --:--:-- --:--:-- --:--:--     0
100 4204k  100 4204k    0     0  5078k      0 --:--:-- --:--:-- --:--:-- 5084k

install for i386

* installing *source* package 'CellScore' ...
** using staged installation
** R
** inst
** byte-compile and prepare package for lazy loading
** help
*** installing help indices
  converting help for package 'CellScore'
    finding HTML links ... done
    BarplotOnOff                            html  
    BoxplotCellScore                        html  
    CellScore                               html  
    CellScoreReport                         html  
    CosineSimScore                          html  
    OnOff                                   html  
    PcaStandards                            html  
    PlotCosineSimHeatmap                    html  
    RugplotCellScore                        html  
    ScatterplotCellScoreComponents          html  
    extractTransitions                      html  
    heatmapOnOffMarkers                     html  
    rugplotDonorTargetTest                  html  
    scatterplotDonorTargetTest              html  
** building package indices
** installing vignettes
** testing if installed package can be loaded from temporary location
** testing if installed package can be loaded from final location
** testing if installed package keeps a record of temporary installation path

install for x64

* installing *source* package 'CellScore' ...
** testing if installed package can be loaded
* MD5 sums
packaged installation of 'CellScore' as CellScore_1.14.0.zip
* DONE (CellScore)
* installing to library 'C:/Users/biocbuild/bbs-3.14-bioc/R/library'
package 'CellScore' successfully unpacked and MD5 sums checked

Tests output


Example timings

CellScore.Rcheck/examples_i386/CellScore-Ex.timings

nameusersystemelapsed
BarplotOnOff 8.04 0.7410.76
BoxplotCellScore13.76 1.2215.00
CellScore13.33 0.7714.10
CellScoreReport40.89 1.1742.06
CosineSimScore14.57 0.6115.17
OnOff7.000.347.34
PcaStandards15.67 0.5816.27
PlotCosineSimHeatmap19.10 0.4219.54
RugplotCellScore27.34 0.3627.71
ScatterplotCellScoreComponents23.13 0.3423.47
extractTransitions22.60 0.4623.06
heatmapOnOffMarkers32.02 0.2932.31
rugplotDonorTargetTest000
scatterplotDonorTargetTest000

CellScore.Rcheck/examples_x64/CellScore-Ex.timings

nameusersystemelapsed
BarplotOnOff7.000.697.69
BoxplotCellScore14.13 0.2914.42
CellScore13.85 0.2114.04
CellScoreReport31.43 0.4231.86
CosineSimScore12.52 0.1912.70
OnOff6.280.236.52
PcaStandards13.64 0.1313.77
PlotCosineSimHeatmap19.00 0.2319.23
RugplotCellScore22.85 0.1222.97
ScatterplotCellScoreComponents22.87 0.3323.20
extractTransitions23.05 0.2223.27
heatmapOnOffMarkers24.91 0.2025.11
rugplotDonorTargetTest000
scatterplotDonorTargetTest000