Back to Multiple platform build/check report for BioC 3.14
AB[C]DEFGHIJKLMNOPQRSTUVWXYZ

This page was generated on 2021-12-03 13:04:44 -0500 (Fri, 03 Dec 2021).

BUILD results for CellScore on nebbiolo2

To the developers/maintainers of the CellScore package:
- Please allow up to 24 hours (and sometimes 48 hours) for your latest push to git@git.bioconductor.org:packages/CellScore.git to
reflect on this report. See How and When does the builder pull? When will my changes propagate? here for more information.
- Make sure to use the following settings in order to reproduce any error or warning you see on this page.

raw results

Package 274/2083HostnameOS / ArchINSTALLBUILDCHECKBUILD BIN
CellScore 1.14.0  (landing page)
Nancy Mah
Snapshot Date: 2021-12-02 01:55:06 -0500 (Thu, 02 Dec 2021)
git_url: https://git.bioconductor.org/packages/CellScore
git_branch: RELEASE_3_14
git_last_commit: f1b13c0
git_last_commit_date: 2021-10-26 12:41:51 -0500 (Tue, 26 Oct 2021)
nebbiolo2Linux (Ubuntu 20.04.3 LTS) / x86_64  OK    OK    OK  UNNEEDED, same version is already published
tokay2Windows Server 2012 R2 Standard / x64  OK    OK    OK    OK  UNNEEDED, same version is already published
machv2macOS 10.14.6 Mojave / x86_64  OK    OK    OK    OK  UNNEEDED, same version is already published

Summary

Package: CellScore
Version: 1.14.0
Command: /home/biocbuild/bbs-3.14-bioc/R/bin/R CMD build --keep-empty-dirs --no-resave-data CellScore
StartedAt: 2021-12-02 04:01:27 -0500 (Thu, 02 Dec 2021)
EndedAt: 2021-12-02 04:03:33 -0500 (Thu, 02 Dec 2021)
EllapsedTime: 126.1 seconds
RetCode: 0
Status:   OK  
PackageFile: CellScore_1.14.0.tar.gz
PackageFileSize: 4.162 MiB

Command output

##############################################################################
##############################################################################
###
### Running command:
###
###   /home/biocbuild/bbs-3.14-bioc/R/bin/R CMD build --keep-empty-dirs --no-resave-data CellScore
###
##############################################################################
##############################################################################


* checking for file ‘CellScore/DESCRIPTION’ ... OK
* preparing ‘CellScore’:
* checking DESCRIPTION meta-information ... OK
* installing the package to build vignettes
* creating vignettes ... OK
Warning: ‘inst/doc’ files
    ‘CellScoreVignette.Rnw’, ‘CellScoreVignette.pdf’,  ‘CellScoreVignette.R’
  ignored as vignettes have been rebuilt.
  Run R CMD build with --no-build-vignettes to prevent rebuilding.
* checking for LF line-endings in source and make files and shell scripts
* checking for empty or unneeded directories
Omitted ‘LazyData’ from DESCRIPTION
* building ‘CellScore_1.14.0.tar.gz’