Back to Multiple platform build/check report for BioC 3.14
AB[C]DEFGHIJKLMNOPQRSTUVWXYZ

This page was generated on 2022-01-14 13:06:08 -0500 (Fri, 14 Jan 2022).

HostnameOSArch (*)R versionInstalled pkgs
nebbiolo2Linux (Ubuntu 20.04.4 LTS)x86_644.1.2 (2021-11-01) -- "Bird Hippie" 4327
tokay2Windows Server 2012 R2 Standardx644.1.2 (2021-11-01) -- "Bird Hippie" 4076
machv2macOS 10.14.6 Mojavex86_644.1.2 (2021-11-01) -- "Bird Hippie" 4137
Click on any hostname to see more info about the system (e.g. compilers)      (*) as reported by 'uname -p', except on Windows and Mac OS X

BUILD BIN results for CellMixS on tokay2


To the developers/maintainers of the CellMixS package:
- Please allow up to 24 hours (and sometimes 48 hours) for your latest push to git@git.bioconductor.org:packages/CellMixS.git to
reflect on this report. See How and When does the builder pull? When will my changes propagate? here for more information.
- Make sure to use the following settings in order to reproduce any error or warning you see on this page.

raw results

Package 271/2083HostnameOS / ArchINSTALLBUILDCHECKBUILD BIN
CellMixS 1.10.0  (landing page)
Almut Lütge
Snapshot Date: 2022-01-13 01:55:04 -0500 (Thu, 13 Jan 2022)
git_url: https://git.bioconductor.org/packages/CellMixS
git_branch: RELEASE_3_14
git_last_commit: 8690b35
git_last_commit_date: 2021-10-26 12:50:43 -0500 (Tue, 26 Oct 2021)
nebbiolo2Linux (Ubuntu 20.04.4 LTS) / x86_64  OK    OK    OK  UNNEEDED, same version is already published
tokay2Windows Server 2012 R2 Standard / x64  OK    OK    OK    OK  UNNEEDED, same version is already published
machv2macOS 10.14.6 Mojave / x86_64  OK    OK    OK    OK  UNNEEDED, same version is already published

Summary

Package: CellMixS
Version: 1.10.0
Command: rm -rf CellMixS.buildbin-libdir && mkdir CellMixS.buildbin-libdir && C:\Users\biocbuild\bbs-3.14-bioc\R\bin\R.exe CMD INSTALL --merge-multiarch --build --library=CellMixS.buildbin-libdir CellMixS_1.10.0.tar.gz
StartedAt: 2022-01-14 05:12:45 -0500 (Fri, 14 Jan 2022)
EndedAt: 2022-01-14 05:13:40 -0500 (Fri, 14 Jan 2022)
EllapsedTime: 55.0 seconds
RetCode: 0
Status:   OK  
PackageFile: CellMixS_1.10.0.zip
PackageFileSize: 2.207 MiB

Command output

##############################################################################
##############################################################################
###
### Running command:
###
###   rm -rf CellMixS.buildbin-libdir && mkdir CellMixS.buildbin-libdir && C:\Users\biocbuild\bbs-3.14-bioc\R\bin\R.exe CMD INSTALL --merge-multiarch --build --library=CellMixS.buildbin-libdir CellMixS_1.10.0.tar.gz
###
##############################################################################
##############################################################################



install for i386

* installing *source* package 'CellMixS' ...
** using staged installation
** R
** inst
** byte-compile and prepare package for lazy loading
** help
*** installing help indices
  converting help for package 'CellMixS'
    finding HTML links ... done
    CellMixS-package                        html  
    cms                                     html  
    finding level-2 HTML links ... done

    dot-cmsCell                             html  
    dot-defineSubspace                      html  
    dot-filterKnn                           html  
    dot-filterLocMin                        html  
    dot-ldfKnn                              html  
    dot-smoothCms                           html  
    entropy                                 html  
    evalIntegration                         html  
    isi                                     html  
    ldfDiff                                 html  
    ldfSce                                  html  
    locStructure                            html  
    mixMetric                               html  
    visCluster                              html  
    visGroup                                html  
    visHist                                 html  
    visIntegration                          html  
    visMetric                               html  
    visOverview                             html  
** building package indices
** installing vignettes
** testing if installed package can be loaded from temporary location
** testing if installed package can be loaded from final location
** testing if installed package keeps a record of temporary installation path

install for x64

* installing *source* package 'CellMixS' ...
** testing if installed package can be loaded
* MD5 sums
packaged installation of 'CellMixS' as CellMixS_1.10.0.zip
* DONE (CellMixS)