Back to Multiple platform build/check report for BioC 3.14
AB[C]DEFGHIJKLMNOPQRSTUVWXYZ

This page was generated on 2021-11-24 15:04:57 -0500 (Wed, 24 Nov 2021).

BUILD results for CellBench on nebbiolo2

To the developers/maintainers of the CellBench package:
- Please allow up to 24 hours (and sometimes 48 hours) for your latest push to git@git.bioconductor.org:packages/CellBench.git to
reflect on this report. See How and When does the builder pull? When will my changes propagate? here for more information.
- Make sure to use the following settings in order to reproduce any error or warning you see on this page.

raw results

Package 265/2083HostnameOS / ArchINSTALLBUILDCHECKBUILD BIN
CellBench 1.10.0  (landing page)
Shian Su
Snapshot Date: 2021-11-23 04:15:06 -0500 (Tue, 23 Nov 2021)
git_url: https://git.bioconductor.org/packages/CellBench
git_branch: RELEASE_3_14
git_last_commit: c1d1e03
git_last_commit_date: 2021-10-26 12:49:50 -0500 (Tue, 26 Oct 2021)
nebbiolo2Linux (Ubuntu 20.04.3 LTS) / x86_64  OK    OK    OK  UNNEEDED, same version is already published
tokay2Windows Server 2012 R2 Standard / x64  OK    OK    OK    OK  UNNEEDED, same version is already published
machv2macOS 10.14.6 Mojave / x86_64  OK    OK    OK    OK  UNNEEDED, same version is already published

Summary

Package: CellBench
Version: 1.10.0
Command: /home/biocbuild/bbs-3.14-bioc/R/bin/R CMD build --keep-empty-dirs --no-resave-data CellBench
StartedAt: 2021-11-23 05:58:36 -0500 (Tue, 23 Nov 2021)
EndedAt: 2021-11-23 05:59:32 -0500 (Tue, 23 Nov 2021)
EllapsedTime: 56.2 seconds
RetCode: 0
Status:   OK  
PackageFile: CellBench_1.10.0.tar.gz
PackageFileSize: 3.755 MiB

Command output

##############################################################################
##############################################################################
###
### Running command:
###
###   /home/biocbuild/bbs-3.14-bioc/R/bin/R CMD build --keep-empty-dirs --no-resave-data CellBench
###
##############################################################################
##############################################################################


* checking for file ‘CellBench/DESCRIPTION’ ... OK
* preparing ‘CellBench’:
* checking DESCRIPTION meta-information ... OK
* installing the package to build vignettes
* creating vignettes ... OK
* checking for LF line-endings in source and make files and shell scripts
* checking for empty or unneeded directories
* building ‘CellBench_1.10.0.tar.gz’