Back to Multiple platform build/check report for BioC 3.14
AB[C]DEFGHIJKLMNOPQRSTUVWXYZ

This page was generated on 2022-01-17 13:06:00 -0500 (Mon, 17 Jan 2022).

HostnameOSArch (*)R versionInstalled pkgs
nebbiolo2Linux (Ubuntu 20.04.4 LTS)x86_644.1.2 (2021-11-01) -- "Bird Hippie" 4328
tokay2Windows Server 2012 R2 Standardx644.1.2 (2021-11-01) -- "Bird Hippie" 4077
machv2macOS 10.14.6 Mojavex86_644.1.2 (2021-11-01) -- "Bird Hippie" 4138
Click on any hostname to see more info about the system (e.g. compilers)      (*) as reported by 'uname -p', except on Windows and Mac OS X

CHECK results for Category on tokay2


To the developers/maintainers of the Category package:
- Please allow up to 24 hours (and sometimes 48 hours) for your latest push to git@git.bioconductor.org:packages/Category.git to
reflect on this report. See How and When does the builder pull? When will my changes propagate? here for more information.
- Make sure to use the following settings in order to reproduce any error or warning you see on this page.

raw results

Package 250/2083HostnameOS / ArchINSTALLBUILDCHECKBUILD BIN
Category 2.60.0  (landing page)
Bioconductor Package Maintainer
Snapshot Date: 2022-01-16 01:55:05 -0500 (Sun, 16 Jan 2022)
git_url: https://git.bioconductor.org/packages/Category
git_branch: RELEASE_3_14
git_last_commit: 55210d8
git_last_commit_date: 2021-10-26 11:48:11 -0500 (Tue, 26 Oct 2021)
nebbiolo2Linux (Ubuntu 20.04.4 LTS) / x86_64  OK    OK    OK  UNNEEDED, same version is already published
tokay2Windows Server 2012 R2 Standard / x64  OK    OK    OK    OK  UNNEEDED, same version is already published
machv2macOS 10.14.6 Mojave / x86_64  OK    OK    OK    OK  UNNEEDED, same version is already published

Summary

Package: Category
Version: 2.60.0
Command: C:\Users\biocbuild\bbs-3.14-bioc\R\bin\R.exe CMD check --force-multiarch --install=check:Category.install-out.txt --library=C:\Users\biocbuild\bbs-3.14-bioc\R\library --no-vignettes --timings Category_2.60.0.tar.gz
StartedAt: 2022-01-16 17:59:30 -0500 (Sun, 16 Jan 2022)
EndedAt: 2022-01-16 18:06:29 -0500 (Sun, 16 Jan 2022)
EllapsedTime: 419.2 seconds
RetCode: 0
Status:   OK  
CheckDir: Category.Rcheck
Warnings: 0

Command output

##############################################################################
##############################################################################
###
### Running command:
###
###   C:\Users\biocbuild\bbs-3.14-bioc\R\bin\R.exe CMD check --force-multiarch --install=check:Category.install-out.txt --library=C:\Users\biocbuild\bbs-3.14-bioc\R\library --no-vignettes --timings Category_2.60.0.tar.gz
###
##############################################################################
##############################################################################


* using log directory 'C:/Users/biocbuild/bbs-3.14-bioc/meat/Category.Rcheck'
* using R version 4.1.2 (2021-11-01)
* using platform: x86_64-w64-mingw32 (64-bit)
* using session charset: ISO8859-1
* using option '--no-vignettes'
* checking for file 'Category/DESCRIPTION' ... OK
* this is package 'Category' version '2.60.0'
* checking package namespace information ... OK
* checking package dependencies ... OK
* checking if this is a source package ... OK
* checking if there is a namespace ... OK
* checking for hidden files and directories ... OK
* checking for portable file names ... OK
* checking whether package 'Category' can be installed ... OK
* checking installed package size ... OK
* checking package directory ... OK
* checking 'build' directory ... OK
* checking DESCRIPTION meta-information ... OK
* checking top-level files ... OK
* checking for left-over files ... OK
* checking index information ... OK
* checking package subdirectories ... OK
* checking R files for non-ASCII characters ... OK
* checking R files for syntax errors ... OK
* loading checks for arch 'i386'
** checking whether the package can be loaded ... OK
** checking whether the package can be loaded with stated dependencies ... OK
** checking whether the package can be unloaded cleanly ... OK
** checking whether the namespace can be loaded with stated dependencies ... OK
** checking whether the namespace can be unloaded cleanly ... OK
* loading checks for arch 'x64'
** checking whether the package can be loaded ... OK
** checking whether the package can be loaded with stated dependencies ... OK
** checking whether the package can be unloaded cleanly ... OK
** checking whether the namespace can be loaded with stated dependencies ... OK
** checking whether the namespace can be unloaded cleanly ... OK
* checking dependencies in R code ... OK
* checking S3 generic/method consistency ... OK
* checking replacement functions ... OK
* checking foreign function calls ... OK
* checking R code for possible problems ... OK
* checking Rd files ... OK
* checking Rd metadata ... OK
* checking Rd cross-references ... NOTE
Unknown package 'KEGG.db' in Rd xrefs
* checking for missing documentation entries ... OK
* checking for code/documentation mismatches ... OK
* checking Rd \usage sections ... OK
* checking Rd contents ... OK
* checking for unstated dependencies in examples ... OK
* checking files in 'vignettes' ... OK
* checking examples ...
** running examples for arch 'i386' ... OK
** running examples for arch 'x64' ... OK
* checking for unstated dependencies in 'tests' ... OK
* checking tests ...
** running tests for arch 'i386' ...
  Running 'runTests.R'
 OK
** running tests for arch 'x64' ...
  Running 'runTests.R'
 OK
* checking for unstated dependencies in vignettes ... OK
* checking package vignettes in 'inst/doc' ... OK
* checking running R code from vignettes ... SKIPPED
* checking re-building of vignette outputs ... SKIPPED
* checking PDF version of manual ... OK
* DONE

Status: 1 NOTE
See
  'C:/Users/biocbuild/bbs-3.14-bioc/meat/Category.Rcheck/00check.log'
for details.



Installation output

Category.Rcheck/00install.out

##############################################################################
##############################################################################
###
### Running command:
###
###   C:\cygwin\bin\curl.exe -O http://155.52.207.166/BBS/3.14/bioc/src/contrib/Category_2.60.0.tar.gz && rm -rf Category.buildbin-libdir && mkdir Category.buildbin-libdir && C:\Users\biocbuild\bbs-3.14-bioc\R\bin\R.exe CMD INSTALL --merge-multiarch --build --library=Category.buildbin-libdir Category_2.60.0.tar.gz && C:\Users\biocbuild\bbs-3.14-bioc\R\bin\R.exe CMD INSTALL Category_2.60.0.zip && rm Category_2.60.0.tar.gz Category_2.60.0.zip
###
##############################################################################
##############################################################################


  % Total    % Received % Xferd  Average Speed   Time    Time     Time  Current
                                 Dload  Upload   Total   Spent    Left  Speed

  0     0    0     0    0     0      0      0 --:--:-- --:--:-- --:--:--     0
100  163k  100  163k    0     0   720k      0 --:--:-- --:--:-- --:--:--  722k

install for i386

* installing *source* package 'Category' ...
** using staged installation
** R
** inst
** byte-compile and prepare package for lazy loading
** help
*** installing help indices
  converting help for package 'Category'
    finding HTML links ... done
    Category-defunct                        html  
    ChrBandTree-class                       html  
    ChrMapHyperGParams-class                html  
    ChrMapHyperGResult-class                html  
    ChrMapLinearMParams-class               html  
    ChrMapLinearMResult-class               html  
    DatPkg-class                            html  
    GOHyperGParams-class                    html  
    GSEAGOHyperGParams                      html  
    HyperGParams-class                      html  
    HyperGResult-accessors                  html  
    HyperGResult-class                      html  
    HyperGResultBase-class                  html  
    KEGGHyperGParams-class                  html  
    LinearMParams-class                     html  
    LinearMResult-class                     html  
    LinearMResultBase-class                 html  
    MAPAmat                                 html  
    NewChrBandTree                          html  
    OBOHyperGParams-class                   html  
    applyByCategory                         html  
    cateGOryMatrix                          html  
    categoryToEntrezBuilder                 html  
    cb_contingency                          html  
    cb_parse_band_Hs                        html  
    cb_parse_band_Mm                        html  
    cb_test                                 html  
    effectSize                              html  
    exampleLevels                           html  
    findAMstats                             html  
    getPathNames                            html  
    gseattperm                              html  
    hyperGTest                              html  
    hyperg                                  html  
    linearMTest                             html  
    local_test_factory                      html  
    makeChrBandGraph                        html  
    makeEBcontr                             html  
    makeValidParams                         html  
    probes2MAP                              html  
    probes2Path                             html  
    tree_visitor                            html  
    ttperm                                  html  
    universeBuilder                         html  
** building package indices
** installing vignettes
** testing if installed package can be loaded from temporary location
** testing if installed package can be loaded from final location
** testing if installed package keeps a record of temporary installation path

install for x64

* installing *source* package 'Category' ...
** testing if installed package can be loaded
* MD5 sums
packaged installation of 'Category' as Category_2.60.0.zip
* DONE (Category)
* installing to library 'C:/Users/biocbuild/bbs-3.14-bioc/R/library'
package 'Category' successfully unpacked and MD5 sums checked

Tests output

Category.Rcheck/tests_i386/runTests.Rout


R version 4.1.2 (2021-11-01) -- "Bird Hippie"
Copyright (C) 2021 The R Foundation for Statistical Computing
Platform: i386-w64-mingw32/i386 (32-bit)

R is free software and comes with ABSOLUTELY NO WARRANTY.
You are welcome to redistribute it under certain conditions.
Type 'license()' or 'licence()' for distribution details.

R is a collaborative project with many contributors.
Type 'contributors()' for more information and
'citation()' on how to cite R or R packages in publications.

Type 'demo()' for some demos, 'help()' for on-line help, or
'help.start()' for an HTML browser interface to help.
Type 'q()' to quit R.

> require("Category") || stop("unable to load Category")
Loading required package: Category
Loading required package: stats4
Loading required package: BiocGenerics

Attaching package: 'BiocGenerics'

The following objects are masked from 'package:stats':

    IQR, mad, sd, var, xtabs

The following objects are masked from 'package:base':

    Filter, Find, Map, Position, Reduce, anyDuplicated, append,
    as.data.frame, basename, cbind, colnames, dirname, do.call,
    duplicated, eval, evalq, get, grep, grepl, intersect, is.unsorted,
    lapply, mapply, match, mget, order, paste, pmax, pmax.int, pmin,
    pmin.int, rank, rbind, rownames, sapply, setdiff, sort, table,
    tapply, union, unique, unsplit, which.max, which.min

Loading required package: AnnotationDbi
Loading required package: Biobase
Welcome to Bioconductor

    Vignettes contain introductory material; view with
    'browseVignettes()'. To cite Bioconductor, see
    'citation("Biobase")', and for packages 'citation("pkgname")'.

Loading required package: IRanges
Loading required package: S4Vectors

Attaching package: 'S4Vectors'

The following objects are masked from 'package:base':

    I, expand.grid, unname


Attaching package: 'IRanges'

The following object is masked from 'package:grDevices':

    windows

Loading required package: Matrix

Attaching package: 'Matrix'

The following object is masked from 'package:S4Vectors':

    expand

[1] TRUE
> BiocGenerics:::testPackage("Category", "UnitTests", ".*_test\\.R$")
Loading required package: org.Hs.eg.db



'select()' returned 1:many mapping between keys and columns
'select()' returned 1:many mapping between keys and columns
'select()' returned 1:many mapping between keys and columns
Loading required package: graph


Attaching package: 'GOstats'

The following object is masked from 'package:AnnotationDbi':

    makeGOGraph



RUNIT TEST PROTOCOL -- Sun Jan 16 18:05:10 2022 
*********************************************** 
Number of test functions: 14 
Number of errors: 0 
Number of failures: 0 

 
1 Test Suite : 
Category RUnit Tests - 14 test functions, 0 errors, 0 failures
Number of test functions: 14 
Number of errors: 0 
Number of failures: 0 
Warning messages:
1: In makeValidParams(.Object) : removing duplicate IDs in geneIds
2: In makeValidParams(.Object) : removing duplicate IDs in universeGeneIds
3: In makeValidParams(.Object) : removing geneIds not in universeGeneIds
4: In makeValidParams(.Object) : removing duplicate IDs in geneIds
5: In makeValidParams(.Object) : removing duplicate IDs in universeGeneIds
6: In makeValidParams(.Object) : removing geneIds not in universeGeneIds
7: In makeValidParams(.Object) :
  converting geneIds from list to atomic vector via unlist
8: In makeValidParams(.Object) :
  converting univ from list to atomic vector via unlist
9: In makeValidParams(.Object) : removing duplicate IDs in universeGeneIds
> 
> proc.time()
   user  system elapsed 
  48.75   21.46  118.73 

Category.Rcheck/tests_x64/runTests.Rout


R version 4.1.2 (2021-11-01) -- "Bird Hippie"
Copyright (C) 2021 The R Foundation for Statistical Computing
Platform: x86_64-w64-mingw32/x64 (64-bit)

R is free software and comes with ABSOLUTELY NO WARRANTY.
You are welcome to redistribute it under certain conditions.
Type 'license()' or 'licence()' for distribution details.

R is a collaborative project with many contributors.
Type 'contributors()' for more information and
'citation()' on how to cite R or R packages in publications.

Type 'demo()' for some demos, 'help()' for on-line help, or
'help.start()' for an HTML browser interface to help.
Type 'q()' to quit R.

> require("Category") || stop("unable to load Category")
Loading required package: Category
Loading required package: stats4
Loading required package: BiocGenerics

Attaching package: 'BiocGenerics'

The following objects are masked from 'package:stats':

    IQR, mad, sd, var, xtabs

The following objects are masked from 'package:base':

    Filter, Find, Map, Position, Reduce, anyDuplicated, append,
    as.data.frame, basename, cbind, colnames, dirname, do.call,
    duplicated, eval, evalq, get, grep, grepl, intersect, is.unsorted,
    lapply, mapply, match, mget, order, paste, pmax, pmax.int, pmin,
    pmin.int, rank, rbind, rownames, sapply, setdiff, sort, table,
    tapply, union, unique, unsplit, which.max, which.min

Loading required package: AnnotationDbi
Loading required package: Biobase
Welcome to Bioconductor

    Vignettes contain introductory material; view with
    'browseVignettes()'. To cite Bioconductor, see
    'citation("Biobase")', and for packages 'citation("pkgname")'.

Loading required package: IRanges
Loading required package: S4Vectors

Attaching package: 'S4Vectors'

The following objects are masked from 'package:base':

    I, expand.grid, unname


Attaching package: 'IRanges'

The following object is masked from 'package:grDevices':

    windows

Loading required package: Matrix

Attaching package: 'Matrix'

The following object is masked from 'package:S4Vectors':

    expand

[1] TRUE
> BiocGenerics:::testPackage("Category", "UnitTests", ".*_test\\.R$")
Loading required package: org.Hs.eg.db



'select()' returned 1:many mapping between keys and columns
'select()' returned 1:many mapping between keys and columns
'select()' returned 1:many mapping between keys and columns
Loading required package: graph


Attaching package: 'GOstats'

The following object is masked from 'package:AnnotationDbi':

    makeGOGraph



RUNIT TEST PROTOCOL -- Sun Jan 16 18:06:20 2022 
*********************************************** 
Number of test functions: 14 
Number of errors: 0 
Number of failures: 0 

 
1 Test Suite : 
Category RUnit Tests - 14 test functions, 0 errors, 0 failures
Number of test functions: 14 
Number of errors: 0 
Number of failures: 0 
Warning messages:
1: In makeValidParams(.Object) : removing duplicate IDs in geneIds
2: In makeValidParams(.Object) : removing duplicate IDs in universeGeneIds
3: In makeValidParams(.Object) : removing geneIds not in universeGeneIds
4: In makeValidParams(.Object) : removing duplicate IDs in geneIds
5: In makeValidParams(.Object) : removing duplicate IDs in universeGeneIds
6: In makeValidParams(.Object) : removing geneIds not in universeGeneIds
7: In makeValidParams(.Object) :
  converting geneIds from list to atomic vector via unlist
8: In makeValidParams(.Object) :
  converting univ from list to atomic vector via unlist
9: In makeValidParams(.Object) : removing duplicate IDs in universeGeneIds
> 
> proc.time()
   user  system elapsed 
  49.87   19.25   69.15 

Example timings

Category.Rcheck/examples_i386/Category-Ex.timings

nameusersystemelapsed
ChrBandTree-class2.800.313.11
ChrMapHyperGParams-class000
ChrMapHyperGResult-class000
ChrMapLinearMParams-class000
ChrMapLinearMResult-class000
DatPkg-class0.040.000.04
HyperGResult-accessors1.000.101.32
LinearMResult-class000
MAPAmat2.780.062.85
applyByCategory000
cateGOryMatrix0.230.010.25
cb_parse_band_Hs000
cb_parse_band_Mm000
findAMstats000
getPathNames0.050.001.75
gseattperm2.080.032.11
hyperg0.570.020.59
makeChrBandGraph1.610.021.63
makeEBcontr0.110.000.11
probes2MAP0.160.010.17
probes2Path0.050.000.04
ttperm0.010.000.02

Category.Rcheck/examples_x64/Category-Ex.timings

nameusersystemelapsed
ChrBandTree-class4.140.054.19
ChrMapHyperGParams-class000
ChrMapHyperGResult-class0.010.000.02
ChrMapLinearMParams-class000
ChrMapLinearMResult-class000
DatPkg-class0.030.000.03
HyperGResult-accessors0.970.061.04
LinearMResult-class000
MAPAmat2.700.092.79
applyByCategory000
cateGOryMatrix0.250.000.25
cb_parse_band_Hs000
cb_parse_band_Mm000
findAMstats000
getPathNames0.030.001.37
gseattperm1.500.041.53
hyperg0.540.000.55
makeChrBandGraph1.580.001.58
makeEBcontr0.160.000.16
probes2MAP0.090.000.09
probes2Path0.050.000.05
ttperm0.010.000.01