Back to Multiple platform build/check report for BioC 3.14
AB[C]DEFGHIJKLMNOPQRSTUVWXYZ

This page was generated on 2021-11-29 15:04:51 -0500 (Mon, 29 Nov 2021).

BUILD results for Cardinal on nebbiolo2

To the developers/maintainers of the Cardinal package:
- Please allow up to 24 hours (and sometimes 48 hours) for your latest push to git@git.bioconductor.org:packages/Cardinal.git to
reflect on this report. See How and When does the builder pull? When will my changes propagate? here for more information.
- Make sure to use the following settings in order to reproduce any error or warning you see on this page.

raw results

Package 246/2083HostnameOS / ArchINSTALLBUILDCHECKBUILD BIN
Cardinal 2.12.0  (landing page)
Kylie A. Bemis
Snapshot Date: 2021-11-28 04:15:06 -0500 (Sun, 28 Nov 2021)
git_url: https://git.bioconductor.org/packages/Cardinal
git_branch: RELEASE_3_14
git_last_commit: a9cad46
git_last_commit_date: 2021-10-26 12:18:42 -0500 (Tue, 26 Oct 2021)
nebbiolo2Linux (Ubuntu 20.04.3 LTS) / x86_64  OK    OK    OK  UNNEEDED, same version is already published
tokay2Windows Server 2012 R2 Standard / x64  OK    OK    OK    OK  UNNEEDED, same version is already published
machv2macOS 10.14.6 Mojave / x86_64  OK    OK    OK    OK  UNNEEDED, same version is already published

Summary

Package: Cardinal
Version: 2.12.0
Command: /home/biocbuild/bbs-3.14-bioc/R/bin/R CMD build --keep-empty-dirs --no-resave-data Cardinal
StartedAt: 2021-11-28 05:56:14 -0500 (Sun, 28 Nov 2021)
EndedAt: 2021-11-28 05:58:01 -0500 (Sun, 28 Nov 2021)
EllapsedTime: 107.0 seconds
RetCode: 0
Status:   OK  
PackageFile: Cardinal_2.12.0.tar.gz
PackageFileSize: 3.526 MiB

Command output

##############################################################################
##############################################################################
###
### Running command:
###
###   /home/biocbuild/bbs-3.14-bioc/R/bin/R CMD build --keep-empty-dirs --no-resave-data Cardinal
###
##############################################################################
##############################################################################


* checking for file ‘Cardinal/DESCRIPTION’ ... OK
* preparing ‘Cardinal’:
* checking DESCRIPTION meta-information ... OK
* cleaning src
* installing the package to build vignettes
* creating vignettes ... OK
* cleaning src
* checking for LF line-endings in source and make files and shell scripts
* checking for empty or unneeded directories
* building ‘Cardinal_2.12.0.tar.gz’