Back to Multiple platform build/check report for BioC 3.14
AB[C]DEFGHIJKLMNOPQRSTUVWXYZ

This page was generated on 2021-11-26 15:04:48 -0500 (Fri, 26 Nov 2021).

BUILD results for CTDquerier on nebbiolo2

To the developers/maintainers of the CTDquerier package:
- Please allow up to 24 hours (and sometimes 48 hours) for your latest push to git@git.bioconductor.org:packages/CTDquerier.git to
reflect on this report. See How and When does the builder pull? When will my changes propagate? here for more information.
- Make sure to use the following settings in order to reproduce any error or warning you see on this page.

raw results

Package 427/2083HostnameOS / ArchINSTALLBUILDCHECKBUILD BIN
CTDquerier 2.2.0  (landing page)
Xavier Escribà-Montagut
Snapshot Date: 2021-11-25 04:15:05 -0500 (Thu, 25 Nov 2021)
git_url: https://git.bioconductor.org/packages/CTDquerier
git_branch: RELEASE_3_14
git_last_commit: a121b76
git_last_commit_date: 2021-10-26 13:07:39 -0500 (Tue, 26 Oct 2021)
nebbiolo2Linux (Ubuntu 20.04.3 LTS) / x86_64  OK    OK    WARNINGS  UNNEEDED, same version is already published
tokay2Windows Server 2012 R2 Standard / x64  OK    OK    WARNINGS    OK  UNNEEDED, same version is already published
machv2macOS 10.14.6 Mojave / x86_64  OK    OK    WARNINGS    OK  UNNEEDED, same version is already published

Summary

Package: CTDquerier
Version: 2.2.0
Command: /home/biocbuild/bbs-3.14-bioc/R/bin/R CMD build --keep-empty-dirs --no-resave-data CTDquerier
StartedAt: 2021-11-25 06:19:31 -0500 (Thu, 25 Nov 2021)
EndedAt: 2021-11-25 06:19:34 -0500 (Thu, 25 Nov 2021)
EllapsedTime: 2.4 seconds
RetCode: 0
Status:   OK  
PackageFile: CTDquerier_2.2.0.tar.gz
PackageFileSize: 2.652 MiB

Command output

##############################################################################
##############################################################################
###
### Running command:
###
###   /home/biocbuild/bbs-3.14-bioc/R/bin/R CMD build --keep-empty-dirs --no-resave-data CTDquerier
###
##############################################################################
##############################################################################


* checking for file ‘CTDquerier/DESCRIPTION’ ... OK
* preparing ‘CTDquerier’:
* checking DESCRIPTION meta-information ... OK
* checking for LF line-endings in source and make files and shell scripts
* checking for empty or unneeded directories
* looking to see if a ‘data/datalist’ file should be added
* building ‘CTDquerier_2.2.0.tar.gz’