Back to Multiple platform build/check report for BioC 3.14
AB[C]DEFGHIJKLMNOPQRSTUVWXYZ

This page was generated on 2021-11-24 15:04:57 -0500 (Wed, 24 Nov 2021).

BUILD results for CNVRanger on nebbiolo2

To the developers/maintainers of the CNVRanger package:
- Please allow up to 24 hours (and sometimes 48 hours) for your latest push to git@git.bioconductor.org:packages/CNVRanger.git to
reflect on this report. See How and When does the builder pull? When will my changes propagate? here for more information.
- Make sure to use the following settings in order to reproduce any error or warning you see on this page.

raw results

Package 361/2083HostnameOS / ArchINSTALLBUILDCHECKBUILD BIN
CNVRanger 1.10.0  (landing page)
Ludwig Geistlinger
Snapshot Date: 2021-11-23 04:15:06 -0500 (Tue, 23 Nov 2021)
git_url: https://git.bioconductor.org/packages/CNVRanger
git_branch: RELEASE_3_14
git_last_commit: 0432434
git_last_commit_date: 2021-10-26 12:49:21 -0500 (Tue, 26 Oct 2021)
nebbiolo2Linux (Ubuntu 20.04.3 LTS) / x86_64  OK    OK    OK  UNNEEDED, same version is already published
tokay2Windows Server 2012 R2 Standard / x64  OK    OK    OK    OK  NO, package depends on 'GDSArray' which is not available
machv2macOS 10.14.6 Mojave / x86_64  OK    OK    OK    OK  UNNEEDED, same version is already published

Summary

Package: CNVRanger
Version: 1.10.0
Command: /home/biocbuild/bbs-3.14-bioc/R/bin/R CMD build --keep-empty-dirs --no-resave-data CNVRanger
StartedAt: 2021-11-23 06:04:57 -0500 (Tue, 23 Nov 2021)
EndedAt: 2021-11-23 06:08:29 -0500 (Tue, 23 Nov 2021)
EllapsedTime: 212.0 seconds
RetCode: 0
Status:   OK  
PackageFile: CNVRanger_1.10.0.tar.gz
PackageFileSize: 1.965 MiB

Command output

##############################################################################
##############################################################################
###
### Running command:
###
###   /home/biocbuild/bbs-3.14-bioc/R/bin/R CMD build --keep-empty-dirs --no-resave-data CNVRanger
###
##############################################################################
##############################################################################


* checking for file ‘CNVRanger/DESCRIPTION’ ... OK
* preparing ‘CNVRanger’:
* checking DESCRIPTION meta-information ... OK
* installing the package to build vignettes
* creating vignettes ... OK
* checking for LF line-endings in source and make files and shell scripts
* checking for empty or unneeded directories
* building ‘CNVRanger_1.10.0.tar.gz’