Back to Multiple platform build/check report for BioC 3.14
AB[C]DEFGHIJKLMNOPQRSTUVWXYZ

This page was generated on 2022-01-24 13:06:03 -0500 (Mon, 24 Jan 2022).

HostnameOSArch (*)R versionInstalled pkgs
nebbiolo2Linux (Ubuntu 20.04.4 LTS)x86_644.1.2 (2021-11-01) -- "Bird Hippie" 4329
tokay2Windows Server 2012 R2 Standardx644.1.2 (2021-11-01) -- "Bird Hippie" 4080
machv2macOS 10.14.6 Mojavex86_644.1.2 (2021-11-01) -- "Bird Hippie" 4141
Click on any hostname to see more info about the system (e.g. compilers)      (*) as reported by 'uname -p', except on Windows and Mac OS X

BUILD BIN results for CMA on tokay2


To the developers/maintainers of the CMA package:
- Please allow up to 24 hours (and sometimes 48 hours) for your latest push to git@git.bioconductor.org:packages/CMA.git to
reflect on this report. See How and When does the builder pull? When will my changes propagate? here for more information.
- Make sure to use the following settings in order to reproduce any error or warning you see on this page.

raw results

Package 345/2083HostnameOS / ArchINSTALLBUILDCHECKBUILD BIN
CMA 1.52.0  (landing page)
Roman Hornung
Snapshot Date: 2022-01-23 01:55:04 -0500 (Sun, 23 Jan 2022)
git_url: https://git.bioconductor.org/packages/CMA
git_branch: RELEASE_3_14
git_last_commit: db591c3
git_last_commit_date: 2021-10-26 11:52:28 -0500 (Tue, 26 Oct 2021)
nebbiolo2Linux (Ubuntu 20.04.4 LTS) / x86_64  OK    OK    OK  UNNEEDED, same version is already published
tokay2Windows Server 2012 R2 Standard / x64  OK    OK    OK    OK  UNNEEDED, same version is already published
machv2macOS 10.14.6 Mojave / x86_64  OK    OK    OK    OK  UNNEEDED, same version is already published

Summary

Package: CMA
Version: 1.52.0
Command: rm -rf CMA.buildbin-libdir && mkdir CMA.buildbin-libdir && C:\Users\biocbuild\bbs-3.14-bioc\R\bin\R.exe CMD INSTALL --merge-multiarch --build --library=CMA.buildbin-libdir CMA_1.52.0.tar.gz
StartedAt: 2022-01-24 05:23:01 -0500 (Mon, 24 Jan 2022)
EndedAt: 2022-01-24 05:23:51 -0500 (Mon, 24 Jan 2022)
EllapsedTime: 50.5 seconds
RetCode: 0
Status:   OK  
PackageFile: CMA_1.52.0.zip
PackageFileSize: 1.935 MiB

Command output

##############################################################################
##############################################################################
###
### Running command:
###
###   rm -rf CMA.buildbin-libdir && mkdir CMA.buildbin-libdir && C:\Users\biocbuild\bbs-3.14-bioc\R\bin\R.exe CMD INSTALL --merge-multiarch --build --library=CMA.buildbin-libdir CMA_1.52.0.tar.gz
###
##############################################################################
##############################################################################



install for i386

* installing *source* package 'CMA' ...
** using staged installation
** R
** data
** inst
** byte-compile and prepare package for lazy loading
** help
*** installing help indices
  converting help for package 'CMA'
    finding HTML links ... done
    CMA-package                             html  
    ElasticNetCMA-methods                   html  
    ElasticNetCMA                           html  
    GeneSelection-methods                   html  
    GeneSelection                           html  
    GenerateLearningsets                    html  
    LassoCMA-methods                        html  
    LassoCMA                                html  
    Planarplot-methods                      html  
    Planarplot                              html  
    best                                    html  
    boxplot                                 html  
    classification-methods                  html  
    classification                          html  
    cloutput-class                          html  
    clvarseloutput-class                    html  
    compBoostCMA-methods                    html  
    compBoostCMA                            html  
    compare-methods                         html  
    compare                                 html  
    dldaCMA-methods                         html  
    dldaCMA                                 html  
    evaloutput-class                        html  
    evaluation-methods                      html  
    evaluation                              html  
    fdaCMA-methods                          html  
    fdaCMA                                  html  
    filter                                  html  
    flexdaCMA-methods                       html  
    flexdaCMA                               html  
    ftable                                  html  
    gbmCMA-methods                          html  
    gbmCMA                                  html  
    genesel-class                           html  
    golub                                   html  
    internals                               html  
    join-methods                            html  
    join                                    html  
    khan                                    html  
    knnCMA-methods                          html  
    knnCMA                                  html  
    ldaCMA-methods                          html  
    ldaCMA                                  html  
    learningsets-class                      html  
    nnetCMA-methods                         html  
    nnetCMA                                 html  
    obsinfo                                 html  
    pknnCMA-methods                         html  
    pknnCMA                                 html  
    plot,cloutput-method                    html  
    plot,genesel-method                     html  
    plot,tuningresult-method                html  
    plrCMA-methods                          html  
    plrCMA                                  html  
    pls_ldaCMA-methods                      html  
    pls_ldaCMA                              html  
    pls_lrCMA-methods                       html  
    pls_lrCMA                               html  
    pls_rfCMA-methods                       html  
    pls_rfCMA                               html  
    pnnCMA-methods                          html  
    pnnCMA                                  html  
    prediction-methods                      html  
    prediction                              html  
    predoutput-class                        html  
    qdaCMA-methods                          html  
    qdaCMA                                  html  
    rfCMA-methods                           html  
    rfCMA                                   html  
    roc                                     html  
    scdaCMA-methods                         html  
    scdaCMA                                 html  
    shrinkldaCMA-methods                    html  
    shrinkldaCMA                            html  
    summary                                 html  
    svmCMA-methods                          html  
    svmCMA                                  html  
    toplist                                 html  
    tune-methods                            html  
    tune                                    html  
    tuningresult-class                      html  
    varseloutput-class                      html  
    weighted_mcr-methods                    html  
    weighted_mcr                            html  
    wmc-methods                             html  
    wmc                                     html  
    wmcr_result-class                       html  
** building package indices
** installing vignettes
** testing if installed package can be loaded from temporary location
** testing if installed package can be loaded from final location
** testing if installed package keeps a record of temporary installation path

install for x64

* installing *source* package 'CMA' ...
** testing if installed package can be loaded
* MD5 sums
packaged installation of 'CMA' as CMA_1.52.0.zip
* DONE (CMA)