Back to Multiple platform build/check report for BioC 3.14
AB[C]DEFGHIJKLMNOPQRSTUVWXYZ

This page was generated on 2021-12-06 13:04:54 -0500 (Mon, 06 Dec 2021).

BUILD results for CGHregions on nebbiolo2

To the developers/maintainers of the CGHregions package:
- Please allow up to 24 hours (and sometimes 48 hours) for your latest push to git@git.bioconductor.org:packages/CGHregions.git to
reflect on this report. See How and When does the builder pull? When will my changes propagate? here for more information.
- Make sure to use the following settings in order to reproduce any error or warning you see on this page.

raw results

Package 290/2083HostnameOS / ArchINSTALLBUILDCHECKBUILD BIN
CGHregions 1.52.0  (landing page)
Sjoerd Vosse
Snapshot Date: 2021-12-05 01:55:05 -0500 (Sun, 05 Dec 2021)
git_url: https://git.bioconductor.org/packages/CGHregions
git_branch: RELEASE_3_14
git_last_commit: 1582418
git_last_commit_date: 2021-10-26 11:52:26 -0500 (Tue, 26 Oct 2021)
nebbiolo2Linux (Ubuntu 20.04.3 LTS) / x86_64  OK    OK    OK  UNNEEDED, same version is already published
tokay2Windows Server 2012 R2 Standard / x64  OK    OK    OK    OK  UNNEEDED, same version is already published
machv2macOS 10.14.6 Mojave / x86_64  OK    OK    OK    OK  UNNEEDED, same version is already published

Summary

Package: CGHregions
Version: 1.52.0
Command: /home/biocbuild/bbs-3.14-bioc/R/bin/R CMD build --keep-empty-dirs --no-resave-data CGHregions
StartedAt: 2021-12-05 04:07:17 -0500 (Sun, 05 Dec 2021)
EndedAt: 2021-12-05 04:07:25 -0500 (Sun, 05 Dec 2021)
EllapsedTime: 7.7 seconds
RetCode: 0
Status:   OK  
PackageFile: CGHregions_1.52.0.tar.gz
PackageFileSize: 138.7 KiB

Command output

##############################################################################
##############################################################################
###
### Running command:
###
###   /home/biocbuild/bbs-3.14-bioc/R/bin/R CMD build --keep-empty-dirs --no-resave-data CGHregions
###
##############################################################################
##############################################################################


* checking for file ‘CGHregions/DESCRIPTION’ ... OK
* preparing ‘CGHregions’:
* checking DESCRIPTION meta-information ... OK
* installing the package to build vignettes
* creating vignettes ... OK
* checking for LF line-endings in source and make files and shell scripts
* checking for empty or unneeded directories
* building ‘CGHregions_1.52.0.tar.gz’