Back to Multiple platform build/check report for BioC 3.14
AB[C]DEFGHIJKLMNOPQRSTUVWXYZ

This page was generated on 2022-01-21 13:06:05 -0500 (Fri, 21 Jan 2022).

HostnameOSArch (*)R versionInstalled pkgs
nebbiolo2Linux (Ubuntu 20.04.4 LTS)x86_644.1.2 (2021-11-01) -- "Bird Hippie" 4329
tokay2Windows Server 2012 R2 Standardx644.1.2 (2021-11-01) -- "Bird Hippie" 4079
machv2macOS 10.14.6 Mojavex86_644.1.2 (2021-11-01) -- "Bird Hippie" 4140
Click on any hostname to see more info about the system (e.g. compilers)      (*) as reported by 'uname -p', except on Windows and Mac OS X

BUILD results for CEMiTool on tokay2


To the developers/maintainers of the CEMiTool package:
- Please allow up to 24 hours (and sometimes 48 hours) for your latest push to git@git.bioconductor.org:packages/CEMiTool.git to
reflect on this report. See How and When does the builder pull? When will my changes propagate? here for more information.
- Make sure to use the following settings in order to reproduce any error or warning you see on this page.

raw results

Package 277/2083HostnameOS / ArchINSTALLBUILDCHECKBUILD BIN
CEMiTool 1.18.1  (landing page)
Helder Nakaya
Snapshot Date: 2022-01-20 01:55:04 -0500 (Thu, 20 Jan 2022)
git_url: https://git.bioconductor.org/packages/CEMiTool
git_branch: RELEASE_3_14
git_last_commit: d0af180
git_last_commit_date: 2021-10-28 14:01:15 -0500 (Thu, 28 Oct 2021)
nebbiolo2Linux (Ubuntu 20.04.4 LTS) / x86_64  OK    OK    OK  UNNEEDED, same version is already published
tokay2Windows Server 2012 R2 Standard / x64  OK    OK    OK    OK  UNNEEDED, same version is already published
machv2macOS 10.14.6 Mojave / x86_64  OK    OK    OK    OK  UNNEEDED, same version is already published

Summary

Package: CEMiTool
Version: 1.18.1
Command: chmod a+r CEMiTool -R && C:\Users\biocbuild\bbs-3.14-bioc\R\bin\R.exe CMD build --keep-empty-dirs --no-resave-data CEMiTool
StartedAt: 2022-01-20 09:27:01 -0500 (Thu, 20 Jan 2022)
EndedAt: 2022-01-20 09:29:49 -0500 (Thu, 20 Jan 2022)
EllapsedTime: 168.4 seconds
RetCode: 0
Status:   OK  
PackageFile: CEMiTool_1.18.1.tar.gz
PackageFileSize: 4.54 MiB

Command output

##############################################################################
##############################################################################
###
### Running command:
###
###   chmod a+r CEMiTool -R && C:\Users\biocbuild\bbs-3.14-bioc\R\bin\R.exe CMD build --keep-empty-dirs --no-resave-data CEMiTool
###
##############################################################################
##############################################################################


* checking for file 'CEMiTool/DESCRIPTION' ... OK
* preparing 'CEMiTool':
* checking DESCRIPTION meta-information ... OK
* installing the package to build vignettes
* creating vignettes ... OK
* checking for LF line-endings in source and make files and shell scripts
* checking for empty or unneeded directories
* building 'CEMiTool_1.18.1.tar.gz'