![]() | Name | Last modified | Size | Description |
---|---|---|---|---|
![]() | Parent Directory | - | ||
![]() | install-out.txt | 14-Apr-2022 01:06 | 5.0K | |
![]() | install-summary.dcf | 14-Apr-2022 01:06 | 632 | |
![]() | buildsrc-out.txt | 14-Apr-2022 01:06 | 932 | |
![]() | buildsrc-summary.dcf | 14-Apr-2022 01:06 | 455 | |
![]() | checksrc-out.txt | 14-Apr-2022 01:06 | 12K | |
![]() | checksrc-summary.dcf | 14-Apr-2022 01:06 | 459 | |
![]() | buildbin-out.txt | 14-Apr-2022 01:06 | 4.3K | |
![]() | buildbin-summary.dcf | 14-Apr-2022 01:06 | 533 | |