Back to Multiple platform build/check report for BioC 3.14
AB[C]DEFGHIJKLMNOPQRSTUVWXYZ

This page was generated on 2022-01-19 13:06:19 -0500 (Wed, 19 Jan 2022).

HostnameOSArch (*)R versionInstalled pkgs
nebbiolo2Linux (Ubuntu 20.04.4 LTS)x86_644.1.2 (2021-11-01) -- "Bird Hippie" 4328
tokay2Windows Server 2012 R2 Standardx644.1.2 (2021-11-01) -- "Bird Hippie" 4077
machv2macOS 10.14.6 Mojavex86_644.1.2 (2021-11-01) -- "Bird Hippie" 4138
Click on any hostname to see more info about the system (e.g. compilers)      (*) as reported by 'uname -p', except on Windows and Mac OS X

CHECK results for CAGEr on tokay2


To the developers/maintainers of the CAGEr package:
- Please allow up to 24 hours (and sometimes 48 hours) for your latest push to git@git.bioconductor.org:packages/CAGEr.git to
reflect on this report. See How and When does the builder pull? When will my changes propagate? here for more information.
- Make sure to use the following settings in order to reproduce any error or warning you see on this page.

raw results

Package 237/2083HostnameOS / ArchINSTALLBUILDCHECKBUILD BIN
CAGEr 2.0.2  (landing page)
Charles Plessy
Snapshot Date: 2022-01-18 01:55:07 -0500 (Tue, 18 Jan 2022)
git_url: https://git.bioconductor.org/packages/CAGEr
git_branch: RELEASE_3_14
git_last_commit: 9218aa9
git_last_commit_date: 2021-11-16 19:37:08 -0500 (Tue, 16 Nov 2021)
nebbiolo2Linux (Ubuntu 20.04.4 LTS) / x86_64  OK    OK    OK  UNNEEDED, same version is already published
tokay2Windows Server 2012 R2 Standard / x64  OK    OK    OK    OK  UNNEEDED, same version is already published
machv2macOS 10.14.6 Mojave / x86_64  OK    OK    OK    OK  UNNEEDED, same version is already published

Summary

Package: CAGEr
Version: 2.0.2
Command: C:\Users\biocbuild\bbs-3.14-bioc\R\bin\R.exe CMD check --force-multiarch --install=check:CAGEr.install-out.txt --library=C:\Users\biocbuild\bbs-3.14-bioc\R\library --no-vignettes --timings CAGEr_2.0.2.tar.gz
StartedAt: 2022-01-18 16:38:48 -0500 (Tue, 18 Jan 2022)
EndedAt: 2022-01-18 16:51:06 -0500 (Tue, 18 Jan 2022)
EllapsedTime: 738.2 seconds
RetCode: 0
Status:   OK  
CheckDir: CAGEr.Rcheck
Warnings: 0

Command output

##############################################################################
##############################################################################
###
### Running command:
###
###   C:\Users\biocbuild\bbs-3.14-bioc\R\bin\R.exe CMD check --force-multiarch --install=check:CAGEr.install-out.txt --library=C:\Users\biocbuild\bbs-3.14-bioc\R\library --no-vignettes --timings CAGEr_2.0.2.tar.gz
###
##############################################################################
##############################################################################


* using log directory 'C:/Users/biocbuild/bbs-3.14-bioc/meat/CAGEr.Rcheck'
* using R version 4.1.2 (2021-11-01)
* using platform: x86_64-w64-mingw32 (64-bit)
* using session charset: ISO8859-1
* using option '--no-vignettes'
* checking for file 'CAGEr/DESCRIPTION' ... OK
* this is package 'CAGEr' version '2.0.2'
* package encoding: UTF-8
* checking package namespace information ... OK
* checking package dependencies ... OK
* checking if this is a source package ... OK
* checking if there is a namespace ... OK
* checking for hidden files and directories ... OK
* checking for portable file names ... OK
* checking whether package 'CAGEr' can be installed ... OK
* checking installed package size ... OK
* checking package directory ... OK
* checking 'build' directory ... OK
* checking DESCRIPTION meta-information ... OK
* checking top-level files ... OK
* checking for left-over files ... OK
* checking index information ... OK
* checking package subdirectories ... OK
* checking R files for non-ASCII characters ... OK
* checking R files for syntax errors ... OK
* loading checks for arch 'i386'
** checking whether the package can be loaded ... OK
** checking whether the package can be loaded with stated dependencies ... OK
** checking whether the package can be unloaded cleanly ... OK
** checking whether the namespace can be loaded with stated dependencies ... OK
** checking whether the namespace can be unloaded cleanly ... OK
* loading checks for arch 'x64'
** checking whether the package can be loaded ... OK
** checking whether the package can be loaded with stated dependencies ... OK
** checking whether the package can be unloaded cleanly ... OK
** checking whether the namespace can be loaded with stated dependencies ... OK
** checking whether the namespace can be unloaded cleanly ... OK
* checking dependencies in R code ... OK
* checking S3 generic/method consistency ... OK
* checking replacement functions ... OK
* checking foreign function calls ... OK
* checking R code for possible problems ... OK
* checking Rd files ... OK
* checking Rd metadata ... OK
* checking Rd cross-references ... OK
* checking for missing documentation entries ... OK
* checking for code/documentation mismatches ... OK
* checking Rd \usage sections ... OK
* checking Rd contents ... OK
* checking for unstated dependencies in examples ... OK
* checking contents of 'data' directory ... OK
* checking data for non-ASCII characters ... OK
* checking LazyData ... OK
* checking data for ASCII and uncompressed saves ... OK
* checking files in 'vignettes' ... OK
* checking examples ...
** running examples for arch 'i386' ... OK
Examples with CPU (user + system) or elapsed time > 5s
                            user system elapsed
clusterCTSS                37.63   0.41   38.71
cumulativeCTSSdistribution 27.44   5.63   33.16
exportToTrack              32.99   0.02   33.00
quantilePositions          18.26   0.03   18.30
aggregateTagClusters        9.45   0.05    9.50
CAGEexp-class               5.11   1.46    6.80
distclu-functions           5.11   0.73    5.84
plotExpressionProfiles      4.55   0.60    5.14
** running examples for arch 'x64' ... OK
Examples with CPU (user + system) or elapsed time > 5s
                            user system elapsed
clusterCTSS                33.18   0.35   33.52
exportToTrack              32.11   0.02   32.13
cumulativeCTSSdistribution 19.61   4.82   24.43
quantilePositions          17.41   0.08   17.48
aggregateTagClusters        8.56   0.00    8.56
* checking for unstated dependencies in vignettes ... OK
* checking package vignettes in 'inst/doc' ... OK
* checking running R code from vignettes ... SKIPPED
* checking re-building of vignette outputs ... SKIPPED
* checking PDF version of manual ... OK
* DONE

Status: OK


Installation output

CAGEr.Rcheck/00install.out

##############################################################################
##############################################################################
###
### Running command:
###
###   C:\cygwin\bin\curl.exe -O http://155.52.207.166/BBS/3.14/bioc/src/contrib/CAGEr_2.0.2.tar.gz && rm -rf CAGEr.buildbin-libdir && mkdir CAGEr.buildbin-libdir && C:\Users\biocbuild\bbs-3.14-bioc\R\bin\R.exe CMD INSTALL --merge-multiarch --build --library=CAGEr.buildbin-libdir CAGEr_2.0.2.tar.gz && C:\Users\biocbuild\bbs-3.14-bioc\R\bin\R.exe CMD INSTALL CAGEr_2.0.2.zip && rm CAGEr_2.0.2.tar.gz CAGEr_2.0.2.zip
###
##############################################################################
##############################################################################


  % Total    % Received % Xferd  Average Speed   Time    Time     Time  Current
                                 Dload  Upload   Total   Spent    Left  Speed

  0     0    0     0    0     0      0      0 --:--:-- --:--:-- --:--:--     0
100  678k  100  678k    0     0  2630k      0 --:--:-- --:--:-- --:--:-- 2639k

install for i386

* installing *source* package 'CAGEr' ...
** using staged installation
** R
** data
*** moving datasets to lazyload DB
** inst
** byte-compile and prepare package for lazy loading
** help
*** installing help indices
  converting help for package 'CAGEr'
    finding HTML links ... done
    CAGEexp-class                           html  
    finding level-2 HTML links ... done

    CAGEr-class                             html  
    CAGEr-package                           html  
    CAGEr_Multicore                         html  
    CTSS-class                              html  
    CTSSclusteringMethod                    html  
    CTSScoordinates                         html  
    CTSScumulativesTagClusters              html  
    CTSSnormalizedTpm                       html  
    CTSStagCount                            html  
    CTSStoGenes                             html  
    ConsensusClusters-class                 html  
    CustomConsensusClusters                 html  
    FANTOM5humanSamples                     html  
    FANTOM5mouseSamples                     html  
    GeneExpDESeq2                           html  
    GeneExpSE                               html  
    QuantileWidthFunctions                  html  
    TagClusters-class                       html  
    aggregateTagClusters                    html  
    annotateCTSS                            html  
    bam2CTSS                                html  
    byCtss                                  html  
    clusterAggregateAndSum                  html  
    clusterCTSS                             html  
    coerceInBSgenome                        html  
    consensusClusterConvertors              html  
    consensusClusters-set                   html  
    consensusClusters                       html  
    consensusClustersDESeq2                 html  
    consensusClustersQuantile               html  
    consensusClustersTpm                    html  
    coverage-functions                      html  
    cumulativeCTSSdistribution              html  
    distclu-functions                       html  
    exampleCAGEexp                          html  
    exampleZv9_annot                        html  
    exportToTrack                           html  
    expressionClasses                       html  
    genomeName                              html  
    getCTSS                                 html  
    getExpressionProfiles                   html  
    getShiftingPromoters                    html  
    hanabi-class                            html  
    hanabi                                  html  
REDIRECT:topic	 Previous alias or file overwritten by alias: C:/Users/biocbuild/bbs-3.14-bioc/meat/CAGEr.buildbin-libdir/00LOCK-CAGEr/00new/CAGEr/help/hanabi+2Clist-method.html
    hanabiPlot                              html  
    import.CAGEscanMolecule                 html  
    import.CTSS                             html  
    import.bam                              html  
    import.bam.ctss                         html  
    import.bedCTSS                          html  
    import.bedScore                         html  
    import.bedmolecule                      html  
    inputFiles                              html  
    inputFilesType                          html  
    librarySizes                            html  
    loadFileIntoGPos                        html  
    mapStats                                html  
    mapStatsScopes                          html  
    mergeCAGEsets                           html  
    mergeSamples                            html  
    moleculesGR2CTSS                        html  
    normalizeTagCount                       html  
    parseCAGEscanBlocksToGrangeTSS          html  
    plot.hanabi                             html  
    plotAnnot                               html  
    plotCorrelation                         html  
    plotExpressionProfiles                  html  
    plotInterquantileWidth                  html  
    plotReverseCumulatives                  html  
    powerLaw                                html  
    quantilePositions                       html  
    ranges2annot                            html  
    ranges2genes                            html  
    ranges2names                            html  
    sampleLabels                            html  
    scoreShift                              html  
    seqNameTotalsSE                         html  
    setColors                               html  
    strandInvaders                          html  
    summariseChrExpr                        html  
    tagClusters                             html  
** building package indices
** installing vignettes
** testing if installed package can be loaded from temporary location
** testing if installed package can be loaded from final location
** testing if installed package keeps a record of temporary installation path

install for x64

* installing *source* package 'CAGEr' ...
** testing if installed package can be loaded
* MD5 sums
packaged installation of 'CAGEr' as CAGEr_2.0.2.zip
* DONE (CAGEr)
* installing to library 'C:/Users/biocbuild/bbs-3.14-bioc/R/library'
package 'CAGEr' successfully unpacked and MD5 sums checked

Tests output


Example timings

CAGEr.Rcheck/examples_i386/CAGEr-Ex.timings

nameusersystemelapsed
CAGEexp-class5.111.466.80
CAGEr_Multicore0.060.000.06
CTSS-class0.440.070.52
CTSSclusteringMethod000
CTSScoordinates0.120.000.12
CTSSnormalizedTpm1.080.001.08
CTSStagCount0.910.000.91
CTSStoGenes0.560.000.56
CustomConsensusClusters1.270.031.30
GeneExpDESeq21.370.091.47
GeneExpSE000
QuantileWidthFunctions0.140.000.14
aggregateTagClusters9.450.059.50
annotateCTSS2.140.002.15
byCtss000
clusterCTSS37.63 0.4138.71
consensusClusters0.180.000.19
consensusClustersDESeq20.30.00.3
consensusClustersTpm0.020.000.01
coverage-functions2.870.313.19
cumulativeCTSSdistribution27.44 5.6333.16
distclu-functions5.110.735.84
exampleCAGEexp000
exportToTrack32.99 0.0233.00
expressionClasses0.010.000.01
genomeName000
getCTSS1.380.031.41
getExpressionProfiles3.400.003.41
getShiftingPromoters000
hanabi0.410.060.46
hanabiPlot0.340.280.63
import.CAGEscanMolecule000
import.CTSS0.110.000.11
import.bam000
import.bedCTSS000
import.bedScore000
import.bedmolecule000
inputFiles000
inputFilesType000
librarySizes000
mapStats0.050.000.05
mergeCAGEsets2.750.012.77
mergeSamples0.720.000.72
moleculesGR2CTSS0.140.000.14
normalizeTagCount0.810.000.81
parseCAGEscanBlocksToGrangeTSS0.030.000.03
plotAnnot2.800.032.92
plotCorrelation0.560.000.56
plotExpressionProfiles4.550.605.14
plotInterquantileWidth2.730.002.74
plotReverseCumulatives0.430.000.42
quantilePositions18.26 0.0318.30
ranges2annot0.440.000.44
ranges2genes0.060.000.06
ranges2names0.060.000.06
sampleLabels000
scoreShift000
seqNameTotalsSE0.020.000.02
setColors0.550.000.54
strandInvaders1.120.122.47
summariseChrExpr0.750.000.75
tagClusters0.140.000.14

CAGEr.Rcheck/examples_x64/CAGEr-Ex.timings

nameusersystemelapsed
CAGEexp-class3.980.854.83
CAGEr_Multicore0.030.020.04
CTSS-class0.370.000.37
CTSSclusteringMethod0.020.000.02
CTSScoordinates0.080.000.08
CTSSnormalizedTpm1.590.001.59
CTSStagCount0.840.010.86
CTSStoGenes0.490.000.49
CustomConsensusClusters1.110.001.10
GeneExpDESeq21.230.001.24
GeneExpSE0.020.000.01
QuantileWidthFunctions0.140.000.15
aggregateTagClusters8.560.008.56
annotateCTSS1.900.001.91
byCtss000
clusterCTSS33.18 0.3533.52
consensusClusters0.150.000.15
consensusClustersDESeq20.270.000.27
consensusClustersTpm0.010.000.01
coverage-functions2.520.222.74
cumulativeCTSSdistribution19.61 4.8224.43
distclu-functions3.250.553.80
exampleCAGEexp000
exportToTrack32.11 0.0232.13
expressionClasses0.010.000.01
genomeName000
getCTSS1.490.011.50
getExpressionProfiles2.670.002.67
getShiftingPromoters000
hanabi0.340.000.35
hanabiPlot0.490.020.50
import.CAGEscanMolecule000
import.CTSS0.110.010.12
import.bam000
import.bedCTSS000
import.bedScore000
import.bedmolecule000
inputFiles000
inputFilesType000
librarySizes000
mapStats0.050.000.05
mergeCAGEsets3.310.023.32
mergeSamples0.830.000.83
moleculesGR2CTSS1.190.001.19
normalizeTagCount0.760.030.80
parseCAGEscanBlocksToGrangeTSS0.030.000.03
plotAnnot1.800.021.81
plotCorrelation0.470.000.47
plotExpressionProfiles4.800.064.86
plotInterquantileWidth2.820.002.83
plotReverseCumulatives0.580.010.59
quantilePositions17.41 0.0817.48
ranges2annot0.370.000.38
ranges2genes0.070.000.06
ranges2names0.040.000.05
sampleLabels000
scoreShift000
seqNameTotalsSE0.020.000.01
setColors0.480.000.49
strandInvaders0.880.060.94
summariseChrExpr0.860.000.86
tagClusters0.140.000.14