Back to Multiple platform build/check report for BioC 3.14
A[B]CDEFGHIJKLMNOPQRSTUVWXYZ

This page was generated on 2022-01-14 13:06:06 -0500 (Fri, 14 Jan 2022).

HostnameOSArch (*)R versionInstalled pkgs
nebbiolo2Linux (Ubuntu 20.04.4 LTS)x86_644.1.2 (2021-11-01) -- "Bird Hippie" 4327
tokay2Windows Server 2012 R2 Standardx644.1.2 (2021-11-01) -- "Bird Hippie" 4076
machv2macOS 10.14.6 Mojavex86_644.1.2 (2021-11-01) -- "Bird Hippie" 4137
Click on any hostname to see more info about the system (e.g. compilers)      (*) as reported by 'uname -p', except on Windows and Mac OS X

BUILD BIN results for BubbleTree on tokay2


To the developers/maintainers of the BubbleTree package:
- Please allow up to 24 hours (and sometimes 48 hours) for your latest push to git@git.bioconductor.org:packages/BubbleTree.git to
reflect on this report. See How and When does the builder pull? When will my changes propagate? here for more information.
- Make sure to use the following settings in order to reproduce any error or warning you see on this page.

raw results

Package 222/2083HostnameOS / ArchINSTALLBUILDCHECKBUILD BIN
BubbleTree 2.24.0  (landing page)
Todd Creasy , Wei Zhu
Snapshot Date: 2022-01-13 01:55:04 -0500 (Thu, 13 Jan 2022)
git_url: https://git.bioconductor.org/packages/BubbleTree
git_branch: RELEASE_3_14
git_last_commit: c74ad0d
git_last_commit_date: 2021-10-26 12:18:49 -0500 (Tue, 26 Oct 2021)
nebbiolo2Linux (Ubuntu 20.04.4 LTS) / x86_64  OK    OK    OK  UNNEEDED, same version is already published
tokay2Windows Server 2012 R2 Standard / x64  OK    OK    OK    OK  UNNEEDED, same version is already published
machv2macOS 10.14.6 Mojave / x86_64  OK    OK    OK    OK  UNNEEDED, same version is already published

Summary

Package: BubbleTree
Version: 2.24.0
Command: rm -rf BubbleTree.buildbin-libdir && mkdir BubbleTree.buildbin-libdir && C:\Users\biocbuild\bbs-3.14-bioc\R\bin\R.exe CMD INSTALL --merge-multiarch --build --library=BubbleTree.buildbin-libdir BubbleTree_2.24.0.tar.gz
StartedAt: 2022-01-14 05:08:36 -0500 (Fri, 14 Jan 2022)
EndedAt: 2022-01-14 05:11:56 -0500 (Fri, 14 Jan 2022)
EllapsedTime: 199.7 seconds
RetCode: 0
Status:   OK  
PackageFile: BubbleTree_2.24.0.zip
PackageFileSize: 25.89 MiB

Command output

##############################################################################
##############################################################################
###
### Running command:
###
###   rm -rf BubbleTree.buildbin-libdir && mkdir BubbleTree.buildbin-libdir && C:\Users\biocbuild\bbs-3.14-bioc\R\bin\R.exe CMD INSTALL --merge-multiarch --build --library=BubbleTree.buildbin-libdir BubbleTree_2.24.0.tar.gz
###
##############################################################################
##############################################################################



install for i386

* installing *source* package 'BubbleTree' ...
** using staged installation
It is recommended to use 'given' instead of 'middle'.
** R
** data
** inst
** byte-compile and prepare package for lazy loading
** help
*** installing help indices
  converting help for package 'BubbleTree'
    finding HTML links ... done
    Annotate                                html  
    BTreePlotter                            html  
    BTreePredictor                          html  
    RBD                                     html  
    RscoreTrack                             html  
    TrackPlotter                            html  
    all.somatic.lst                         html  
    allCNV.lst                              html  
    allCall.lst                             html  
    allHetero.lst                           html  
    allRBD.lst                              html  
    annoByGenesAndCyto                      html  
    bafTrack                                html  
    btcompare                               html  
    btpredict                               html  
    cancer.genes.minus2                     html  
    centromere.dat                          html  
    cnv.gr                                  html  
    cyto.gr                                 html  
    drawBTree                               html  
    drawBubbles                             html  
    drawFeatures                            html  
    gene.uni.clean.gr                       html  
    getTracks                               html  
    heteroLociTrack                         html  
    hg19.seqinfo                            html  
    info                                    html  
    loadRBD                                 html  
    makeRBD                                 html  
    mergeSnpCnv                             html  
    saveXLS                                 html  
    snp.gr                                  html  
    trackBTree                              html  
    vol.genes                               html  
    xyTrack                                 html  
** building package indices
** installing vignettes
** testing if installed package can be loaded from temporary location
** testing if installed package can be loaded from final location
** testing if installed package keeps a record of temporary installation path

install for x64

* installing *source* package 'BubbleTree' ...
** testing if installed package can be loaded
* MD5 sums
packaged installation of 'BubbleTree' as BubbleTree_2.24.0.zip
* DONE (BubbleTree)