Back to Multiple platform build/check report for BioC 3.14
A[B]CDEFGHIJKLMNOPQRSTUVWXYZ

This page was generated on 2021-12-03 13:04:44 -0500 (Fri, 03 Dec 2021).

CHECK results for BubbleTree on nebbiolo2

To the developers/maintainers of the BubbleTree package:
- Please allow up to 24 hours (and sometimes 48 hours) for your latest push to git@git.bioconductor.org:packages/BubbleTree.git to
reflect on this report. See How and When does the builder pull? When will my changes propagate? here for more information.
- Make sure to use the following settings in order to reproduce any error or warning you see on this page.

raw results

Package 222/2083HostnameOS / ArchINSTALLBUILDCHECKBUILD BIN
BubbleTree 2.24.0  (landing page)
Todd Creasy , Wei Zhu
Snapshot Date: 2021-12-02 01:55:06 -0500 (Thu, 02 Dec 2021)
git_url: https://git.bioconductor.org/packages/BubbleTree
git_branch: RELEASE_3_14
git_last_commit: c74ad0d
git_last_commit_date: 2021-10-26 12:18:49 -0500 (Tue, 26 Oct 2021)
nebbiolo2Linux (Ubuntu 20.04.3 LTS) / x86_64  OK    OK    OK  UNNEEDED, same version is already published
tokay2Windows Server 2012 R2 Standard / x64  OK    OK    OK    OK  UNNEEDED, same version is already published
machv2macOS 10.14.6 Mojave / x86_64  OK    OK    OK    OK  UNNEEDED, same version is already published

Summary

Package: BubbleTree
Version: 2.24.0
Command: /home/biocbuild/bbs-3.14-bioc/R/bin/R CMD check --install=check:BubbleTree.install-out.txt --library=/home/biocbuild/bbs-3.14-bioc/R/library --no-vignettes --timings BubbleTree_2.24.0.tar.gz
StartedAt: 2021-12-02 06:26:35 -0500 (Thu, 02 Dec 2021)
EndedAt: 2021-12-02 06:32:04 -0500 (Thu, 02 Dec 2021)
EllapsedTime: 329.0 seconds
RetCode: 0
Status:   OK  
CheckDir: BubbleTree.Rcheck
Warnings: 0

Command output

##############################################################################
##############################################################################
###
### Running command:
###
###   /home/biocbuild/bbs-3.14-bioc/R/bin/R CMD check --install=check:BubbleTree.install-out.txt --library=/home/biocbuild/bbs-3.14-bioc/R/library --no-vignettes --timings BubbleTree_2.24.0.tar.gz
###
##############################################################################
##############################################################################


* using log directory ‘/home/biocbuild/bbs-3.14-bioc/meat/BubbleTree.Rcheck’
* using R version 4.1.2 (2021-11-01)
* using platform: x86_64-pc-linux-gnu (64-bit)
* using session charset: UTF-8
* using option ‘--no-vignettes’
* checking for file ‘BubbleTree/DESCRIPTION’ ... OK
* checking extension type ... Package
* this is package ‘BubbleTree’ version ‘2.24.0’
* checking package namespace information ... OK
* checking package dependencies ... OK
* checking if this is a source package ... OK
* checking if there is a namespace ... OK
* checking for hidden files and directories ... OK
* checking for portable file names ... OK
* checking for sufficient/correct file permissions ... OK
* checking whether package ‘BubbleTree’ can be installed ... OK
* checking installed package size ... NOTE
  installed size is 23.8Mb
  sub-directories of 1Mb or more:
    data  23.4Mb
* checking package directory ... OK
* checking ‘build’ directory ... OK
* checking DESCRIPTION meta-information ...It is recommended to use ‘given’ instead of ‘middle’.
 OK
* checking top-level files ... OK
* checking for left-over files ... OK
* checking index information ... OK
* checking package subdirectories ... OK
* checking R files for non-ASCII characters ... OK
* checking R files for syntax errors ... OK
* checking whether the package can be loaded ... OK
* checking whether the package can be loaded with stated dependencies ... OK
* checking whether the package can be unloaded cleanly ... OK
* checking whether the namespace can be loaded with stated dependencies ... OK
* checking whether the namespace can be unloaded cleanly ... OK
* checking dependencies in R code ... OK
* checking S3 generic/method consistency ... OK
* checking replacement functions ... OK
* checking foreign function calls ... OK
* checking R code for possible problems ... NOTE
annoByOverlap,Annotate: no visible binding for global variable
  'queryHits'
Undefined global functions or variables:
  queryHits
* checking Rd files ... OK
* checking Rd metadata ... OK
* checking Rd cross-references ... OK
* checking for missing documentation entries ... OK
* checking for code/documentation mismatches ... OK
* checking Rd \usage sections ... OK
* checking Rd contents ... OK
* checking for unstated dependencies in examples ... OK
* checking contents of ‘data’ directory ... OK
* checking data for non-ASCII characters ... OK
* checking data for ASCII and uncompressed saves ... OK
* checking files in ‘vignettes’ ... OK
* checking examples ... OK
Examples with CPU (user + system) or elapsed time > 5s
                  user system elapsed
makeRBD         12.908  0.064  12.973
heteroLociTrack  7.408  1.288   8.697
* checking for unstated dependencies in vignettes ... OK
* checking package vignettes in ‘inst/doc’ ... OK
* checking running R code from vignettes ... SKIPPED
* checking re-building of vignette outputs ... SKIPPED
* checking PDF version of manual ... OK
* DONE

Status: 2 NOTEs
See
  ‘/home/biocbuild/bbs-3.14-bioc/meat/BubbleTree.Rcheck/00check.log’
for details.



Installation output

BubbleTree.Rcheck/00install.out

##############################################################################
##############################################################################
###
### Running command:
###
###   /home/biocbuild/bbs-3.14-bioc/R/bin/R CMD INSTALL BubbleTree
###
##############################################################################
##############################################################################


* installing to library ‘/home/biocbuild/bbs-3.14-bioc/R/library’
* installing *source* package ‘BubbleTree’ ...
** using staged installation
It is recommended to use ‘given’ instead of ‘middle’.
** R
** data
** inst
** byte-compile and prepare package for lazy loading
** help
*** installing help indices
** building package indices
** installing vignettes
** testing if installed package can be loaded from temporary location
** testing if installed package can be loaded from final location
** testing if installed package keeps a record of temporary installation path
* DONE (BubbleTree)

Tests output


Example timings

BubbleTree.Rcheck/BubbleTree-Ex.timings

nameusersystemelapsed
Annotate0.0000.0000.001
BTreePlotter0.0780.0120.090
BTreePredictor0.0070.0000.007
RBD000
RscoreTrack0.5400.0240.564
TrackPlotter0.0000.0000.001
annoByGenesAndCyto0.5180.0000.518
bafTrack0.2650.0240.288
btcompare0.0030.0000.002
btpredict2.340.202.54
drawBTree0.2510.0080.259
drawBubbles0.2620.0080.271
drawFeatures0.9690.0321.002
getTracks0.7180.0160.734
heteroLociTrack7.4081.2888.697
info3.1200.2483.369
loadRBD0.0220.0000.022
makeRBD12.908 0.06412.973
saveXLS0.2880.0400.334
trackBTree0.2620.0080.269
xyTrack0.2580.0040.262