Back to Multiple platform build/check report for BioC 3.14
A[B]CDEFGHIJKLMNOPQRSTUVWXYZ

This page was generated on 2022-01-24 13:05:58 -0500 (Mon, 24 Jan 2022).

HostnameOSArch (*)R versionInstalled pkgs
nebbiolo2Linux (Ubuntu 20.04.4 LTS)x86_644.1.2 (2021-11-01) -- "Bird Hippie" 4329
tokay2Windows Server 2012 R2 Standardx644.1.2 (2021-11-01) -- "Bird Hippie" 4080
machv2macOS 10.14.6 Mojavex86_644.1.2 (2021-11-01) -- "Bird Hippie" 4141
Click on any hostname to see more info about the system (e.g. compilers)      (*) as reported by 'uname -p', except on Windows and Mac OS X

INSTALL results for BrainStars on tokay2


To the developers/maintainers of the BrainStars package:
- Please allow up to 24 hours (and sometimes 48 hours) for your latest push to git@git.bioconductor.org:packages/BrainStars.git to
reflect on this report. See How and When does the builder pull? When will my changes propagate? here for more information.
- Make sure to use the following settings in order to reproduce any error or warning you see on this page.

raw results

Package 212/2083HostnameOS / ArchINSTALLBUILDCHECKBUILD BIN
BrainStars 1.38.0  (landing page)
Itoshi NIKAIDO
Snapshot Date: 2022-01-23 01:55:04 -0500 (Sun, 23 Jan 2022)
git_url: https://git.bioconductor.org/packages/BrainStars
git_branch: RELEASE_3_14
git_last_commit: 58371f0
git_last_commit_date: 2021-10-26 12:02:29 -0500 (Tue, 26 Oct 2021)
nebbiolo2Linux (Ubuntu 20.04.4 LTS) / x86_64  OK    ERROR  skipped
tokay2Windows Server 2012 R2 Standard / x64  OK    ERROR  skippedskipped
machv2macOS 10.14.6 Mojave / x86_64  OK    ERROR  skippedskipped

Summary

Package: BrainStars
Version: 1.38.0
Command: C:\cygwin\bin\curl.exe -O http://155.52.207.166/BBS/3.14/bioc/src/contrib/BrainStars_1.38.0.tar.gz && rm -rf BrainStars.buildbin-libdir && mkdir BrainStars.buildbin-libdir && C:\Users\biocbuild\bbs-3.14-bioc\R\bin\R.exe CMD INSTALL --merge-multiarch --build --library=BrainStars.buildbin-libdir BrainStars_1.38.0.tar.gz && C:\Users\biocbuild\bbs-3.14-bioc\R\bin\R.exe CMD INSTALL BrainStars_1.38.0.zip && rm BrainStars_1.38.0.tar.gz BrainStars_1.38.0.zip
StartedAt: 2022-01-23 04:26:13 -0500 (Sun, 23 Jan 2022)
EndedAt: 2022-01-23 04:26:30 -0500 (Sun, 23 Jan 2022)
EllapsedTime: 17.1 seconds
RetCode: 0
Status:   OK  

Command output

##############################################################################
##############################################################################
###
### Running command:
###
###   C:\cygwin\bin\curl.exe -O http://155.52.207.166/BBS/3.14/bioc/src/contrib/BrainStars_1.38.0.tar.gz && rm -rf BrainStars.buildbin-libdir && mkdir BrainStars.buildbin-libdir && C:\Users\biocbuild\bbs-3.14-bioc\R\bin\R.exe CMD INSTALL --merge-multiarch --build --library=BrainStars.buildbin-libdir BrainStars_1.38.0.tar.gz && C:\Users\biocbuild\bbs-3.14-bioc\R\bin\R.exe CMD INSTALL BrainStars_1.38.0.zip && rm BrainStars_1.38.0.tar.gz BrainStars_1.38.0.zip
###
##############################################################################
##############################################################################


  % Total    % Received % Xferd  Average Speed   Time    Time     Time  Current
                                 Dload  Upload   Total   Spent    Left  Speed

  0     0    0     0    0     0      0      0 --:--:-- --:--:-- --:--:--     0
100  207k  100  207k    0     0   923k      0 --:--:-- --:--:-- --:--:--  928k

install for i386

* installing *source* package 'BrainStars' ...
** using staged installation
** R
** byte-compile and prepare package for lazy loading
** help
*** installing help indices
  converting help for package 'BrainStars'
    finding HTML links ... done
    BrainStars                              html  
REDIRECT:topic	 Previous alias or file overwritten by alias: C:/Users/biocbuild/bbs-3.14-bioc/meat/BrainStars.buildbin-libdir/00LOCK-BrainStars/00new/BrainStars/help/BrainStars.html
    getBrainStars                           html  
    getBrainStarsFigure                     html  
** building package indices
** installing vignettes
** testing if installed package can be loaded from temporary location
Warning: Package 'BrainStars' is deprecated and will be removed from
  Bioconductor version 3.15
** testing if installed package can be loaded from final location
Warning: Package 'BrainStars' is deprecated and will be removed from
  Bioconductor version 3.15
** testing if installed package keeps a record of temporary installation path

install for x64

* installing *source* package 'BrainStars' ...
** testing if installed package can be loaded
Warning: Package 'BrainStars' is deprecated and will be removed from
  Bioconductor version 3.15
* MD5 sums
packaged installation of 'BrainStars' as BrainStars_1.38.0.zip
* DONE (BrainStars)
* installing to library 'C:/Users/biocbuild/bbs-3.14-bioc/R/library'
package 'BrainStars' successfully unpacked and MD5 sums checked