Back to Multiple platform build/check report for BioC 3.14
A[B]CDEFGHIJKLMNOPQRSTUVWXYZ

This page was generated on 2021-10-20 12:05:02 -0400 (Wed, 20 Oct 2021).

INSTALL results for BrainStars on riesling1

To the developers/maintainers of the BrainStars package:
- Please allow up to 24 hours (and sometimes 48 hours) for your latest push to git@git.bioconductor.org:packages/BrainStars.git to
reflect on this report. See How and When does the builder pull? When will my changes propagate? here for more information.
- Make sure to use the following settings in order to reproduce any error or warning you see on this page.

raw results

Package 210/2072HostnameOS / ArchINSTALLBUILDCHECKBUILD BIN
BrainStars 1.37.1  (landing page)
Itoshi NIKAIDO
Snapshot Date: 2021-10-19 14:50:04 -0400 (Tue, 19 Oct 2021)
git_url: https://git.bioconductor.org/packages/BrainStars
git_branch: master
git_last_commit: 370ad7d
git_last_commit_date: 2021-06-21 10:39:16 -0400 (Mon, 21 Jun 2021)
nebbiolo2Linux (Ubuntu 20.04.2 LTS) / x86_64  OK    ERROR  skipped
riesling1Windows Server 2019 Standard / x64  OK    ERROR  skippedskipped
merida1macOS 10.14.6 Mojave / x86_64  OK    ERROR  skippedskipped

Summary

Package: BrainStars
Version: 1.37.1
Command: C:\cygwin\bin\curl.exe -O http://155.52.207.166/BBS/3.14/bioc/src/contrib/BrainStars_1.37.1.tar.gz && rm -rf BrainStars.buildbin-libdir && mkdir BrainStars.buildbin-libdir && D:\biocbuild\bbs-3.14-bioc\R\bin\R.exe CMD INSTALL --merge-multiarch --build --library=BrainStars.buildbin-libdir BrainStars_1.37.1.tar.gz && D:\biocbuild\bbs-3.14-bioc\R\bin\R.exe CMD INSTALL BrainStars_1.37.1.zip && rm BrainStars_1.37.1.tar.gz BrainStars_1.37.1.zip
StartedAt: 2021-10-19 16:59:43 -0400 (Tue, 19 Oct 2021)
EndedAt: 2021-10-19 17:03:00 -0400 (Tue, 19 Oct 2021)
EllapsedTime: 196.8 seconds
RetCode: 0
Status:   OK  

Command output

##############################################################################
##############################################################################
###
### Running command:
###
###   C:\cygwin\bin\curl.exe -O http://155.52.207.166/BBS/3.14/bioc/src/contrib/BrainStars_1.37.1.tar.gz && rm -rf BrainStars.buildbin-libdir && mkdir BrainStars.buildbin-libdir && D:\biocbuild\bbs-3.14-bioc\R\bin\R.exe CMD INSTALL --merge-multiarch --build --library=BrainStars.buildbin-libdir BrainStars_1.37.1.tar.gz && D:\biocbuild\bbs-3.14-bioc\R\bin\R.exe CMD INSTALL BrainStars_1.37.1.zip && rm BrainStars_1.37.1.tar.gz BrainStars_1.37.1.zip
###
##############################################################################
##############################################################################


  % Total    % Received % Xferd  Average Speed   Time    Time     Time  Current
                                 Dload  Upload   Total   Spent    Left  Speed

  0     0    0     0    0     0      0      0 --:--:-- --:--:-- --:--:--     0
100  207k  100  207k    0     0   761k      0 --:--:-- --:--:-- --:--:--  761k

install for i386

* installing *source* package 'BrainStars' ...
** using staged installation
** R
** byte-compile and prepare package for lazy loading
** help
*** installing help indices
  converting help for package 'BrainStars'
    finding HTML links ... done
    BrainStars                              html  
REDIRECT:topic	 Previous alias or file overwritten by alias: D:/biocbuild/bbs-3.14-bioc/meat/BrainStars.buildbin-libdir/00LOCK-BrainStars/00new/BrainStars/help/BrainStars.html
    getBrainStars                           html  
    getBrainStarsFigure                     html  
** building package indices
** installing vignettes
** testing if installed package can be loaded from temporary location
Warning: Package 'BrainStars' is deprecated and will be removed from
  Bioconductor version 3.15
** testing if installed package can be loaded from final location
Warning: Package 'BrainStars' is deprecated and will be removed from
  Bioconductor version 3.15
** testing if installed package keeps a record of temporary installation path

install for x64

* installing *source* package 'BrainStars' ...
** testing if installed package can be loaded
Warning: Package 'BrainStars' is deprecated and will be removed from
  Bioconductor version 3.15
* MD5 sums
packaged installation of 'BrainStars' as BrainStars_1.37.1.zip
* DONE (BrainStars)
* installing to library 'D:/biocbuild/bbs-3.14-bioc/R/library'
package 'BrainStars' successfully unpacked and MD5 sums checked