Back to Multiple platform build/check report for BioC 3.14
A[B]CDEFGHIJKLMNOPQRSTUVWXYZ

This page was generated on 2021-10-22 12:04:52 -0400 (Fri, 22 Oct 2021).

INSTALL results for BrainStars on merida1

To the developers/maintainers of the BrainStars package:
- Please allow up to 24 hours (and sometimes 48 hours) for your latest push to git@git.bioconductor.org:packages/BrainStars.git to
reflect on this report. See How and When does the builder pull? When will my changes propagate? here for more information.
- Make sure to use the following settings in order to reproduce any error or warning you see on this page.

raw results

Package 210/2075HostnameOS / ArchINSTALLBUILDCHECKBUILD BIN
BrainStars 1.37.1  (landing page)
Itoshi NIKAIDO
Snapshot Date: 2021-10-21 14:50:08 -0400 (Thu, 21 Oct 2021)
git_url: https://git.bioconductor.org/packages/BrainStars
git_branch: master
git_last_commit: 370ad7d
git_last_commit_date: 2021-06-21 10:39:16 -0400 (Mon, 21 Jun 2021)
nebbiolo2Linux (Ubuntu 20.04.2 LTS) / x86_64  OK    ERROR  skipped
riesling1Windows Server 2019 Standard / x64  OK    ERROR  skippedskipped
merida1macOS 10.14.6 Mojave / x86_64  OK    ERROR  skippedskipped

Summary

Package: BrainStars
Version: 1.37.1
Command: /Library/Frameworks/R.framework/Resources/bin/R CMD INSTALL BrainStars
StartedAt: 2021-10-21 16:29:09 -0400 (Thu, 21 Oct 2021)
EndedAt: 2021-10-21 16:29:47 -0400 (Thu, 21 Oct 2021)
EllapsedTime: 38.0 seconds
RetCode: 0
Status:   OK  

Command output

##############################################################################
##############################################################################
###
### Running command:
###
###   /Library/Frameworks/R.framework/Resources/bin/R CMD INSTALL BrainStars
###
##############################################################################
##############################################################################


* installing to library ‘/Library/Frameworks/R.framework/Versions/4.1/Resources/library’
* installing *source* package ‘BrainStars’ ...
** using staged installation
** R
** byte-compile and prepare package for lazy loading
** help
*** installing help indices
** building package indices
** installing vignettes
** testing if installed package can be loaded from temporary location
Warning: Package 'BrainStars' is deprecated and will be removed from
  Bioconductor version 3.15
** testing if installed package can be loaded from final location
Warning: Package 'BrainStars' is deprecated and will be removed from
  Bioconductor version 3.15
** testing if installed package keeps a record of temporary installation path
* DONE (BrainStars)