Back to Multiple platform build/check report for BioC 3.14
A[B]CDEFGHIJKLMNOPQRSTUVWXYZ

This page was generated on 2022-01-17 13:05:59 -0500 (Mon, 17 Jan 2022).

HostnameOSArch (*)R versionInstalled pkgs
nebbiolo2Linux (Ubuntu 20.04.4 LTS)x86_644.1.2 (2021-11-01) -- "Bird Hippie" 4328
tokay2Windows Server 2012 R2 Standardx644.1.2 (2021-11-01) -- "Bird Hippie" 4077
machv2macOS 10.14.6 Mojavex86_644.1.2 (2021-11-01) -- "Bird Hippie" 4138
Click on any hostname to see more info about the system (e.g. compilers)      (*) as reported by 'uname -p', except on Windows and Mac OS X

CHECK results for BrainSABER on tokay2


To the developers/maintainers of the BrainSABER package:
- Please allow up to 24 hours (and sometimes 48 hours) for your latest push to git@git.bioconductor.org:packages/BrainSABER.git to
reflect on this report. See How and When does the builder pull? When will my changes propagate? here for more information.
- Make sure to use the following settings in order to reproduce any error or warning you see on this page.

raw results

Package 211/2083HostnameOS / ArchINSTALLBUILDCHECKBUILD BIN
BrainSABER 1.4.0  (landing page)
USD Biomedical Engineering
Snapshot Date: 2022-01-16 01:55:05 -0500 (Sun, 16 Jan 2022)
git_url: https://git.bioconductor.org/packages/BrainSABER
git_branch: RELEASE_3_14
git_last_commit: 27ae2bc
git_last_commit_date: 2021-10-26 12:59:58 -0500 (Tue, 26 Oct 2021)
nebbiolo2Linux (Ubuntu 20.04.4 LTS) / x86_64  OK    ERROR  skipped
tokay2Windows Server 2012 R2 Standard / x64  OK    OK    OK    OK  UNNEEDED, same version is already published
machv2macOS 10.14.6 Mojave / x86_64  OK    OK    OK    OK  UNNEEDED, same version is already published

Summary

Package: BrainSABER
Version: 1.4.0
Command: C:\Users\biocbuild\bbs-3.14-bioc\R\bin\R.exe CMD check --force-multiarch --install=check:BrainSABER.install-out.txt --library=C:\Users\biocbuild\bbs-3.14-bioc\R\library --no-vignettes --timings BrainSABER_1.4.0.tar.gz
StartedAt: 2022-01-16 17:43:57 -0500 (Sun, 16 Jan 2022)
EndedAt: 2022-01-16 17:47:54 -0500 (Sun, 16 Jan 2022)
EllapsedTime: 237.5 seconds
RetCode: 0
Status:   OK  
CheckDir: BrainSABER.Rcheck
Warnings: 0

Command output

##############################################################################
##############################################################################
###
### Running command:
###
###   C:\Users\biocbuild\bbs-3.14-bioc\R\bin\R.exe CMD check --force-multiarch --install=check:BrainSABER.install-out.txt --library=C:\Users\biocbuild\bbs-3.14-bioc\R\library --no-vignettes --timings BrainSABER_1.4.0.tar.gz
###
##############################################################################
##############################################################################


* using log directory 'C:/Users/biocbuild/bbs-3.14-bioc/meat/BrainSABER.Rcheck'
* using R version 4.1.2 (2021-11-01)
* using platform: x86_64-w64-mingw32 (64-bit)
* using session charset: ISO8859-1
* using option '--no-vignettes'
* checking for file 'BrainSABER/DESCRIPTION' ... OK
* checking extension type ... Package
* this is package 'BrainSABER' version '1.4.0'
* package encoding: UTF-8
* checking package namespace information ... OK
* checking package dependencies ... OK
* checking if this is a source package ... OK
* checking if there is a namespace ... OK
* checking for hidden files and directories ... OK
* checking for portable file names ... OK
* checking whether package 'BrainSABER' can be installed ... OK
* checking installed package size ... OK
* checking package directory ... OK
* checking 'build' directory ... OK
* checking DESCRIPTION meta-information ... OK
* checking top-level files ... OK
* checking for left-over files ... OK
* checking index information ... OK
* checking package subdirectories ... OK
* checking R files for non-ASCII characters ... OK
* checking R files for syntax errors ... OK
* loading checks for arch 'i386'
** checking whether the package can be loaded ... OK
** checking whether the package can be loaded with stated dependencies ... OK
** checking whether the package can be unloaded cleanly ... OK
** checking whether the namespace can be loaded with stated dependencies ... OK
** checking whether the namespace can be unloaded cleanly ... OK
* loading checks for arch 'x64'
** checking whether the package can be loaded ... OK
** checking whether the package can be loaded with stated dependencies ... OK
** checking whether the package can be unloaded cleanly ... OK
** checking whether the namespace can be loaded with stated dependencies ... OK
** checking whether the namespace can be unloaded cleanly ... OK
* checking dependencies in R code ... OK
* checking S3 generic/method consistency ... OK
* checking replacement functions ... OK
* checking foreign function calls ... OK
* checking R code for possible problems ... OK
* checking Rd files ... OK
* checking Rd metadata ... OK
* checking Rd cross-references ... OK
* checking for missing documentation entries ... OK
* checking for code/documentation mismatches ... OK
* checking Rd \usage sections ... OK
* checking Rd contents ... OK
* checking for unstated dependencies in examples ... OK
* checking files in 'vignettes' ... OK
* checking examples ...
** running examples for arch 'i386' ... OK
** running examples for arch 'x64' ... OK
* checking for unstated dependencies in vignettes ... OK
* checking package vignettes in 'inst/doc' ... OK
* checking running R code from vignettes ... SKIPPED
* checking re-building of vignette outputs ... SKIPPED
* checking PDF version of manual ... OK
* DONE

Status: OK


Installation output

BrainSABER.Rcheck/00install.out

##############################################################################
##############################################################################
###
### Running command:
###
###   C:\cygwin\bin\curl.exe -O http://155.52.207.166/BBS/3.14/bioc/src/contrib/BrainSABER_1.4.0.tar.gz && rm -rf BrainSABER.buildbin-libdir && mkdir BrainSABER.buildbin-libdir && C:\Users\biocbuild\bbs-3.14-bioc\R\bin\R.exe CMD INSTALL --merge-multiarch --build --library=BrainSABER.buildbin-libdir BrainSABER_1.4.0.tar.gz && C:\Users\biocbuild\bbs-3.14-bioc\R\bin\R.exe CMD INSTALL BrainSABER_1.4.0.zip && rm BrainSABER_1.4.0.tar.gz BrainSABER_1.4.0.zip
###
##############################################################################
##############################################################################


  % Total    % Received % Xferd  Average Speed   Time    Time     Time  Current
                                 Dload  Upload   Total   Spent    Left  Speed

  0     0    0     0    0     0      0      0 --:--:-- --:--:-- --:--:--     0
100 23493  100 23493    0     0   282k      0 --:--:-- --:--:-- --:--:--  286k

install for i386

* installing *source* package 'BrainSABER' ...
** using staged installation
** R
** inst
** byte-compile and prepare package for lazy loading
** help
*** installing help indices
  converting help for package 'BrainSABER'
    finding HTML links ... done
    CellScabbard-methods                    html  
    CellScabbard                            html  
    buildAIBSARNA                           html  
    getExampleVector                        html  
    getExternalVector                       html  
    getRelevantGenes                        html  
    getSimDataFrame                         html  
    getSimMatrix                            html  
    getSimScores                            html  
    getTrimmedExternalSet                   html  
    getUNDmatrix                            html  
    runShinyBrainSABER                      html  
** building package indices
** installing vignettes
** testing if installed package can be loaded from temporary location
** testing if installed package can be loaded from final location
** testing if installed package keeps a record of temporary installation path

install for x64

* installing *source* package 'BrainSABER' ...
** testing if installed package can be loaded
* MD5 sums
packaged installation of 'BrainSABER' as BrainSABER_1.4.0.zip
* DONE (BrainSABER)
* installing to library 'C:/Users/biocbuild/bbs-3.14-bioc/R/library'
package 'BrainSABER' successfully unpacked and MD5 sums checked

Tests output


Example timings

BrainSABER.Rcheck/examples_i386/BrainSABER-Ex.timings

nameusersystemelapsed
CellScabbard-methods0.550.090.64
CellScabbard0.390.000.39
buildAIBSARNA0.010.000.01
getExampleVector0.080.000.08
getExternalVector0.050.000.05
getRelevantGenes0.420.000.42
getSimDataFrame0.690.001.40
getSimMatrix0.550.000.55
getSimScores0.490.000.48
getTrimmedExternalSet0.50.00.5
getUNDmatrix0.480.000.49
runShinyBrainSABER000

BrainSABER.Rcheck/examples_x64/BrainSABER-Ex.timings

nameusersystemelapsed
CellScabbard-methods0.430.030.48
CellScabbard0.460.000.46
buildAIBSARNA0.010.000.02
getExampleVector0.080.000.08
getExternalVector0.610.000.61
getRelevantGenes0.390.000.39
getSimDataFrame0.500.040.54
getSimMatrix0.700.020.72
getSimScores0.50.00.5
getTrimmedExternalSet0.50.00.5
getUNDmatrix0.470.000.47
runShinyBrainSABER000