Index of /checkResults/3.14/bioc-LATEST/BrainSABER/raw-results/tokay2

[ICO]NameLast modifiedSizeDescription

[DIR]Parent Directory  -  
[TXT]buildbin-out.txt27-Jan-2022 03:06 1.9K 
[   ]buildbin-summary.dcf27-Jan-2022 03:06 554  
[TXT]buildsrc-out.txt27-Jan-2022 03:06 859  
[   ]buildsrc-summary.dcf27-Jan-2022 03:06 470  
[TXT]checksrc-out.txt27-Jan-2022 03:06 3.5K 
[   ]checksrc-summary.dcf27-Jan-2022 03:06 472  
[TXT]install-out.txt27-Jan-2022 03:06 2.6K 
[   ]install-summary.dcf27-Jan-2022 03:06 661