Index of /checkResults/3.14/bioc-LATEST/BrainSABER/raw-results/nebbiolo2

[ICO]NameLast modifiedSizeDescription

[DIR]Parent Directory  -  
[TXT]buildsrc-out.txt22-Jan-2022 03:04 3.6K 
[   ]buildsrc-summary.dcf22-Jan-2022 03:04 339  
[TXT]checksrc-out.txt20-Jan-2022 03:05 2.9K 
[   ]checksrc-summary.dcf20-Jan-2022 03:05 434  
[TXT]install-out.txt22-Jan-2022 03:04 956  
[   ]install-summary.dcf22-Jan-2022 03:04 264