Back to Multiple platform build/check report for BioC 3.14
A[B]CDEFGHIJKLMNOPQRSTUVWXYZ

This page was generated on 2021-10-23 14:05:54 -0400 (Sat, 23 Oct 2021).

BUILD results for BloodGen3Module on nebbiolo2

To the developers/maintainers of the BloodGen3Module package:
- Please allow up to 24 hours (and sometimes 48 hours) for your latest push to git@git.bioconductor.org:packages/BloodGen3Module.git to
reflect on this report. See How and When does the builder pull? When will my changes propagate? here for more information.
- Make sure to use the following settings in order to reproduce any error or warning you see on this page.

raw results

Package 204/2083HostnameOS / ArchINSTALLBUILDCHECKBUILD BIN
BloodGen3Module 1.1.1  (landing page)
Darawan Rinchai
Snapshot Date: 2021-10-22 14:50:11 -0400 (Fri, 22 Oct 2021)
git_url: https://git.bioconductor.org/packages/BloodGen3Module
git_branch: master
git_last_commit: 627196f
git_last_commit_date: 2021-09-16 04:35:21 -0400 (Thu, 16 Sep 2021)
nebbiolo2Linux (Ubuntu 20.04.2 LTS) / x86_64  OK    OK    WARNINGS  UNNEEDED, same version is already published
riesling1Windows Server 2019 Standard / x64  OK    OK    WARNINGS    OK  UNNEEDED, same version is already published
merida1macOS 10.14.6 Mojave / x86_64  OK    OK    WARNINGS    OK  UNNEEDED, same version is already published

Summary

Package: BloodGen3Module
Version: 1.1.1
Command: /home/biocbuild/bbs-3.14-bioc/R/bin/R CMD build --keep-empty-dirs --no-resave-data BloodGen3Module
StartedAt: 2021-10-22 16:50:13 -0400 (Fri, 22 Oct 2021)
EndedAt: 2021-10-22 16:51:22 -0400 (Fri, 22 Oct 2021)
EllapsedTime: 69.2 seconds
RetCode: 0
Status:   OK  
PackageFile: BloodGen3Module_1.1.1.tar.gz
PackageFileSize: 178.3 KiB

Command output

##############################################################################
##############################################################################
###
### Running command:
###
###   /home/biocbuild/bbs-3.14-bioc/R/bin/R CMD build --keep-empty-dirs --no-resave-data BloodGen3Module
###
##############################################################################
##############################################################################


* checking for file ‘BloodGen3Module/DESCRIPTION’ ... OK
* preparing ‘BloodGen3Module’:
* checking DESCRIPTION meta-information ... OK
* installing the package to build vignettes
* creating vignettes ... OK
* checking for LF line-endings in source and make files and shell scripts
* checking for empty or unneeded directories
* looking to see if a ‘data/datalist’ file should be added
* building ‘BloodGen3Module_1.1.1.tar.gz’