Back to Multiple platform build/check report for BioC 3.14
A[B]CDEFGHIJKLMNOPQRSTUVWXYZ

This page was generated on 2021-10-20 12:05:01 -0400 (Wed, 20 Oct 2021).

BUILD results for BitSeq on riesling1

To the developers/maintainers of the BitSeq package:
- Please allow up to 24 hours (and sometimes 48 hours) for your latest push to git@git.bioconductor.org:packages/BitSeq.git to
reflect on this report. See How and When does the builder pull? When will my changes propagate? here for more information.
- Make sure to use the following settings in order to reproduce any error or warning you see on this page.

raw results

Package 198/2072HostnameOS / ArchINSTALLBUILDCHECKBUILD BIN
BitSeq 1.37.0  (landing page)
Antti Honkela , Panagiotis Papastamoulis
Snapshot Date: 2021-10-19 14:50:04 -0400 (Tue, 19 Oct 2021)
git_url: https://git.bioconductor.org/packages/BitSeq
git_branch: master
git_last_commit: fe3e573
git_last_commit_date: 2021-05-19 11:52:00 -0400 (Wed, 19 May 2021)
nebbiolo2Linux (Ubuntu 20.04.2 LTS) / x86_64  OK    OK    WARNINGS  UNNEEDED, same version is already published
riesling1Windows Server 2019 Standard / x64  OK    OK    WARNINGS    OK  UNNEEDED, same version is already published
merida1macOS 10.14.6 Mojave / x86_64  OK    OK    WARNINGS    OK  UNNEEDED, same version is already published

Summary

Package: BitSeq
Version: 1.37.0
Command: chmod a+r BitSeq -R && D:\biocbuild\bbs-3.14-bioc\R\bin\R.exe CMD build --keep-empty-dirs --no-resave-data BitSeq
StartedAt: 2021-10-19 20:01:05 -0400 (Tue, 19 Oct 2021)
EndedAt: 2021-10-19 20:05:39 -0400 (Tue, 19 Oct 2021)
EllapsedTime: 273.2 seconds
RetCode: 0
Status:   OK  
PackageFile: BitSeq_1.37.0.tar.gz
PackageFileSize: 1.17 MiB

Command output

##############################################################################
##############################################################################
###
### Running command:
###
###   chmod a+r BitSeq -R && D:\biocbuild\bbs-3.14-bioc\R\bin\R.exe CMD build --keep-empty-dirs --no-resave-data BitSeq
###
##############################################################################
##############################################################################


* checking for file 'BitSeq/DESCRIPTION' ... OK
* preparing 'BitSeq':
* checking DESCRIPTION meta-information ... OK
* cleaning src
* installing the package to build vignettes
* creating vignettes ... OK
* cleaning src
* checking for LF line-endings in source and make files and shell scripts
* checking for empty or unneeded directories
* building 'BitSeq_1.37.0.tar.gz'
Warning: file 'BitSeq/cleanup' did not have execute permissions: corrected
Warning: file 'BitSeq/configure' did not have execute permissions: corrected