Index of /checkResults/3.14/bioc-LATEST/BitSeq/raw-results/tokay2

[ICO]NameLast modifiedSizeDescription

[DIR]Parent Directory  -  
[TXT]buildbin-out.txt15-Jan-2022 03:06 31K 
[   ]buildbin-summary.dcf15-Jan-2022 03:06 534  
[TXT]buildsrc-out.txt15-Jan-2022 03:06 1.0K 
[   ]buildsrc-summary.dcf15-Jan-2022 03:06 455  
[TXT]checksrc-out.txt15-Jan-2022 03:06 6.6K 
[   ]checksrc-summary.dcf15-Jan-2022 03:06 464  
[TXT]install-out.txt15-Jan-2022 03:06 32K 
[   ]install-summary.dcf15-Jan-2022 03:06 632