Index of /checkResults/3.14/bioc-LATEST/BitSeq/raw-results/nebbiolo2

[ICO]NameLast modifiedSizeDescription

[DIR]Parent Directory  -  
[TXT]buildsrc-out.txt15-Jan-2022 03:04 880  
[   ]buildsrc-summary.dcf15-Jan-2022 03:04 414  
[TXT]checksrc-out.txt15-Jan-2022 03:04 5.3K 
[   ]checksrc-summary.dcf15-Jan-2022 03:04 425  
[TXT]install-out.txt15-Jan-2022 03:04 17K 
[   ]install-summary.dcf15-Jan-2022 03:04 257