Index of /checkResults/3.14/bioc-LATEST/BitSeq/raw-results/machv2

[ICO]NameLast modifiedSizeDescription

[DIR]Parent Directory  -  
[TXT]buildbin-out.txt22-Jan-2022 03:07 20K 
[   ]buildbin-summary.dcf22-Jan-2022 03:07 525  
[TXT]buildsrc-out.txt22-Jan-2022 03:07 890  
[   ]buildsrc-summary.dcf22-Jan-2022 03:07 425  
[TXT]checksrc-out.txt22-Jan-2022 03:07 5.9K 
[   ]checksrc-summary.dcf22-Jan-2022 03:07 446  
[TXT]install-out.txt22-Jan-2022 03:07 19K 
[   ]install-summary.dcf22-Jan-2022 03:07 268