Back to Multiple platform build/check report for BioC 3.14
A[B]CDEFGHIJKLMNOPQRSTUVWXYZ

This page was generated on 2021-10-18 12:03:37 -0400 (Mon, 18 Oct 2021).

BUILD results for Biostrings on nebbiolo2

To the developers/maintainers of the Biostrings package:
- Please allow up to 24 hours (and sometimes 48 hours) for your latest push to git@git.bioconductor.org:packages/Biostrings.git to
reflect on this report. See How and When does the builder pull? When will my changes propagate? here for more information.
- Make sure to use the following settings in order to reproduce any error or warning you see on this page.

raw results

Package 189/2060HostnameOS / ArchINSTALLBUILDCHECKBUILD BIN
Biostrings 2.61.2  (landing page)
H. Pagès
Snapshot Date: 2021-10-17 14:50:03 -0400 (Sun, 17 Oct 2021)
git_url: https://git.bioconductor.org/packages/Biostrings
git_branch: master
git_last_commit: 050d572
git_last_commit_date: 2021-08-04 00:39:03 -0400 (Wed, 04 Aug 2021)
nebbiolo2Linux (Ubuntu 20.04.2 LTS) / x86_64  OK    OK    WARNINGS  UNNEEDED, same version is already published
riesling1Windows Server 2019 Standard / x64  OK    OK    WARNINGS    OK  UNNEEDED, same version is already published
merida1macOS 10.14.6 Mojave / x86_64  OK    OK    WARNINGS    OK  UNNEEDED, same version is already published

Summary

Package: Biostrings
Version: 2.61.2
Command: /home/biocbuild/bbs-3.14-bioc/R/bin/R CMD build --keep-empty-dirs --no-resave-data Biostrings
StartedAt: 2021-10-17 16:50:09 -0400 (Sun, 17 Oct 2021)
EndedAt: 2021-10-17 16:51:57 -0400 (Sun, 17 Oct 2021)
EllapsedTime: 108.2 seconds
RetCode: 0
Status:   OK  
PackageFile: Biostrings_2.61.2.tar.gz
PackageFileSize: 12.06 MiB

Command output

##############################################################################
##############################################################################
###
### Running command:
###
###   /home/biocbuild/bbs-3.14-bioc/R/bin/R CMD build --keep-empty-dirs --no-resave-data Biostrings
###
##############################################################################
##############################################################################


* checking for file ‘Biostrings/DESCRIPTION’ ... OK
* preparing ‘Biostrings’:
* checking DESCRIPTION meta-information ... OK
* cleaning src
* installing the package to build vignettes
* creating vignettes ... OK
* cleaning src
* checking for LF line-endings in source and make files and shell scripts
* checking for empty or unneeded directories
* looking to see if a ‘data/datalist’ file should be added
* building ‘Biostrings_2.61.2.tar.gz’